BEGIN:VCALENDAR
VERSION:2.0
PRODID:-//Instituto Ethos - ECPv6.15.14//NONSGML v1.0//EN
CALSCALE:GREGORIAN
METHOD:PUBLISH
X-WR-CALNAME:Instituto Ethos
X-ORIGINAL-URL:https://www.ethos.org.br
X-WR-CALDESC:Eventos para Instituto Ethos
REFRESH-INTERVAL;VALUE=DURATION:PT1H
X-Robots-Tag:noindex
X-PUBLISHED-TTL:PT1H
BEGIN:VTIMEZONE
TZID:America/Sao_Paulo
BEGIN:STANDARD
TZOFFSETFROM:-0200
TZOFFSETTO:-0300
TZNAME:-03
DTSTART:20180218T020000
END:STANDARD
BEGIN:DAYLIGHT
TZOFFSETFROM:-0300
TZOFFSETTO:-0200
TZNAME:-02
DTSTART:20181104T030000
END:DAYLIGHT
BEGIN:STANDARD
TZOFFSETFROM:-0200
TZOFFSETTO:-0300
TZNAME:-03
DTSTART:20190217T020000
END:STANDARD
END:VTIMEZONE
BEGIN:VEVENT
DTSTART;TZID=America/Sao_Paulo:20190101T080000
DTEND;TZID=America/Sao_Paulo:20191231T223000
DTSTAMP:20260423T185539
CREATED:20240806T182454Z
LAST-MODIFIED:20240806T182454Z
UID:10004090-1546329600-1577831400@www.ethos.org.br
SUMMARY:Palestras 2019
DESCRIPTION:
URL:https://www.ethos.org.br/evento/palestras-2019/
END:VEVENT
BEGIN:VEVENT
DTSTART;TZID=America/Sao_Paulo:20190205T000000
DTEND;TZID=America/Sao_Paulo:20190205T235959
DTSTAMP:20260423T185539
CREATED:20190201T162050Z
LAST-MODIFIED:20240723T180126Z
UID:10000860-1549324800-1549411199@www.ethos.org.br
SUMMARY:Reunião IEC - Iniciativa Empresarial em Clima
DESCRIPTION:Reunião fechada da IEC – Iniciativa Empresarial em Clima\, parceria do Instituto Ethos para tratar temas referentes às mudanças climáticas\, principalmente Adaptação e Precificação. \nData: 05/02/2019 \nHorário: das 10h às 13h \nLocal: Instituto Ethos
URL:https://www.ethos.org.br/evento/reuniao-iec-iniciativa-empresarial-em-clima/
END:VEVENT
BEGIN:VEVENT
DTSTART;TZID=America/Sao_Paulo:20190219T000000
DTEND;TZID=America/Sao_Paulo:20190219T235959
DTSTAMP:20260423T185539
CREATED:20190201T162813Z
LAST-MODIFIED:20241003T163254Z
UID:10000858-1550534400-1550620799@www.ethos.org.br
SUMMARY:Reunião do Grupo de Trabalho de Integridade
DESCRIPTION:Discussão sobre a conjuntura política e como as empresas poderão se engajar na agenda de integridade para o ano de 2019\, buscando um mercado mais íntegro e ético. \nData: 19/02/2019 \nHorário: das 10h às 13h \nLocal: Instituto Ethos \nInscrições: associados terão preferência para participar das reuniões de GT\, não associados poderão participar de apenas duas reuniões por ano.
URL:https://www.ethos.org.br/evento/reuniao-do-grupo-de-trabalho-de-integridade/
CATEGORIES:Grupos de Trabalhos
END:VEVENT
BEGIN:VEVENT
DTSTART;TZID=America/Sao_Paulo:20190221T000000
DTEND;TZID=America/Sao_Paulo:20190221T235959
DTSTAMP:20260423T185539
CREATED:20190201T162405Z
LAST-MODIFIED:20240723T180125Z
UID:10000859-1550707200-1550793599@www.ethos.org.br
SUMMARY:Reunião Fórum Clima
DESCRIPTION:Reunião aberta para empresas associadas para dar continuidade às discussões acerca das boas práticas e estratégias de advocacy ambiental. \nData: 21/02/2019 \nHorário: das 14h30 às 16h30 \nLocal: Instituto Ethos
URL:https://www.ethos.org.br/evento/reuniao-forum-clima-9/
END:VEVENT
BEGIN:VEVENT
DTSTART;TZID=America/Sao_Paulo:20190225T143000
DTEND;TZID=America/Sao_Paulo:20190225T180000
DTSTAMP:20260423T185539
CREATED:20240806T182540Z
LAST-MODIFIED:20240806T182540Z
UID:10004105-1551105000-1551117600@www.ethos.org.br
SUMMARY:Roda de Diálogo - Diretrizes sobre Empresas e Direitos Humanos: Desafios da Agenda no Brasil em 2019
DESCRIPTION:
URL:https://www.ethos.org.br/evento/roda-de-dialogo-diretrizes-sobre-empresas-e-direitos-humanos-desafios-da-agenda-no-brasil-em-2019/
END:VEVENT
BEGIN:VEVENT
DTSTART;TZID=America/Sao_Paulo:20190226T083000
DTEND;TZID=America/Sao_Paulo:20190226T180000
DTSTAMP:20260423T185539
CREATED:20240806T182543Z
LAST-MODIFIED:20240806T182543Z
UID:10004106-1551169800-1551204000@www.ethos.org.br
SUMMARY:Capacitação do Programa Integridade | Distribuidores B.Braun
DESCRIPTION:
URL:https://www.ethos.org.br/evento/capacitacao-do-programa-integridade-distribuidores-b-braun/
END:VEVENT
END:VCALENDAR