BEGIN:VCALENDAR
VERSION:2.0
PRODID:-//Instituto Ethos - ECPv6.15.14//NONSGML v1.0//EN
CALSCALE:GREGORIAN
METHOD:PUBLISH
X-WR-CALNAME:Instituto Ethos
X-ORIGINAL-URL:https://www.ethos.org.br
X-WR-CALDESC:Eventos para Instituto Ethos
REFRESH-INTERVAL;VALUE=DURATION:PT1H
X-Robots-Tag:noindex
X-PUBLISHED-TTL:PT1H
BEGIN:VTIMEZONE
TZID:America/Sao_Paulo
BEGIN:STANDARD
TZOFFSETFROM:-0200
TZOFFSETTO:-0300
TZNAME:-03
DTSTART:20180218T020000
END:STANDARD
BEGIN:DAYLIGHT
TZOFFSETFROM:-0300
TZOFFSETTO:-0200
TZNAME:-02
DTSTART:20181104T030000
END:DAYLIGHT
BEGIN:STANDARD
TZOFFSETFROM:-0200
TZOFFSETTO:-0300
TZNAME:-03
DTSTART:20190217T020000
END:STANDARD
END:VTIMEZONE
BEGIN:VEVENT
DTSTART;TZID=America/Sao_Paulo:20190101T080000
DTEND;TZID=America/Sao_Paulo:20191231T223000
DTSTAMP:20260423T170055
CREATED:20240806T182454Z
LAST-MODIFIED:20240806T182454Z
UID:10004090-1546329600-1577831400@www.ethos.org.br
SUMMARY:Palestras 2019
DESCRIPTION:
URL:https://www.ethos.org.br/evento/palestras-2019/
END:VEVENT
BEGIN:VEVENT
DTSTART;TZID=America/Sao_Paulo:20190312T000000
DTEND;TZID=America/Sao_Paulo:20190312T235959
DTSTAMP:20260423T170055
CREATED:20190307T185603Z
LAST-MODIFIED:20241003T163253Z
UID:10000857-1552348800-1552435199@www.ethos.org.br
SUMMARY:Reunião do Grupo de Trabalho de Integridade
DESCRIPTION: Reunião virtual do GT de Integridade com prioridade para participação de empresas associadas. \nData: 12/03/2019 \nHorário: das 10h às 13h \nLocal: reunião virtual \nPara participar através do Skype for Business\, clique aqui. \nCaso essa seja sua primeira reunião por Skype\, clique aqui. \nVocê também pode participar via Conference Call. Para isso\, ligue para o número (11) 9 9111-0058\, escolha a opção 4 e\, em seguida\, coloque a senha 22042216.
URL:https://www.ethos.org.br/evento/reuniao-do-grupo-de-trabalho-de-integridade-2/
CATEGORIES:Grupos de Trabalhos
END:VEVENT
BEGIN:VEVENT
DTSTART;TZID=America/Sao_Paulo:20190327T000000
DTEND;TZID=America/Sao_Paulo:20190327T235959
DTSTAMP:20260423T170055
CREATED:20190319T123622Z
LAST-MODIFIED:20240723T180125Z
UID:10000856-1553644800-1553731199@www.ethos.org.br
SUMMARY:Premiação Guia EXAME de Diversidade
DESCRIPTION:Evento de premiação das empresas vencedoras do Guia EXAME de Diversidade. \nEspecialistas e líderes que definem os rumos de suas companhias estarão reunidos para analisar as melhores práticas de diversidade e inclusão\, trazer ideias\, trocar experiências e falar sobre a importância das iniciativas para os negócios. \nData: 27 /03/2019 \nHorário: das 8h30 às 12h30 \nLocal: Instituto Tomie Ohtake\nRua Coropé\, 88 – Pinheiros \nInscrições: para realizar sua inscrição\, clique aqui. \n 
URL:https://www.ethos.org.br/evento/lancamento-guia-exame-de-diversidade/
END:VEVENT
END:VCALENDAR