BEGIN:VCALENDAR
VERSION:2.0
PRODID:-//Instituto Ethos - ECPv6.15.14//NONSGML v1.0//EN
CALSCALE:GREGORIAN
METHOD:PUBLISH
X-WR-CALNAME:Instituto Ethos
X-ORIGINAL-URL:https://www.ethos.org.br
X-WR-CALDESC:Eventos para Instituto Ethos
REFRESH-INTERVAL;VALUE=DURATION:PT1H
X-Robots-Tag:noindex
X-PUBLISHED-TTL:PT1H
BEGIN:VTIMEZONE
TZID:America/Sao_Paulo
BEGIN:STANDARD
TZOFFSETFROM:-0200
TZOFFSETTO:-0300
TZNAME:-03
DTSTART:20180218T020000
END:STANDARD
BEGIN:DAYLIGHT
TZOFFSETFROM:-0300
TZOFFSETTO:-0200
TZNAME:-02
DTSTART:20181104T030000
END:DAYLIGHT
BEGIN:STANDARD
TZOFFSETFROM:-0200
TZOFFSETTO:-0300
TZNAME:-03
DTSTART:20190217T020000
END:STANDARD
END:VTIMEZONE
BEGIN:VEVENT
DTSTART;TZID=America/Sao_Paulo:20190101T080000
DTEND;TZID=America/Sao_Paulo:20191231T223000
DTSTAMP:20260423T103218
CREATED:20240806T182454Z
LAST-MODIFIED:20240806T182454Z
UID:10004090-1546329600-1577831400@www.ethos.org.br
SUMMARY:Palestras 2019
DESCRIPTION:
URL:https://www.ethos.org.br/evento/palestras-2019/
END:VEVENT
BEGIN:VEVENT
DTSTART;TZID=America/Sao_Paulo:20190606T000000
DTEND;TZID=America/Sao_Paulo:20190606T235959
DTSTAMP:20260423T103218
CREATED:20190530T175916Z
LAST-MODIFIED:20240723T180121Z
UID:10000834-1559779200-1559865599@www.ethos.org.br
SUMMARY:1º Encontro do Comitê de Compras (CBEC – SP)
DESCRIPTION:Primeiro encontro do Comitê de Compras de 2019 com o tema “Sustentabilidade na Cadeia de Valor destinado aos profissionais das áreas de compras e suprimentos associados do CBEC. O evento é gratuito e aberto ao público\, com vagas limitadas. \nData: 06/06/2019 \nHorário: das 8h às 11h \nLocal: Instituto Ethos \nInscrições: https://bit.ly/2W9kLPX
URL:https://www.ethos.org.br/evento/1o-encontro-do-comite-de-compras-cbec-sp/
END:VEVENT
BEGIN:VEVENT
DTSTART;TZID=America/Sao_Paulo:20190607T000000
DTEND;TZID=America/Sao_Paulo:20190607T235959
DTSTAMP:20260423T103218
CREATED:20190530T174820Z
LAST-MODIFIED:20240723T180122Z
UID:10000837-1559865600-1559951999@www.ethos.org.br
SUMMARY:Palestra com Alfredo Sirkis e CCMob
DESCRIPTION:
URL:https://www.ethos.org.br/evento/palestra-com-alfredo-sirkis-e-ccmob/
END:VEVENT
BEGIN:VEVENT
DTSTART;TZID=America/Sao_Paulo:20190618T000000
DTEND;TZID=America/Sao_Paulo:20190618T235959
DTSTAMP:20260423T103218
CREATED:20190530T175153Z
LAST-MODIFIED:20240723T180122Z
UID:10000836-1560816000-1560902399@www.ethos.org.br
SUMMARY:Reunião mensal do Fórum Clima
DESCRIPTION:Reunião de organização da Conferência Brasileira de Mudança do Clima (CBMC). \nData: 18/06/2019 \nHorário: das 14h às 17h \nLocal: Instituto Ethos \nInscrições: https://institutoethos.typeform.com/to/R0U07E
URL:https://www.ethos.org.br/evento/reuniao-mensal-do-forum-clima/
END:VEVENT
BEGIN:VEVENT
DTSTART;TZID=America/Sao_Paulo:20190625T000000
DTEND;TZID=America/Sao_Paulo:20190625T235959
DTSTAMP:20260423T103218
CREATED:20190530T175521Z
LAST-MODIFIED:20240723T180122Z
UID:10000835-1561420800-1561507199@www.ethos.org.br
SUMMARY:Reunião da Iniciativa Empresarial em Clima (IEC)
DESCRIPTION:Data: 25/06/2019 \nHorário: das 14h às 16h
URL:https://www.ethos.org.br/evento/reuniao-da-iniciativa-empresarial-em-clima-iec/
END:VEVENT
BEGIN:VEVENT
DTSTART;TZID=America/Sao_Paulo:20190625T090000
DTEND;TZID=America/Sao_Paulo:20190625T180000
DTSTAMP:20260423T103218
CREATED:20240806T191832Z
LAST-MODIFIED:20240806T191832Z
UID:10004280-1561453200-1561485600@www.ethos.org.br
SUMMARY:Conferência Ethos 2019 - Rio de Janeiro
DESCRIPTION:
URL:https://www.ethos.org.br/evento/conferencia-ethos-2019-rio-de-janeiro/
END:VEVENT
BEGIN:VEVENT
DTSTART;TZID=America/Sao_Paulo:20190626T000000
DTEND;TZID=America/Sao_Paulo:20190626T235959
DTSTAMP:20260423T103218
CREATED:20190531T172515Z
LAST-MODIFIED:20240723T180121Z
UID:10000833-1561507200-1561593599@www.ethos.org.br
SUMMARY:Curso de Integridade: Programa de Integridade (Introdutório) - RJ
DESCRIPTION:Conteúdo do curso: introdução; breve panorama histórico e definições; pilares de um Programa de Integridade; principais leis que regulamentam o tema (FCPA/UK Bribery Act e a Lei Anticorrupção Brasileira); e estudo de caso. \nData: 26/06/2019 \nHorário: das 9h às 13h \nLocal: LARES IE UFRJ – Laboratório de Responsabilidade Social do Instituto de Economia da UFRJ\nAvenida Pasteur\, 250 – sala 132 – Urca\, Rio de Janeiro – RJ\, 22290-240 \nInscrições: https://bit.ly/30Zv9IE
URL:https://www.ethos.org.br/evento/curso-de-integridade-programa-de-integridade-introdutorio-rj/
END:VEVENT
BEGIN:VEVENT
DTSTART;TZID=America/Sao_Paulo:20190626T000000
DTEND;TZID=America/Sao_Paulo:20190626T235959
DTSTAMP:20260423T103218
CREATED:20190531T172815Z
LAST-MODIFIED:20240723T180121Z
UID:10000832-1561507200-1561593599@www.ethos.org.br
SUMMARY:Curso de Integridade - Organização do Sistema de Integridade - RJ
DESCRIPTION:Conteúdo do curso: introdução; perfil da empresa\, riscos e quantidade de controles; independência do sistema de compliance; orçamento e recursos; ferramentas de avaliação dos sistemas de integridade (Guia Temático Ethos)\, Pró-Ética e outras certificações\, como a ISO 37001; estudo de caso. \nData: 26/06/2019 \nHorário: 14h às 18h \nLocal: LARES IE UFRJ – Laboratório de Responsabilidade Social do Instituto de Economia da UFRJ\nAvenida Pasteur\, 250 – sala 132 – Urca\, Rio de Janeiro – RJ\, 22290-240 \nInscrições: https://bit.ly/2wxdx98
URL:https://www.ethos.org.br/evento/curso-de-integridade-organizacao-do-sistema-de-integridade-rj/
END:VEVENT
BEGIN:VEVENT
DTSTART;TZID=America/Sao_Paulo:20190626T090000
DTEND;TZID=America/Sao_Paulo:20190626T130000
DTSTAMP:20260423T103218
CREATED:20240806T182449Z
LAST-MODIFIED:20240806T182449Z
UID:10004089-1561539600-1561554000@www.ethos.org.br
SUMMARY:Curso de Integridade: Programa de Integridade (Introdutório) - RJ
DESCRIPTION:
URL:https://www.ethos.org.br/evento/curso-de-integridade-programa-de-integridade-introdutorio-rj-2/
END:VEVENT
BEGIN:VEVENT
DTSTART;TZID=America/Sao_Paulo:20190626T090000
DTEND;TZID=America/Sao_Paulo:20190628T180000
DTSTAMP:20260423T103218
CREATED:20240806T182417Z
LAST-MODIFIED:20240806T182417Z
UID:10004082-1561539600-1561744800@www.ethos.org.br
SUMMARY:Curso de Educação Executiva (Integridade) - 26 a 28 de junho - 09h às 18h
DESCRIPTION:
URL:https://www.ethos.org.br/evento/curso-de-educacao-executiva-integridade-26-a-28-de-junho-09h-as-18h/
END:VEVENT
BEGIN:VEVENT
DTSTART;TZID=America/Sao_Paulo:20190626T090000
DTEND;TZID=America/Sao_Paulo:20190628T180000
DTSTAMP:20260423T103218
CREATED:20240806T182421Z
LAST-MODIFIED:20240806T182421Z
UID:10004083-1561539600-1561744800@www.ethos.org.br
SUMMARY:Curso de Educação Executiva - Integridade - RJ
DESCRIPTION:
URL:https://www.ethos.org.br/evento/curso-de-educacao-executiva-integridade-rj/
END:VEVENT
BEGIN:VEVENT
DTSTART;TZID=America/Sao_Paulo:20190626T140000
DTEND;TZID=America/Sao_Paulo:20190626T180000
DTSTAMP:20260423T103218
CREATED:20240806T182444Z
LAST-MODIFIED:20240806T182444Z
UID:10004088-1561557600-1561572000@www.ethos.org.br
SUMMARY:Curso de Integridade: Organização do sistema de Integridade - RJ
DESCRIPTION:
URL:https://www.ethos.org.br/evento/curso-de-integridade-organizacao-do-sistema-de-integridade-rj-2/
END:VEVENT
BEGIN:VEVENT
DTSTART;TZID=America/Sao_Paulo:20190627T000000
DTEND;TZID=America/Sao_Paulo:20190627T235959
DTSTAMP:20260423T103218
CREATED:20190531T173058Z
LAST-MODIFIED:20240723T180121Z
UID:10000831-1561593600-1561679999@www.ethos.org.br
SUMMARY:Curso de Integridade - Análise de Riscos de Compliance Anticorrupção - RJ
DESCRIPTION:Conteúdo do curso: introdução; conceitos sobre riscos\, impacto e probabilidade; risco residual; metodologia de análise de riscos; estudo de caso. \nData: 27/06/2019 \nHorário: 09h às 13h \nLocal: LARES IE UFRJ – Laboratório de Responsabilidade Social do Instituto de Economia da UFRJ\nAvenida Pasteur\, 250 – sala 132 – Urca\, Rio de Janeiro – RJ\, 22290-240 \nInscrições: https://bit.ly/2Qzqt7A
URL:https://www.ethos.org.br/evento/curso-de-integridade-analise-de-riscos-de-compliance-anticorrupcao-rj/
END:VEVENT
BEGIN:VEVENT
DTSTART;TZID=America/Sao_Paulo:20190627T000000
DTEND;TZID=America/Sao_Paulo:20190627T235959
DTSTAMP:20260423T103218
CREATED:20190531T173421Z
LAST-MODIFIED:20240723T180121Z
UID:10000830-1561593600-1561679999@www.ethos.org.br
SUMMARY:Curso de Integridade - Código de Conduta\, Regras\, Procedimentos\, Controles - RJ
DESCRIPTION:Conteúdo do curso: introdução.; modelos de políticas e códigos de conduta; elaboração de políticas; estudo de caso. \nData: 27/06/2019 \nHorário: 14h às 18h \nLocal: LARES IE UFRJ – Laboratório de Responsabilidade Social do Instituto de Economia da UFRJ\nAvenida Pasteur\, 250 – sala 132 – Urca\, Rio de Janeiro – RJ\, 22290-240 \nInscrições: https://bit.ly/2XdSwvI
URL:https://www.ethos.org.br/evento/curso-de-integridade-codigo-de-conduta-regras-procedimentos-controles-rj/
END:VEVENT
BEGIN:VEVENT
DTSTART;TZID=America/Sao_Paulo:20190627T090000
DTEND;TZID=America/Sao_Paulo:20190627T130000
DTSTAMP:20260423T103218
CREATED:20240806T182439Z
LAST-MODIFIED:20240806T182439Z
UID:10004087-1561626000-1561640400@www.ethos.org.br
SUMMARY:Curso de Integridade: Análise de riscos de compliance - RJ
DESCRIPTION:
URL:https://www.ethos.org.br/evento/curso-de-integridade-analise-de-riscos-de-compliance-rj/
END:VEVENT
BEGIN:VEVENT
DTSTART;TZID=America/Sao_Paulo:20190627T140000
DTEND;TZID=America/Sao_Paulo:20190627T180000
DTSTAMP:20260423T103218
CREATED:20240806T182434Z
LAST-MODIFIED:20240806T182434Z
UID:10004086-1561644000-1561658400@www.ethos.org.br
SUMMARY:Curso de Integridade: Código de conduta\, regras\, procedimentos e controles - RJ
DESCRIPTION:
URL:https://www.ethos.org.br/evento/curso-de-integridade-codigo-de-conduta-regras-procedimentos-e-controles-rj/
END:VEVENT
BEGIN:VEVENT
DTSTART;TZID=America/Sao_Paulo:20190628T000000
DTEND;TZID=America/Sao_Paulo:20190628T235959
DTSTAMP:20260423T103218
CREATED:20190531T173616Z
LAST-MODIFIED:20240723T180121Z
UID:10000829-1561680000-1561766399@www.ethos.org.br
SUMMARY:Curso de Integridade - Canais de Denúncia\, Investigações\, Medidas Disciplinares - RJ
DESCRIPTION:Conteúdo do curso: introdução; conceitos sobre canais de denúncia\, processos de investigações e comitês disciplinares; estudo de caso. \nData: 28/06/2019 \nHorário: 09h às 13h \nLocal: LARES IE UFRJ – Laboratório de Responsabilidade Social do Instituto de Economia da UFRJ\nAvenida Pasteur\, 250 – sala 132 – Urca\, Rio de Janeiro – RJ\, 22290-240 \nInscrições: https://bit.ly/2MijWj2
URL:https://www.ethos.org.br/evento/curso-de-integridade-canais-de-denuncia-investigacoes-medidas-disciplinares-rj/
END:VEVENT
BEGIN:VEVENT
DTSTART;TZID=America/Sao_Paulo:20190628T000000
DTEND;TZID=America/Sao_Paulo:20190628T235959
DTSTAMP:20260423T103218
CREATED:20190531T173813Z
LAST-MODIFIED:20240723T180120Z
UID:10000828-1561680000-1561766399@www.ethos.org.br
SUMMARY:Curso de Integridade - Gerenciamento de crises - RJ
DESCRIPTION:Conteúdo do curso: introdução; conceito de gerenciamento de crises; simulação; estudo de caso. \nData: 28/06/2019 \nHorário: 14h às 18h \nLocal: LARES IE UFRJ – Laboratório de Responsabilidade Social do Instituto de Economia da UFRJ\nAvenida Pasteur\, 250 – sala 132 – Urca\, Rio de Janeiro – RJ\, 22290-240 \nInscrições: https://bit.ly/2wwPKWE
URL:https://www.ethos.org.br/evento/curso-de-integridade-gerenciamento-de-crises-rj/
END:VEVENT
BEGIN:VEVENT
DTSTART;TZID=America/Sao_Paulo:20190628T090000
DTEND;TZID=America/Sao_Paulo:20190628T130000
DTSTAMP:20260423T103218
CREATED:20240806T182430Z
LAST-MODIFIED:20240806T182430Z
UID:10004085-1561712400-1561726800@www.ethos.org.br
SUMMARY:Curso de Integridade: Canais de denúncia\, investigações e medidas disciplinares - RJ
DESCRIPTION:
URL:https://www.ethos.org.br/evento/curso-de-integridade-canais-de-denuncia-investigacoes-e-medidas-disciplinares-rj/
END:VEVENT
BEGIN:VEVENT
DTSTART;TZID=America/Sao_Paulo:20190628T140000
DTEND;TZID=America/Sao_Paulo:20190628T180000
DTSTAMP:20260423T103218
CREATED:20240806T182425Z
LAST-MODIFIED:20240806T182425Z
UID:10004084-1561730400-1561744800@www.ethos.org.br
SUMMARY:Curso de Integridade: Gerenciamento de crises -  RJ
DESCRIPTION:
URL:https://www.ethos.org.br/evento/curso-de-integridade-gerenciamento-de-crises-rj-2/
END:VEVENT
END:VCALENDAR