BEGIN:VCALENDAR
VERSION:2.0
PRODID:-//Instituto Ethos - ECPv6.15.14//NONSGML v1.0//EN
CALSCALE:GREGORIAN
METHOD:PUBLISH
X-WR-CALNAME:Instituto Ethos
X-ORIGINAL-URL:https://www.ethos.org.br
X-WR-CALDESC:Eventos para Instituto Ethos
REFRESH-INTERVAL;VALUE=DURATION:PT1H
X-Robots-Tag:noindex
X-PUBLISHED-TTL:PT1H
BEGIN:VTIMEZONE
TZID:America/Sao_Paulo
BEGIN:STANDARD
TZOFFSETFROM:-0200
TZOFFSETTO:-0300
TZNAME:-03
DTSTART:20180218T020000
END:STANDARD
BEGIN:DAYLIGHT
TZOFFSETFROM:-0300
TZOFFSETTO:-0200
TZNAME:-02
DTSTART:20181104T030000
END:DAYLIGHT
BEGIN:STANDARD
TZOFFSETFROM:-0200
TZOFFSETTO:-0300
TZNAME:-03
DTSTART:20190217T020000
END:STANDARD
END:VTIMEZONE
BEGIN:VEVENT
DTSTART;TZID=America/Sao_Paulo:20190101T080000
DTEND;TZID=America/Sao_Paulo:20191231T223000
DTSTAMP:20260423T063225
CREATED:20240806T182454Z
LAST-MODIFIED:20240806T182454Z
UID:10004090-1546329600-1577831400@www.ethos.org.br
SUMMARY:Palestras 2019
DESCRIPTION:
URL:https://www.ethos.org.br/evento/palestras-2019/
END:VEVENT
BEGIN:VEVENT
DTSTART;TZID=America/Sao_Paulo:20190813T000000
DTEND;TZID=America/Sao_Paulo:20190813T235959
DTSTAMP:20260423T063225
CREATED:20190807T150007Z
LAST-MODIFIED:20241003T163244Z
UID:10000816-1565654400-1565740799@www.ethos.org.br
SUMMARY:Grupo de Trabalho de Integridade
DESCRIPTION:A reunião do GT Integridade de agosto irá abordar as boas práticas identificadas no Pró-Ética e a escolhida para ser discutida foi a área 1\, “Comprometimento da Alta Direção e Compromisso com a Ética”\, que contará com algumas participações de empresas que foram referências nesses conceitos. Além disso\, serão informadas as atualizações dos temas de acompanhamento do Ethos na agenda de Integridade e teremos uma discussão sobre o conteúdo do Movimento Empresarial\, tendo em vista que a iniciativa está completando 1 ano de existência. \nData: 13/08/2019 \nLocal: reunião virtual \nHorário: das 10h às 13h \nInscrições: para associados e através de convite do GT \nManeiras de acessar a reunião \n– Acessar o site do Zoom – https://zoom.us/pt-pt/meetings.html (caso queira\, pode realizar o download da ferramenta\, também através deste link) \n– Após o download do Zoom ou após acessar o site\, siga o link direto da sala de reunião https://ethos.zoom.us/j/321943434 (abrir o Zoom Meetings) \n– Outra forma de ingressar na reunião é através do site do Zoom (https://zoom.us/join) e inserir o ID da reunião: 321 943 434 \n– Outra possibilidade de ingressar na reunião é através do link fixo do Instituto Ethos (https://ethos.zoom.us/) e inserir o ID da reunião: 321 943 434 \n– Participação via telefone: ligar para o número +55 11 4680-6788 (Brasil) e inserir o ID da reunião (321 943 434) para ingressar
URL:https://www.ethos.org.br/evento/grupo-de-trabalho-de-integridade-2/
CATEGORIES:Grupos de Trabalhos
END:VEVENT
BEGIN:VEVENT
DTSTART;TZID=America/Sao_Paulo:20190819T000000
DTEND;TZID=America/Sao_Paulo:20190819T235959
DTSTAMP:20260423T063225
CREATED:20190807T145521Z
LAST-MODIFIED:20240723T180119Z
UID:10000817-1566172800-1566259199@www.ethos.org.br
SUMMARY:Climate Week – Salvador
DESCRIPTION:O Climate Week em Salvador será um dos eventos regionais organizados pela Convenção-Quadro das Nações Unidas sobre Mudança do Clima (UNFCCC) que antecedem a reunião do clima da ONU\, a COP-25\, que acontecerá em dezembro\, no Chile. A convenção é destinada à implementação do Acordo de Paris\, o pacto global de combate às mudanças climáticas. \nData: de 19/08 a 23/08 \nHorário: das 8h30 às 18h30 \nLocal: Salvador Hall \nInscrições: www.regionalclimateweeks.org
URL:https://www.ethos.org.br/evento/climate-week-salvador/
END:VEVENT
BEGIN:VEVENT
DTSTART;TZID=America/Sao_Paulo:20190822T000000
DTEND;TZID=America/Sao_Paulo:20190822T235959
DTSTAMP:20260423T063225
CREATED:20190807T151853Z
LAST-MODIFIED:20240723T180118Z
UID:10000814-1566432000-1566518399@www.ethos.org.br
SUMMARY:O impacto das empresas nas comunidades - onde estamos e para onde vamos?
DESCRIPTION:O objetivo do evento\, promovido pela Oxfam Brasil e pelo Instituto Ethos – duas organizações que possuem um histórico de trabalho envolvendo a responsabilização social de empresas com políticas de boas práticas –\, tem o objetivo de ouvir a experiência da sociedade civil\, organizações e empresas com a agenda do Consentimento Livre\, Prévio e Informado\, além de promover discussões sobre a nova lei do licenciamento ambiental que deve ser votada em breve. \nData: 22/08/2019 \nHorário: das 9h às 13h30 \nLocal: Hotel Golden Tower \nInscrições: https://bit.ly/33ied0Z
URL:https://www.ethos.org.br/evento/o-impacto-das-empresas-nas-comunidades-onde-estamos-e-para-onde-vamos/
END:VEVENT
BEGIN:VEVENT
DTSTART;TZID=America/Sao_Paulo:20190827T000000
DTEND;TZID=America/Sao_Paulo:20190827T235959
DTSTAMP:20260423T063225
CREATED:20190807T145003Z
LAST-MODIFIED:20240723T180119Z
UID:10000818-1566864000-1566950399@www.ethos.org.br
SUMMARY:Oficina de construção da Declaração de Recife (CBMC)
DESCRIPTION:A Conferência Brasileira de Mudança do Clima (CBMC) é um esforço coletivo de instituições ligadas às causas ambientais. A oficina tem o objetivo de começar a construir compromissos acordados entre os diferentes setores da sociedade\, que serão apresentados na CBMC e depois levados à COP25 no Chile. \nData: 27/08/2019 \nHorário: das 9h às 17h \nLocal: Instituto Ethos\nTambém será possível participar virtualmente: https://ethos.zoom.us/j/565285503 \nInscrições: https://bit.ly/2YXpPHL
URL:https://www.ethos.org.br/evento/reuniao-mensal-de-organizacao-da-conferencia-brasileira-de-mudanca-do-clima-cbmc/
END:VEVENT
END:VCALENDAR