BEGIN:VCALENDAR
VERSION:2.0
PRODID:-//Instituto Ethos - ECPv6.15.14//NONSGML v1.0//EN
CALSCALE:GREGORIAN
METHOD:PUBLISH
X-WR-CALNAME:Instituto Ethos
X-ORIGINAL-URL:https://www.ethos.org.br
X-WR-CALDESC:Eventos para Instituto Ethos
REFRESH-INTERVAL;VALUE=DURATION:PT1H
X-Robots-Tag:noindex
X-PUBLISHED-TTL:PT1H
BEGIN:VTIMEZONE
TZID:America/Sao_Paulo
BEGIN:STANDARD
TZOFFSETFROM:-0200
TZOFFSETTO:-0300
TZNAME:-03
DTSTART:20180218T020000
END:STANDARD
BEGIN:DAYLIGHT
TZOFFSETFROM:-0300
TZOFFSETTO:-0200
TZNAME:-02
DTSTART:20181104T030000
END:DAYLIGHT
BEGIN:STANDARD
TZOFFSETFROM:-0200
TZOFFSETTO:-0300
TZNAME:-03
DTSTART:20190217T020000
END:STANDARD
END:VTIMEZONE
BEGIN:VEVENT
DTSTART;TZID=America/Sao_Paulo:20190101T080000
DTEND;TZID=America/Sao_Paulo:20191231T223000
DTSTAMP:20260423T023107
CREATED:20240806T182454Z
LAST-MODIFIED:20240806T182454Z
UID:10004090-1546329600-1577831400@www.ethos.org.br
SUMMARY:Palestras 2019
DESCRIPTION:
URL:https://www.ethos.org.br/evento/palestras-2019/
END:VEVENT
BEGIN:VEVENT
DTSTART;TZID=America/Sao_Paulo:20191001T182000
DTEND;TZID=America/Sao_Paulo:20191013T233000
DTSTAMP:20260423T023107
CREATED:20240806T182334Z
LAST-MODIFIED:20240806T182334Z
UID:10004067-1569954000-1571009400@www.ethos.org.br
SUMMARY:Vaga Analista de projetos (capacitações/treinamentos)
DESCRIPTION:
URL:https://www.ethos.org.br/evento/vaga-analista-de-projetos-capacitacoes-treinamentos/
END:VEVENT
BEGIN:VEVENT
DTSTART;TZID=America/Sao_Paulo:20191004T000000
DTEND;TZID=America/Sao_Paulo:20191004T235959
DTSTAMP:20260423T023107
CREATED:20191003T173232Z
LAST-MODIFIED:20240723T180114Z
UID:10000784-1570147200-1570233599@www.ethos.org.br
SUMMARY:Plantão de dúvidas – Guia EXAME de Diversidade
DESCRIPTION:Plantão de dúvidas para esclarecimentos às empresas associadas ou participantes inscritas no processo de avaliação 2019/2020 do Guia EXAME de Diversidade. \nData: 04/10/2019 \nHorário: das 14h às 15h \nLocal: virtual – link para entrar na reunião: https://bit.ly/2oO70WP\nID da reunião: 821 477 930\nSenha: 001956 \nPara dispositivo móvel\, dê um toque:\n+551146806788\,\,821477930# Brasil\n+552139587888\,\,821477930# Brasil \nDiscar pelo seu local:\n+55 11 4680 6788 Brasil\n+55 21 3958 7888 Brasil\n+1 669 900 6833 Estados Unidos (San José)\n+1 929 205 6099 Estados Unidos (Nova York)\nID da reunião: 821 477 930 \nLocalizar seu número local: https://zoom.us/u/azPlioySB \nIngresso pelo Skype for Business: https://ethos.zoom.us/skype/821477930
URL:https://www.ethos.org.br/evento/plantao-de-duvidas-guia-exame-de-diversidade/
END:VEVENT
BEGIN:VEVENT
DTSTART;TZID=America/Sao_Paulo:20191008T000000
DTEND;TZID=America/Sao_Paulo:20191008T235959
DTSTAMP:20260423T023108
CREATED:20191003T145037Z
LAST-MODIFIED:20241003T163239Z
UID:10000785-1570492800-1570579199@www.ethos.org.br
SUMMARY:Grupo de Trabalho de Integridade
DESCRIPTION:O encontro abordará perspectivas de procedimentos de políticas do eixo temático de boas práticas do Pró-Ética. Também será abordada a agenda de políticas públicas acompanhada pelo grupo\, além de alguns informes sobre as ações em Integridade. \nData: 08/10/2019 \nHorário: das 10h às 13h \nLocal: reunião virtual \nInscrições: inscreva-se e solicite o link para acessar a reunião através do e-mail secretaria.integridade@ethos.org.br
URL:https://www.ethos.org.br/evento/grupo-de-trabalho-de-integridade-4/
CATEGORIES:Grupos de Trabalhos
END:VEVENT
BEGIN:VEVENT
DTSTART;TZID=America/Sao_Paulo:20191015T000000
DTEND;TZID=America/Sao_Paulo:20191015T235959
DTSTAMP:20260423T023108
CREATED:20190927T181501Z
LAST-MODIFIED:20240723T180114Z
UID:10000786-1571097600-1571183999@www.ethos.org.br
SUMMARY:Conferência Ethos 360º Recife 2019
DESCRIPTION:Formada por 20 painéis de diálogos\, em três palcos\, a programação terá como foco compartilhar iniciativas e transferências de soluções que podem aperfeiçoar os modelos de negócios mais sustentáveis\, inclusivos\, locais e que já despontam no Nordeste como importantes alternativas para o crescimento\, geração de oportunidades e salto para inovação e desenvolvimento sustentável regional. \nData: 15/10/2019 \nHorário: das 9h às 18h \nLocal: Museu Cais do Sertão\nAvenida Alfredo Lisboa\, s/n – Recife Antigo \nInscrições: https://bit.ly/2nOukTL
URL:https://www.ethos.org.br/evento/conferencia-ethos-360o-recife-2019/
END:VEVENT
BEGIN:VEVENT
DTSTART;TZID=America/Sao_Paulo:20191015T090000
DTEND;TZID=America/Sao_Paulo:20191015T180000
DTSTAMP:20260423T023108
CREATED:20240806T191824Z
LAST-MODIFIED:20240806T191824Z
UID:10004277-1571130000-1571162400@www.ethos.org.br
SUMMARY:Conferência Ethos 360° 2019 - Recife
DESCRIPTION:
URL:https://www.ethos.org.br/evento/conferencia-ethos-360-2019-recife/
END:VEVENT
BEGIN:VEVENT
DTSTART;TZID=America/Sao_Paulo:20191016T000000
DTEND;TZID=America/Sao_Paulo:20191016T235959
DTSTAMP:20260423T023108
CREATED:20190829T204644Z
LAST-MODIFIED:20240723T180117Z
UID:10000802-1571184000-1571270399@www.ethos.org.br
SUMMARY:Fomentando a Cultura de Integridade - workshop: Trabalhando a Cultura Organizacional e Integridade em Negócios
DESCRIPTION:Ciclo de workshops com o objetivo de auxiliar empresas na implantação e no fortalecimento de seus sistemas de integridade\, com foco em profissionais que atuam ou têm interesse em atuar no compliance corporativo.  \nConteúdo: introdução e contexto atual; integridade e cultura organizacional; estudo de caso; indicadores de desenvolvimento ético; trabalhando a mudança cultural; avaliação e encerramento. \nData: 16/10/2019 \nHorário: 8h30 às 13h \nLocal: Instituto Ethos \nInscrições: https://bit.ly/2ldIgpH
URL:https://www.ethos.org.br/evento/workshop-trabalhando-a-cultura-organizacional-e-integridade-em-negocios/
END:VEVENT
BEGIN:VEVENT
DTSTART;TZID=America/Sao_Paulo:20191016T083000
DTEND;TZID=America/Sao_Paulo:20191016T130000
DTSTAMP:20260423T023108
CREATED:20240806T182358Z
LAST-MODIFIED:20240806T182358Z
UID:10004076-1571214600-1571230800@www.ethos.org.br
SUMMARY:Workshop  Trabalhando a Cultura Organizacional e Integridade em Negócios
DESCRIPTION:
URL:https://www.ethos.org.br/evento/workshop-trabalhando-a-cultura-organizacional-e-integridade-em-negocios-2/
END:VEVENT
BEGIN:VEVENT
DTSTART;TZID=America/Sao_Paulo:20191017T000000
DTEND;TZID=America/Sao_Paulo:20191017T235959
DTSTAMP:20260423T023108
CREATED:20190924T193745Z
LAST-MODIFIED:20240723T180115Z
UID:10000790-1571270400-1571356799@www.ethos.org.br
SUMMARY:Fomentando a Cultura de Integridade - workshop: Cultura de Integridade na Gestão de Pessoas
DESCRIPTION:Ciclo de workshops com o objetivo de auxiliar empresas na implantação e no fortalecimento de seus sistemas de integridade\, com foco em profissionais que atuam ou têm interesse em atuar no compliance corporativo.  \nConteúdo: ética comportamental versus ética normativa; como o atual cenário das organizações pode\naumentar o risco de decisões antiéticas; atuação de programas de conformidade neste contexto; soluções de Gestão de Pessoas para fomentar a cultura de integridade nas empresas.  \nData: 17/10/2019 \nHorário: das 9h às 18h \nLocal: Instituto Ethos \nInscrições: https://bit.ly/2msn931
URL:https://www.ethos.org.br/evento/fomentando-a-cultura-de-integridade-workshop-cultura-de-integridade-na-gestao-de-pessoas/
END:VEVENT
BEGIN:VEVENT
DTSTART;TZID=America/Sao_Paulo:20191017T000000
DTEND;TZID=America/Sao_Paulo:20191017T235959
DTSTAMP:20260423T023108
CREATED:20190927T180935Z
LAST-MODIFIED:20241003T163240Z
UID:10000788-1571270400-1571356799@www.ethos.org.br
SUMMARY:Grupo de Trabalho de Direitos Humanos
DESCRIPTION:O tema do encontro será “Compromisso empresarial pela saúde e direitos sexuais e reprodutivos”. \nData: 17/10/2019 \nHorário: das 9h às 12h \nLocal:  Cushman & Wakefield\nPraça Professor José Lannes\, 40 – Cidade Monções\, São Paulo – SP \nInscrições: secretariadhumanos@ethos.org.br
URL:https://www.ethos.org.br/evento/grupo-de-trabalho-de-direitos-humanos-2/
CATEGORIES:Grupos de Trabalhos
END:VEVENT
BEGIN:VEVENT
DTSTART;TZID=America/Sao_Paulo:20191017T090000
DTEND;TZID=America/Sao_Paulo:20191017T180000
DTSTAMP:20260423T023108
CREATED:20240806T182355Z
LAST-MODIFIED:20240806T182355Z
UID:10004075-1571302800-1571335200@www.ethos.org.br
SUMMARY:Workshop Cultura de Integridade na Gestão de Pessoas
DESCRIPTION:
URL:https://www.ethos.org.br/evento/workshop-cultura-de-integridade-na-gestao-de-pessoas/
END:VEVENT
BEGIN:VEVENT
DTSTART;TZID=America/Sao_Paulo:20191028T000000
DTEND;TZID=America/Sao_Paulo:20191028T235959
DTSTAMP:20260423T023108
CREATED:20190812T194801Z
LAST-MODIFIED:20240723T180118Z
UID:10000813-1572220800-1572307199@www.ethos.org.br
SUMMARY:Programa de Formação em Integridade – módulo 1: Organização do sistema de Integridade
DESCRIPTION:Curso com o objetivo de auxiliar empresas na implantação e no fortalecimento de seus sistemas de integridade\, com foco em profissionais que atuam ou têm interesse em atuar no compliance corporativo.  \nConteúdo do módulo:  \n\nLegislação Aplicável (4 horas)\nEstruturação do programa (4 horas)\n\nData: 28/10/2019 \nHorário: das 9h às 18h \nLocal: Prédio Albano Franco Avenida do Contorno\, 4520\, 1º andar\nFuncionários – Belo Horizonte/MG \nInscrições: https://bit.ly/33oOzYJ
URL:https://www.ethos.org.br/evento/programa-de-formacao-em-integridade-modulo-1-organizacao-do-sistema-de-integridade/
END:VEVENT
BEGIN:VEVENT
DTSTART;TZID=America/Sao_Paulo:20191028T083000
DTEND;TZID=America/Sao_Paulo:20191028T180000
DTSTAMP:20260423T023108
CREATED:20240806T182408Z
LAST-MODIFIED:20240806T182408Z
UID:10004079-1572251400-1572285600@www.ethos.org.br
SUMMARY:Módulo 1 - Organização do sistema de Integridade (8h)
DESCRIPTION:
URL:https://www.ethos.org.br/evento/modulo-1-organizacao-do-sistema-de-integridade-8h/
END:VEVENT
BEGIN:VEVENT
DTSTART;TZID=America/Sao_Paulo:20191029T000000
DTEND;TZID=America/Sao_Paulo:20191029T235959
DTSTAMP:20260423T023108
CREATED:20190812T195055Z
LAST-MODIFIED:20240723T180118Z
UID:10000812-1572307200-1572393599@www.ethos.org.br
SUMMARY:Programa de Formação em Integridade – módulo 2: Gestão de Riscos e Código de Conduta
DESCRIPTION:Curso com o objetivo de auxiliar empresas na implantação e no fortalecimento de seus sistemas de integridade\, com foco em profissionais que atuam ou têm interesse em atuar no compliance corporativo.  \nConteúdo do módulo:  \n\nAvaliação de riscos (4 horas)\nCódigo de Conduta\, regras\, procedimentos e normas (4 horas)\n\nData: 29/10/2019 \nHorário: das 9h às 18h \nLocal: Prédio Albano Franco Avenida do Contorno\, 4520\, 1º andar\nFuncionários – Belo Horizonte/MG \nInscrições: https://bit.ly/2ZX4Fqn
URL:https://www.ethos.org.br/evento/programa-de-formacao-em-integridade-modulo-2-gestao-de-riscos-e-codigo-de-conduta/
END:VEVENT
BEGIN:VEVENT
DTSTART;TZID=America/Sao_Paulo:20191029T000000
DTEND;TZID=America/Sao_Paulo:20191029T235959
DTSTAMP:20260423T023108
CREATED:20190924T192231Z
LAST-MODIFIED:20240723T180115Z
UID:10000792-1572307200-1572393599@www.ethos.org.br
SUMMARY:Gestão da Diversidade e Inclusão - workshop 1: Tendências da Promoção da Diversidade
DESCRIPTION:Ciclo de workshops com o objetivo de auxiliar empresas na implantação e fortalecimento de seus programas de diversidade\, com foco em profissionais que atuam ou têm interesse em atuar em diversidade e inclusão. \nConteúdo do workshop 1 (4 horas): introdução; dimensões da diversidade; tendências e gaps das empresas na promoção da diversidade; como engajar a alta liderança; estudo de caso. \nData: 29/10/2019 \nHorário: das 9h às 13h \nLocal: Instituto Ethos \nInscrições: https://bit.ly/2mqoBmy
URL:https://www.ethos.org.br/evento/gestao-da-diversidade-e-inclusao-workshop1-tendencias-da-promocao-da-diversidade/
END:VEVENT
BEGIN:VEVENT
DTSTART;TZID=America/Sao_Paulo:20191029T000000
DTEND;TZID=America/Sao_Paulo:20191029T235959
DTSTAMP:20260423T023108
CREATED:20190924T192748Z
LAST-MODIFIED:20240723T180115Z
UID:10000791-1572307200-1572393599@www.ethos.org.br
SUMMARY:Gestão da Diversidade e Inclusão - workshop 2: Diversidade & Compliance
DESCRIPTION:Ciclo de workshops com o objetivo de auxiliar empresas na implantação e fortalecimento de seus programas de diversidade\, com foco em profissionais que atuam ou têm interesse em atuar em diversidade e inclusão. \nConteúdo do workshop 2 (4 horas): introdução; Marco Regulatório brasileiro; práticas anti discriminação; ações afirmativas; estudo de caso.  \nData: 29/10/2019 \nHorário: das 14h às 18h \nLocal: Instituto Ethos \nInscrições: https://bit.ly/2lsEpF7
URL:https://www.ethos.org.br/evento/gestao-da-diversidade-e-inclusao-workshop-2-diversidade-compliance/
END:VEVENT
BEGIN:VEVENT
DTSTART;TZID=America/Sao_Paulo:20191029T000000
DTEND;TZID=America/Sao_Paulo:20191029T235959
DTSTAMP:20260423T023108
CREATED:20190927T180746Z
LAST-MODIFIED:20240723T180115Z
UID:10000789-1572307200-1572393599@www.ethos.org.br
SUMMARY:Reunião Mensal da Conferência Brasileira de Mudança do Clima
DESCRIPTION:Último encontro antes da realização da Conferência Brasileira de Mudança do Clima. \nData: 29/10/2019 \nHorário: das 14h às 17h \nLocal: reunião virtual – o link de acesso será enviado aos inscritos \nInscrições: https://institutoethos.typeform.com/to/pyAJfR
URL:https://www.ethos.org.br/evento/reuniao-mensal-da-conferencia-brasileira-de-mudanca-do-clima/
END:VEVENT
BEGIN:VEVENT
DTSTART;TZID=America/Sao_Paulo:20191029T090000
DTEND;TZID=America/Sao_Paulo:20191029T130000
DTSTAMP:20260423T023108
CREATED:20240806T182352Z
LAST-MODIFIED:20240806T182352Z
UID:10004074-1572339600-1572354000@www.ethos.org.br
SUMMARY:Workshop 1: Tendências da promoção da diversidade
DESCRIPTION:
URL:https://www.ethos.org.br/evento/workshop-1-tendencias-da-promocao-da-diversidade/
END:VEVENT
BEGIN:VEVENT
DTSTART;TZID=America/Sao_Paulo:20191029T090000
DTEND;TZID=America/Sao_Paulo:20191029T180000
DTSTAMP:20260423T023108
CREATED:20240806T182404Z
LAST-MODIFIED:20240806T182404Z
UID:10004078-1572339600-1572372000@www.ethos.org.br
SUMMARY:Módulo 2: Gestão de Riscos e Código de Conduta (8h)
DESCRIPTION:
URL:https://www.ethos.org.br/evento/modulo-2-gestao-de-riscos-e-codigo-de-conduta-8h/
END:VEVENT
BEGIN:VEVENT
DTSTART;TZID=America/Sao_Paulo:20191029T140000
DTEND;TZID=America/Sao_Paulo:20191029T180000
DTSTAMP:20260423T023108
CREATED:20240806T182349Z
LAST-MODIFIED:20240806T182349Z
UID:10004073-1572357600-1572372000@www.ethos.org.br
SUMMARY:Workshop 2: Diversidade & Compliance
DESCRIPTION:
URL:https://www.ethos.org.br/evento/workshop-2-diversidade-compliance/
END:VEVENT
BEGIN:VEVENT
DTSTART;TZID=America/Sao_Paulo:20191030T000000
DTEND;TZID=America/Sao_Paulo:20191030T235959
DTSTAMP:20260423T023108
CREATED:20190812T195507Z
LAST-MODIFIED:20240723T180118Z
UID:10000811-1572393600-1572479999@www.ethos.org.br
SUMMARY:Programa de Formação em Integridade – módulo 3: Gestão da Integridade
DESCRIPTION:Curso com o objetivo de auxiliar empresas na implantação e no fortalecimento de seus sistemas de integridade\, com foco em profissionais que atuam ou têm interesse em atuar no compliance corporativo.  \nConteúdo do módulo:  \n\nCanais de denúncia\, investigações\, medidas disciplinares (4 horas)\nGestão de terceiros (4 horas)\nComunicação e treinamento (4 horas)\nGerenciamento de crises (4 horas)\n\nData: 30/10/2019 e 31/10/2019 \nHorário: das 9h às 18h \nLocal: Prédio Albano Franco Avenida do Contorno\, 4520\, 1º andar\nFuncionários – Belo Horizonte/MG \nInscrições: https://bit.ly/2yW4Dmx
URL:https://www.ethos.org.br/evento/programa-de-formacao-em-integridade-modulo-3-gestao-da-integridade/
END:VEVENT
BEGIN:VEVENT
DTSTART;TZID=America/Sao_Paulo:20191030T000000
DTEND;TZID=America/Sao_Paulo:20191030T235959
DTSTAMP:20260423T023108
CREATED:20190829T204644Z
LAST-MODIFIED:20240723T180117Z
UID:10000804-1572393600-1572479999@www.ethos.org.br
SUMMARY:Gestão da Diversidade e Inclusão - workshop 4: Políticas de Diversidade
DESCRIPTION:Ciclo de workshops com o objetivo de auxiliar empresas na implantação e fortalecimento de seus programas de diversidade\, com foco em profissionais que atuam ou têm interesse em atuar em diversidade e inclusão.  \nConteúdo do workshop 4 (4 horas): introdução; elaboração de políticas de diversidade e inclusão; estudo de caso.  \nData: 30/10/2019 \nHorário: das 14h às 18h \nLocal: Instituto Ethos \nInscrições: https://bit.ly/2mw33Vr
URL:https://www.ethos.org.br/evento/workshop-4-politicas-de-diversidade/
END:VEVENT
BEGIN:VEVENT
DTSTART;TZID=America/Sao_Paulo:20191030T000000
DTEND;TZID=America/Sao_Paulo:20191030T235959
DTSTAMP:20260423T023108
CREATED:20190829T204644Z
LAST-MODIFIED:20240723T180117Z
UID:10000803-1572393600-1572479999@www.ethos.org.br
SUMMARY:Gestão da Diversidade e Inclusão - workshop 3: Programa de Diversidade
DESCRIPTION:Ciclo de workshops com o objetivo de auxiliar empresas na implantação e fortalecimento de seus programas de diversidade\, com foco em profissionais que atuam ou têm interesse em atuar em diversidade e inclusão. \nConteúdo do workshop 3 (4 horas): introdução; estratégias e pilares para constituição do programa; governança das ações de diversidade e inclusão; estudo de caso.  \nData: 30/10/2019 \nHorário: das 9h às 13h \nLocal: Instituto Ethos \nInscrições: https://bit.ly/2mWoJdQ
URL:https://www.ethos.org.br/evento/workshop-3-programa-de-diversidade/
END:VEVENT
BEGIN:VEVENT
DTSTART;TZID=America/Sao_Paulo:20191030T000000
DTEND;TZID=America/Sao_Paulo:20191030T235959
DTSTAMP:20260423T023108
CREATED:20190927T181210Z
LAST-MODIFIED:20240723T180114Z
UID:10000787-1572393600-1572479999@www.ethos.org.br
SUMMARY:Café da manhã com CEOs - Coalizão Empresarial pela Equidade Racial e de Gênero
DESCRIPTION:O tema do encontro será “O empoderamento e desenvolvimento socioeconômico das mulheres negras”. \nData: 30/10/2019 \nInscrições: secretariadhumanos@ethos.org.br
URL:https://www.ethos.org.br/evento/cafe-da-manha-com-ceos-coalizao-empresarial-pela-equidade-racial-e-de-genero/
END:VEVENT
BEGIN:VEVENT
DTSTART;TZID=America/Sao_Paulo:20191030T090000
DTEND;TZID=America/Sao_Paulo:20191030T130000
DTSTAMP:20260423T023108
CREATED:20240806T182347Z
LAST-MODIFIED:20240806T182347Z
UID:10004072-1572426000-1572440400@www.ethos.org.br
SUMMARY:Workshop 3: Programa de Diversidade
DESCRIPTION:
URL:https://www.ethos.org.br/evento/workshop-3-programa-de-diversidade-2/
END:VEVENT
BEGIN:VEVENT
DTSTART;TZID=America/Sao_Paulo:20191030T090000
DTEND;TZID=America/Sao_Paulo:20191031T180000
DTSTAMP:20260423T023108
CREATED:20240806T182401Z
LAST-MODIFIED:20240806T182401Z
UID:10004077-1572426000-1572544800@www.ethos.org.br
SUMMARY:Módulo 3: Gestão da Integridade
DESCRIPTION:
URL:https://www.ethos.org.br/evento/modulo-3-gestao-da-integridade/
END:VEVENT
BEGIN:VEVENT
DTSTART;TZID=America/Sao_Paulo:20191030T140000
DTEND;TZID=America/Sao_Paulo:20191030T180000
DTSTAMP:20260423T023108
CREATED:20240806T182344Z
LAST-MODIFIED:20240806T182344Z
UID:10004071-1572444000-1572458400@www.ethos.org.br
SUMMARY:Workshop 4: Políticas de Diversidade
DESCRIPTION:
URL:https://www.ethos.org.br/evento/workshop-4-politicas-de-diversidade-2/
END:VEVENT
BEGIN:VEVENT
DTSTART;TZID=America/Sao_Paulo:20191031T000000
DTEND;TZID=America/Sao_Paulo:20191031T235959
DTSTAMP:20260423T023108
CREATED:20190829T204644Z
LAST-MODIFIED:20240723T180117Z
UID:10000805-1572480000-1572566399@www.ethos.org.br
SUMMARY:Gestão da Diversidade e Inclusão - workshop 5: Cultura Organizacional Inclusiva
DESCRIPTION:Ciclo de workshops com o objetivo de auxiliar empresas na implantação e fortalecimento de seus programas de diversidade\, com foco em profissionais que atuam ou têm interesse em atuar em diversidade e inclusão. \nConteúdo do Workshop 5 (4 horas): introdução; tipos de cultura organizacional; valores e crenças; padrões de comportamento; processos de mudança cultural; práticas empresariais; estudo de caso.  \nData: 31/10/2019 \nHorário: das 9h às 13h \nLocal: Instituto Ethos \nInscrições: https://bit.ly/2lsvpzM
URL:https://www.ethos.org.br/evento/workshop-5-cultura-organizacional-inclusiva/
END:VEVENT
BEGIN:VEVENT
DTSTART;TZID=America/Sao_Paulo:20191031T090000
DTEND;TZID=America/Sao_Paulo:20191031T130000
DTSTAMP:20260423T023108
CREATED:20240806T182341Z
LAST-MODIFIED:20240806T182341Z
UID:10004070-1572512400-1572526800@www.ethos.org.br
SUMMARY:Workshop 5: Cultura Organizacional Inclusiva
DESCRIPTION:
URL:https://www.ethos.org.br/evento/workshop-5-cultura-organizacional-inclusiva-2/
END:VEVENT
END:VCALENDAR