BEGIN:VCALENDAR
VERSION:2.0
PRODID:-//Instituto Ethos - ECPv6.15.14//NONSGML v1.0//EN
CALSCALE:GREGORIAN
METHOD:PUBLISH
X-WR-CALNAME:Instituto Ethos
X-ORIGINAL-URL:https://www.ethos.org.br
X-WR-CALDESC:Eventos para Instituto Ethos
REFRESH-INTERVAL;VALUE=DURATION:PT1H
X-Robots-Tag:noindex
X-PUBLISHED-TTL:PT1H
BEGIN:VTIMEZONE
TZID:America/Sao_Paulo
BEGIN:STANDARD
TZOFFSETFROM:-0200
TZOFFSETTO:-0300
TZNAME:-03
DTSTART:20180218T020000
END:STANDARD
BEGIN:DAYLIGHT
TZOFFSETFROM:-0300
TZOFFSETTO:-0200
TZNAME:-02
DTSTART:20181104T030000
END:DAYLIGHT
BEGIN:STANDARD
TZOFFSETFROM:-0200
TZOFFSETTO:-0300
TZNAME:-03
DTSTART:20190217T020000
END:STANDARD
END:VTIMEZONE
BEGIN:VEVENT
DTSTART;TZID=America/Sao_Paulo:20191101T070000
DTEND;TZID=America/Sao_Paulo:20201116T170000
DTSTAMP:20260422T202345
CREATED:20240806T182635Z
LAST-MODIFIED:20240806T182635Z
UID:10004128-1572591600-1605546000@www.ethos.org.br
SUMMARY:Verificação Rating Integra
DESCRIPTION:
URL:https://www.ethos.org.br/evento/verificacao-rating-integra/
END:VEVENT
BEGIN:VEVENT
DTSTART;TZID=America/Sao_Paulo:20200101T000000
DTEND;TZID=America/Sao_Paulo:20200101T235959
DTSTAMP:20260422T202345
CREATED:20210408T160005Z
LAST-MODIFIED:20240723T180041Z
UID:10000559-1577836800-1577923199@www.ethos.org.br
SUMMARY:Agenda Anual
DESCRIPTION:Você pode organizar a sua agenda pessoal para curtir toda a programação de eventos e atividades promovidas pelo Instituto Ethos no decorrer do ano! \n Na agenda anual\, você tem acesso\, na íntegra\, aos eventos que estão programados pelo Instituto. Contudo\, as datas abaixo são previsões e passíveis de alterações. \n Algumas atividades são exclusivas para empresas associadas ao Ethos\, já outras são abertas para o público geral. Os eventos exclusivos estão marcados com um asterisco (*). \n Visite nossa agenda para estar sempre antenado nas datas da programação anual. \n 
URL:https://www.ethos.org.br/evento/agenda-anual/
END:VEVENT
BEGIN:VEVENT
DTSTART;TZID=America/Sao_Paulo:20200101T080000
DTEND;TZID=America/Sao_Paulo:20201231T080000
DTSTAMP:20260422T202345
CREATED:20240805T151614Z
LAST-MODIFIED:20240805T151614Z
UID:10003393-1577865600-1609401600@www.ethos.org.br
SUMMARY:Palestras 2020
DESCRIPTION:
URL:https://www.ethos.org.br/evento/palestras-2020/
END:VEVENT
BEGIN:VEVENT
DTSTART;TZID=America/Sao_Paulo:20200101T080000
DTEND;TZID=America/Sao_Paulo:20201231T080000
DTSTAMP:20260422T202345
CREATED:20240806T182244Z
LAST-MODIFIED:20240806T182244Z
UID:10004047-1577865600-1609401600@www.ethos.org.br
SUMMARY:Palestras 2020
DESCRIPTION:
URL:https://www.ethos.org.br/evento/palestras-2020-2/
END:VEVENT
BEGIN:VEVENT
DTSTART;TZID=America/Sao_Paulo:20200128T150000
DTEND;TZID=America/Sao_Paulo:20200128T160000
DTSTAMP:20260422T202345
CREATED:20240806T182311Z
LAST-MODIFIED:20240806T182311Z
UID:10004058-1580223600-1580227200@www.ethos.org.br
SUMMARY:Webinar: Rating Integra
DESCRIPTION:
URL:https://www.ethos.org.br/evento/webinar-rating-integra/
END:VEVENT
BEGIN:VEVENT
DTSTART;TZID=America/Sao_Paulo:20200129T140000
DTEND;TZID=America/Sao_Paulo:20200129T170000
DTSTAMP:20260422T202345
CREATED:20240806T182314Z
LAST-MODIFIED:20240806T182314Z
UID:10004059-1580306400-1580317200@www.ethos.org.br
SUMMARY:1ª Reunião CBMC - 2020
DESCRIPTION:
URL:https://www.ethos.org.br/evento/1a-reuniao-cbmc-2020/
END:VEVENT
END:VCALENDAR