BEGIN:VCALENDAR
VERSION:2.0
PRODID:-//Instituto Ethos - ECPv6.15.14//NONSGML v1.0//EN
CALSCALE:GREGORIAN
METHOD:PUBLISH
X-WR-CALNAME:Instituto Ethos
X-ORIGINAL-URL:https://www.ethos.org.br
X-WR-CALDESC:Eventos para Instituto Ethos
REFRESH-INTERVAL;VALUE=DURATION:PT1H
X-Robots-Tag:noindex
X-PUBLISHED-TTL:PT1H
BEGIN:VTIMEZONE
TZID:America/Sao_Paulo
BEGIN:STANDARD
TZOFFSETFROM:-0300
TZOFFSETTO:-0300
TZNAME:-03
DTSTART:20200101T000000
END:STANDARD
END:VTIMEZONE
BEGIN:VEVENT
DTSTART;TZID=America/Sao_Paulo:20210101T080000
DTEND;TZID=America/Sao_Paulo:20211231T080000
DTSTAMP:20260421T132048
CREATED:20240806T181436Z
LAST-MODIFIED:20240806T181436Z
UID:10003860-1609488000-1640937600@www.ethos.org.br
SUMMARY:Palestra: Educação climática
DESCRIPTION:
URL:https://www.ethos.org.br/evento/palestra-educacao-climatica/
END:VEVENT
BEGIN:VEVENT
DTSTART;TZID=America/Sao_Paulo:20210101T080000
DTEND;TZID=America/Sao_Paulo:20211231T080000
DTSTAMP:20260421T132048
CREATED:20240806T181438Z
LAST-MODIFIED:20240806T181438Z
UID:10003861-1609488000-1640937600@www.ethos.org.br
SUMMARY:Palestra: Mudança do clima
DESCRIPTION:
URL:https://www.ethos.org.br/evento/palestra-mudanca-do-clima/
END:VEVENT
BEGIN:VEVENT
DTSTART;TZID=America/Sao_Paulo:20210101T080000
DTEND;TZID=America/Sao_Paulo:20211231T080000
DTSTAMP:20260421T132048
CREATED:20240806T181440Z
LAST-MODIFIED:20240806T181440Z
UID:10003862-1609488000-1640937600@www.ethos.org.br
SUMMARY:Palestra: Meio ambiente – contexto atual\, oportunidades e recomendações
DESCRIPTION:
URL:https://www.ethos.org.br/evento/palestra-meio-ambiente-contexto-atual-oportunidades-e-recomendacoes/
END:VEVENT
BEGIN:VEVENT
DTSTART;TZID=America/Sao_Paulo:20210101T080000
DTEND;TZID=America/Sao_Paulo:20211231T080000
DTSTAMP:20260421T132048
CREATED:20240806T181442Z
LAST-MODIFIED:20240806T181442Z
UID:10003863-1609488000-1640937600@www.ethos.org.br
SUMMARY:Palestra: Promoção da Integridade e combate à corrupção
DESCRIPTION:
URL:https://www.ethos.org.br/evento/palestra-promocao-da-integridade-e-combate-a-corrupcao/
END:VEVENT
BEGIN:VEVENT
DTSTART;TZID=America/Sao_Paulo:20210101T080000
DTEND;TZID=America/Sao_Paulo:20211231T080000
DTSTAMP:20260421T132048
CREATED:20240806T181443Z
LAST-MODIFIED:20240806T181443Z
UID:10003864-1609488000-1640937600@www.ethos.org.br
SUMMARY:Palestra: Tendências do compliance e integridade no Brasil
DESCRIPTION:
URL:https://www.ethos.org.br/evento/palestra-tendencias-do-compliance-e-integridade-no-brasil/
END:VEVENT
BEGIN:VEVENT
DTSTART;TZID=America/Sao_Paulo:20210101T080000
DTEND;TZID=America/Sao_Paulo:20211231T080000
DTSTAMP:20260421T132048
CREATED:20240806T181445Z
LAST-MODIFIED:20240806T181445Z
UID:10003865-1609488000-1640937600@www.ethos.org.br
SUMMARY:Palestra: Desigualdades e os objetivos do desenvolvimento sustentável - Agenda 2030
DESCRIPTION:
URL:https://www.ethos.org.br/evento/palestra-desigualdades-e-os-objetivos-do-desenvolvimento-sustentavel-agenda-2030/
END:VEVENT
BEGIN:VEVENT
DTSTART;TZID=America/Sao_Paulo:20210101T080000
DTEND;TZID=America/Sao_Paulo:20211231T080000
DTSTAMP:20260421T132048
CREATED:20240806T181447Z
LAST-MODIFIED:20240806T181447Z
UID:10003866-1609488000-1640937600@www.ethos.org.br
SUMMARY:Palestra: Direitos Humanos e trabalho decente
DESCRIPTION:
URL:https://www.ethos.org.br/evento/palestra-direitos-humanos-e-trabalho-decente/
END:VEVENT
BEGIN:VEVENT
DTSTART;TZID=America/Sao_Paulo:20210101T080000
DTEND;TZID=America/Sao_Paulo:20211231T080000
DTSTAMP:20260421T132048
CREATED:20240806T181449Z
LAST-MODIFIED:20240806T181449Z
UID:10003867-1609488000-1640937600@www.ethos.org.br
SUMMARY:Palestra: Diversidade e inclusão fazem bem para os negócios
DESCRIPTION:
URL:https://www.ethos.org.br/evento/palestra-diversidade-e-inclusao-fazem-bem-para-os-negocios/
END:VEVENT
BEGIN:VEVENT
DTSTART;TZID=America/Sao_Paulo:20210101T080000
DTEND;TZID=America/Sao_Paulo:20211231T080000
DTSTAMP:20260421T132048
CREATED:20240806T181451Z
LAST-MODIFIED:20240806T181451Z
UID:10003868-1609488000-1640937600@www.ethos.org.br
SUMMARY:Palestra: Sustentabilidade na gestão da cadeia de suprimentos
DESCRIPTION:
URL:https://www.ethos.org.br/evento/palestra-sustentabilidade-na-gestao-da-cadeia-de-suprimentos/
END:VEVENT
BEGIN:VEVENT
DTSTART;TZID=America/Sao_Paulo:20210101T080000
DTEND;TZID=America/Sao_Paulo:20211231T080000
DTSTAMP:20260421T132048
CREATED:20240806T181453Z
LAST-MODIFIED:20240806T181453Z
UID:10003869-1609488000-1640937600@www.ethos.org.br
SUMMARY:Palestra:Panorama dos sistemas de avaliação da gestão responsável para o desenvolvimento sustentável
DESCRIPTION:
URL:https://www.ethos.org.br/evento/palestrapanorama-dos-sistemas-de-avaliacao-da-gestao-responsavel-para-o-desenvolvimento-sustentavel/
END:VEVENT
BEGIN:VEVENT
DTSTART;TZID=America/Sao_Paulo:20210101T080000
DTEND;TZID=America/Sao_Paulo:20211231T080000
DTSTAMP:20260421T132048
CREATED:20240806T181454Z
LAST-MODIFIED:20240806T181454Z
UID:10003870-1609488000-1640937600@www.ethos.org.br
SUMMARY:Palestra: Oportunidades da sustentabilidade
DESCRIPTION:
URL:https://www.ethos.org.br/evento/palestra-oportunidades-da-sustentabilidade/
END:VEVENT
BEGIN:VEVENT
DTSTART;TZID=America/Sao_Paulo:20210101T080000
DTEND;TZID=America/Sao_Paulo:20211231T080000
DTSTAMP:20260421T132048
CREATED:20240806T181536Z
LAST-MODIFIED:20240806T181536Z
UID:10003887-1609488000-1640937600@www.ethos.org.br
SUMMARY:Palestras - Tema a ser definido dentro do escopo de atuação
DESCRIPTION:
URL:https://www.ethos.org.br/evento/palestras-tema-a-ser-definido-dentro-do-escopo-de-atuacao/
END:VEVENT
BEGIN:VEVENT
DTSTART;TZID=America/Sao_Paulo:20210304T000000
DTEND;TZID=America/Sao_Paulo:20210304T235959
DTSTAMP:20260421T132048
CREATED:20210302T135523Z
LAST-MODIFIED:20240723T180043Z
UID:10000569-1614816000-1614902399@www.ethos.org.br
SUMMARY:Lançamento MISEC
DESCRIPTION:O Instituto Ethos e a Rede Brasil do Pacto Global da ONU\, em parceria com empresas e entidades setoriais de engenharia e construção\, uniram esforços em uma ação coletiva para a criação do Movimento pela Integridade do Setor de Engenharia e Construção (MISEC). O principal objetivo da iniciativa é unir o setor para a consolidação de um ambiente de negócios ético e saudável\, com integridade e livre de corrupção\, criando estímulos à defesa da concorrência leal para gerar novas oportunidades de negócios em bases sustentáveis. \nA iniciativa será lançada em um evento online que contará com a presença da CGU (Controladoria-Geral da União). \nData: 04/03/2021 \nHorário: das 10h às 12h \nLocal: evento online \nInscrições: https://bit.ly/381sjIb
URL:https://www.ethos.org.br/evento/lancamento-misec/
END:VEVENT
BEGIN:VEVENT
DTSTART;TZID=America/Sao_Paulo:20210309T000000
DTEND;TZID=America/Sao_Paulo:20210309T235959
DTSTAMP:20260421T132048
CREATED:20210302T134644Z
LAST-MODIFIED:20240723T180044Z
UID:10000575-1615248000-1615334399@www.ethos.org.br
SUMMARY:Webinar Boas-vindas Indicadores Ethos*
DESCRIPTION:Apresentação da ferramenta de gestão que orienta as empresas na incorporação da sustentabilidade e da Responsabilidade Social Empresarial (RSE) em suas estratégias de negócio\, de modo que esse venha a ser sustentável e responsável. \n(evento exclusivo para empresas associadas) \nData: 09/03/2021 \nHorário: das 14h30 às 15h30 \nLocal: encontro virtual – plataforma Zoom (o link de acesso será enviado somente para os participantes inscritos) \nInscrições: evento exclusivo para empresas associadas
URL:https://www.ethos.org.br/evento/webinar-boas-vindas-indicadores-ethos-19/
END:VEVENT
BEGIN:VEVENT
DTSTART;TZID=America/Sao_Paulo:20210309T000000
DTEND;TZID=America/Sao_Paulo:20210309T235959
DTSTAMP:20260421T132048
CREATED:20210302T135637Z
LAST-MODIFIED:20241003T163202Z
UID:10000568-1615248000-1615334399@www.ethos.org.br
SUMMARY:Grupo de Trabalho de Integridade*
DESCRIPTION:Encontro mensal do Grupo de Trabalho de Integridade.  \n(evento exclusivo para empresas associadas dos planos Essencial e Vivência) \nData: 09/03/2021 \nHorário: das 9h às 12h \nLocal: reunião virtual – plataforma Zoom \nInscrições: secretaria.integridade@ethos.org.br
URL:https://www.ethos.org.br/evento/grupo-de-trabalho-de-integridade-10/
CATEGORIES:Grupos de Trabalhos
END:VEVENT
BEGIN:VEVENT
DTSTART;TZID=America/Sao_Paulo:20210309T143000
DTEND;TZID=America/Sao_Paulo:20210309T153000
DTSTAMP:20260421T132048
CREATED:20240806T181658Z
LAST-MODIFIED:20240806T181658Z
UID:10003921-1615300200-1615303800@www.ethos.org.br
SUMMARY:Webinar - Indicadores Ethos para Negócios Sustentáveis e Responsáveis 090321
DESCRIPTION:
URL:https://www.ethos.org.br/evento/webinar-indicadores-ethos-para-negocios-sustentaveis-e-responsaveis-090321/
END:VEVENT
BEGIN:VEVENT
DTSTART;TZID=America/Sao_Paulo:20210310T000000
DTEND;TZID=America/Sao_Paulo:20210310T235959
DTSTAMP:20260421T132048
CREATED:20210302T135348Z
LAST-MODIFIED:20240723T180043Z
UID:10000570-1615334400-1615420799@www.ethos.org.br
SUMMARY:Roda de diálogo virtual*
DESCRIPTION:Para multiplicar os aprendizados\, boas práticas\, desafios e soluções\, participe da nossa Roda de Diálogo Virtual: espaço de compartilhamento e aprendizado coletivo e troca de experiência com o foco no compartilhamento das ações e discussões de temas relacionados as áreas de atuação do Ethos em um ambiente exclusivo para nossas associadas. \nTema do encontro: Como evitar os retrocessos na promoção da equidade de gênero?  \nA crise provocada pela pandemia nos fez voltar a patamares da década de 1990 na participação das mulheres no mercado de trabalho\, e para as mulheres que se mantiveram em seus empregos\, aumentou o desafio do trabalho simultâneo aos cuidados com familiares e com a casa. Vamos conversar sobre o papel das empresas na promoção da equidade de gênero\, especialmente no contexto da crise. \nParticipante: \nEmília Guimaraes\, Managing Director da Accenture\, vai falar sobre a iniciativa de contratação de 150 mães para “cargos cobiçados” \nData: 10/03/2021 \nHorário: das 10h às 11h30 \nLocal: encontro virtual \nInscrições: https://bit.ly/3bJiGPi
URL:https://www.ethos.org.br/evento/roda-de-dialogo-virtual-3/
END:VEVENT
BEGIN:VEVENT
DTSTART;TZID=America/Sao_Paulo:20210310T100000
DTEND;TZID=America/Sao_Paulo:20210310T113000
DTSTAMP:20260421T132048
CREATED:20240806T181652Z
LAST-MODIFIED:20240806T181652Z
UID:10003919-1615370400-1615375800@www.ethos.org.br
SUMMARY:Roda de diálogo - 10/mar/21
DESCRIPTION:
URL:https://www.ethos.org.br/evento/roda-de-dialogo-10-mar-21/
END:VEVENT
BEGIN:VEVENT
DTSTART;TZID=America/Sao_Paulo:20210312T000000
DTEND;TZID=America/Sao_Paulo:20210312T235959
DTSTAMP:20260421T132048
CREATED:20210302T134826Z
LAST-MODIFIED:20240723T180043Z
UID:10000574-1615507200-1615593599@www.ethos.org.br
SUMMARY:Jornada Indicadores Ethos 2021 - turma 1\, encontro 1*
DESCRIPTION:Encontro 1: boas-vindas \nSerão cinco encontros semanais que contarão com a orientação e assessoria da equipe de Gestão para o Desenvolvimento Sustentável do Ethos para o ciclo de preenchimento dos Indicadores 2020/2021. \n(evento exclusivo para empresas associadas) \nData: início em 12/03/2021 \nHorário: das 10h às 11h30 \nLocal: encontro virtual – plataforma Microsoft Teams (o link de acesso será enviado somente para os participantes inscritos) \nInscrições: evento exclusivo para empresas associadas ao Instituto Ethos
URL:https://www.ethos.org.br/evento/jornada-indicadores-ethos-2021-turma-1-encontro-1/
END:VEVENT
BEGIN:VEVENT
DTSTART;TZID=America/Sao_Paulo:20210312T100000
DTEND;TZID=America/Sao_Paulo:20210409T113000
DTSTAMP:20260421T132048
CREATED:20240806T181647Z
LAST-MODIFIED:20240806T181647Z
UID:10003917-1615543200-1617967800@www.ethos.org.br
SUMMARY:Jornada - Indicadores Ethos 2021 - Empresas Associadas - Turma 1
DESCRIPTION:
URL:https://www.ethos.org.br/evento/jornada-indicadores-ethos-2021-empresas-associadas-turma-1/
END:VEVENT
BEGIN:VEVENT
DTSTART;TZID=America/Sao_Paulo:20210319T000000
DTEND;TZID=America/Sao_Paulo:20210319T235959
DTSTAMP:20260421T132048
CREATED:20210302T134949Z
LAST-MODIFIED:20240723T180043Z
UID:10000573-1616112000-1616198399@www.ethos.org.br
SUMMARY:Jornada Indicadores Ethos 2021 - turma 1\, encontro 2*
DESCRIPTION:Encontro 2: seleção de indicadores \nSerão cinco encontros semanais que contarão com a orientação e assessoria da equipe de Gestão para o Desenvolvimento Sustentável do Ethos para o ciclo de preenchimento dos Indicadores 2020/2021. \n(evento exclusivo para empresas associadas) \nData: 19/03/2021 \nHorário: das 10h às 11h30 \nLocal: encontro virtual – plataforma Microsoft Teams (o link de acesso será enviado somente para os participantes inscritos) \nInscrições: evento exclusivo para empresas associadas ao Instituto Ethos
URL:https://www.ethos.org.br/evento/jornada-indicadores-ethos-2021-turma-1-encontro-2/
END:VEVENT
BEGIN:VEVENT
DTSTART;TZID=America/Sao_Paulo:20210323T000000
DTEND;TZID=America/Sao_Paulo:20210323T235959
DTSTAMP:20260421T132048
CREATED:20210302T135057Z
LAST-MODIFIED:20240723T180043Z
UID:10000572-1616457600-1616543999@www.ethos.org.br
SUMMARY:Webinar Boas-vindas Indicadores Ethos*
DESCRIPTION:Apresentação da ferramenta de gestão que orienta as empresas na incorporação da sustentabilidade e da Responsabilidade Social Empresarial (RSE) em suas estratégias de negócio\, de modo que esse venha a ser sustentável e responsável. \n(evento exclusivo para empresas associadas) \nData: 23/03/2021 \nHorário: das 14h30 às 15h30 \nLocal: encontro virtual – plataforma Zoom (o link de acesso será enviado somente para os participantes inscritos) \nInscrições: evento exclusivo para empresas associadas
URL:https://www.ethos.org.br/evento/webinar-boas-vindas-indicadores-ethos-20/
END:VEVENT
BEGIN:VEVENT
DTSTART;TZID=America/Sao_Paulo:20210323T143000
DTEND;TZID=America/Sao_Paulo:20210323T153000
DTSTAMP:20260421T132048
CREATED:20240806T181655Z
LAST-MODIFIED:20240806T181655Z
UID:10003920-1616509800-1616513400@www.ethos.org.br
SUMMARY:Webinar - Indicadores Ethos para Negócios Sustentáveis e Responsáveis 230321
DESCRIPTION:
URL:https://www.ethos.org.br/evento/webinar-indicadores-ethos-para-negocios-sustentaveis-e-responsaveis-230321/
END:VEVENT
BEGIN:VEVENT
DTSTART;TZID=America/Sao_Paulo:20210324T000000
DTEND;TZID=America/Sao_Paulo:20210324T235959
DTSTAMP:20260421T132048
CREATED:20210511T183729Z
LAST-MODIFIED:20240723T180038Z
UID:10000540-1616544000-1616630399@www.ethos.org.br
SUMMARY:Rating Integra
DESCRIPTION:Lançamento dos resultados do 2º ciclo
URL:https://www.ethos.org.br/evento/rating-integra/
END:VEVENT
BEGIN:VEVENT
DTSTART;TZID=America/Sao_Paulo:20210325T000000
DTEND;TZID=America/Sao_Paulo:20210325T235959
DTSTAMP:20260421T132048
CREATED:20210302T135216Z
LAST-MODIFIED:20240723T180043Z
UID:10000571-1616630400-1616716799@www.ethos.org.br
SUMMARY:Jornada Indicadores Ethos 2021 - turma 1\, encontro 3*
DESCRIPTION:Encontro 3: processo de aplicação \nSerão cinco encontros semanais que contarão com a orientação e assessoria da equipe de Gestão para o Desenvolvimento Sustentável do Ethos para o ciclo de preenchimento dos Indicadores 2020/2021. \n(evento exclusivo para empresas associadas) \nData: 25/03/2021 \nHorário: das 11h às 12h30 \nLocal: encontro virtual – plataforma Microsoft Teams (o link de acesso será enviado somente para os participantes inscritos) \nInscrições: evento exclusivo para empresas associadas ao Instituto Ethos
URL:https://www.ethos.org.br/evento/jornada-indicadores-ethos-2021-turma-1-encontro-3/
END:VEVENT
BEGIN:VEVENT
DTSTART;TZID=America/Sao_Paulo:20210330T000000
DTEND;TZID=America/Sao_Paulo:20210330T235959
DTSTAMP:20260421T132048
CREATED:20210511T183833Z
LAST-MODIFIED:20241003T163145Z
UID:10000539-1617062400-1617148799@www.ethos.org.br
SUMMARY:Grupo de Trabalho de Meio Ambiente*
DESCRIPTION:Grupo de Trabalho de Meio Ambiente \n(evento exclusivo para empresas associadas dos planos Essencial e Vivência)
URL:https://www.ethos.org.br/evento/grupo-de-trabalho-de-meio-ambiente-14/
CATEGORIES:Grupos de Trabalhos
END:VEVENT
END:VCALENDAR