BEGIN:VCALENDAR
VERSION:2.0
PRODID:-//Instituto Ethos - ECPv6.15.14//NONSGML v1.0//EN
CALSCALE:GREGORIAN
METHOD:PUBLISH
X-ORIGINAL-URL:https://www.ethos.org.br
X-WR-CALDESC:Eventos para Instituto Ethos
REFRESH-INTERVAL;VALUE=DURATION:PT1H
X-Robots-Tag:noindex
X-PUBLISHED-TTL:PT1H
BEGIN:VTIMEZONE
TZID:America/Sao_Paulo
BEGIN:STANDARD
TZOFFSETFROM:-0300
TZOFFSETTO:-0300
TZNAME:-03
DTSTART:20210101T000000
END:STANDARD
END:VTIMEZONE
BEGIN:VEVENT
DTSTART;TZID=America/Sao_Paulo:20220601T080000
DTEND;TZID=America/Sao_Paulo:20230804T180000
DTSTAMP:20260424T133108
CREATED:20240806T181344Z
LAST-MODIFIED:20240806T181344Z
UID:10003837-1654070400-1691172000@www.ethos.org.br
SUMMARY:Verificação Rating Integra - 2022
DESCRIPTION:
URL:https://www.ethos.org.br/evento/verificacao-rating-integra-2022/
END:VEVENT
BEGIN:VEVENT
DTSTART;TZID=America/Sao_Paulo:20220725T080000
DTEND;TZID=America/Sao_Paulo:20231130T180000
DTSTAMP:20260424T133108
CREATED:20240806T181123Z
LAST-MODIFIED:20240806T181123Z
UID:10003775-1658736000-1701367200@www.ethos.org.br
SUMMARY:Homologação das certificadoras do Pacto de Promoção da Equidade Racial( Porte Pequeno e Médio - AP)
DESCRIPTION:
URL:https://www.ethos.org.br/evento/homologacao-das-certificadoras-do-pacto-de-promocao-da-equidade-racial-porte-pequeno-e-medio-ap/
END:VEVENT
BEGIN:VEVENT
DTSTART;TZID=America/Sao_Paulo:20220725T080000
DTEND;TZID=America/Sao_Paulo:20231130T180000
DTSTAMP:20260424T133108
CREATED:20240806T181126Z
LAST-MODIFIED:20240806T181126Z
UID:10003776-1658736000-1701367200@www.ethos.org.br
SUMMARY:Homologação das certificadoras do Pacto de Promoção da Equidade Racial( Porte Pequeno e Médio)
DESCRIPTION:
URL:https://www.ethos.org.br/evento/homologacao-das-certificadoras-do-pacto-de-promocao-da-equidade-racial-porte-pequeno-e-medio/
END:VEVENT
BEGIN:VEVENT
DTSTART;TZID=America/Sao_Paulo:20220727T080000
DTEND;TZID=America/Sao_Paulo:20231130T080000
DTSTAMP:20260424T133108
CREATED:20240806T181121Z
LAST-MODIFIED:20240806T181121Z
UID:10003774-1658908800-1701331200@www.ethos.org.br
SUMMARY:Homologação das certificadoras do Pacto pela Promoção da Equidade Racial
DESCRIPTION:
URL:https://www.ethos.org.br/evento/homologacao-das-certificadoras-do-pacto-pela-promocao-da-equidade-racial/
END:VEVENT
BEGIN:VEVENT
DTSTART;TZID=America/Sao_Paulo:20220727T080000
DTEND;TZID=America/Sao_Paulo:20231130T080000
DTSTAMP:20260424T133108
CREATED:20240806T181128Z
LAST-MODIFIED:20240806T181128Z
UID:10003777-1658908800-1701331200@www.ethos.org.br
SUMMARY:Homologação das certificadoras do Pacto de Promoção da Equidade Racial( Porte Grande e AP)
DESCRIPTION:
URL:https://www.ethos.org.br/evento/homologacao-das-certificadoras-do-pacto-de-promocao-da-equidade-racial-porte-grande-e-ap/
END:VEVENT
BEGIN:VEVENT
DTSTART;TZID=America/Sao_Paulo:20220728T080000
DTEND;TZID=America/Sao_Paulo:20231130T080000
DTSTAMP:20260424T133108
CREATED:20240806T181130Z
LAST-MODIFIED:20240806T181130Z
UID:10003778-1658995200-1701331200@www.ethos.org.br
SUMMARY:Homologação das certificadoras do Pacto de Promoção da Equidade Racial( Porte Grande)
DESCRIPTION:
URL:https://www.ethos.org.br/evento/homologacao-das-certificadoras-do-pacto-de-promocao-da-equidade-racial-porte-grande/
END:VEVENT
BEGIN:VEVENT
DTSTART;TZID=America/Sao_Paulo:20230411T000000
DTEND;TZID=America/Sao_Paulo:20230411T235959
DTSTAMP:20260424T133109
CREATED:20230210T180240Z
LAST-MODIFIED:20241003T163025Z
UID:10000182-1681171200-1681257599@www.ethos.org.br
SUMMARY:Grupo de Trabalho de Integridade*
DESCRIPTION:Inscrições: secretaria.integridade@ethos.org.br \nNo terceiro encontro de 2023\, o Grupo de Trabalho Integridade contará com a participação da Controladoria Geral da Uniao (a confirmar) com o objetivo de apresentar a nova Secretaria de Integridade Privada\, a estrutura e os objetivos desta nova secretaria. Dedicaremos um espaço para troca de boas práticas em Programas de Compliance (Mattos Filho) e contaremos também com as atualizações do cenário político do Brasil (PATRI). \n*(Atividade exclusiva para empresas associadas).
URL:https://www.ethos.org.br/evento/grupo-de-trabalho-de-integridade-34/
LOCATION:Online – plataforma Zoom Meeting
CATEGORIES:Grupos de Trabalhos
END:VEVENT
BEGIN:VEVENT
DTSTART;TZID=America/Sao_Paulo:20230411T000000
DTEND;TZID=America/Sao_Paulo:20230411T235959
DTSTAMP:20260424T133109
CREATED:20230329T160618Z
LAST-MODIFIED:20240723T175940Z
UID:10000170-1681171200-1681257599@www.ethos.org.br
SUMMARY:Reunião da Iniciativa Empresarial para a Promoção do Trabalho Decente em Plataformas Digitais
DESCRIPTION:Inscrições: Convite enviado pelo Outlook. \nEncontro de diálogo sobre a Iniciativa Empresarial para a Promoção do Trabalho Decente em Plataformas Digitais. \nDiante de dúvidas\, sugestões ou solicitações de mais informações\, entre em contato conosco em: secretaria.dhumanos@ethos.org.br ou (11) 98804-4716.
URL:https://www.ethos.org.br/evento/reuniao-da-iniciativa-empresarial-para-a-promocao-do-trabalho-decente-em-plataformas-digitais-3/
LOCATION:Online – plataforma Zoom Meeting
END:VEVENT
BEGIN:VEVENT
DTSTART;TZID=America/Sao_Paulo:20230413T000000
DTEND;TZID=America/Sao_Paulo:20230413T235959
DTSTAMP:20260424T133109
CREATED:20230208T151146Z
LAST-MODIFIED:20241003T163036Z
UID:10000193-1681344000-1681430399@www.ethos.org.br
SUMMARY:Reunião do Grupo de Trabalho de Empresas & Direitos Humanos – Promoção do Trabalho Decente e os impactos nos negócios*
DESCRIPTION:Inscrições: Convite enviado pelo Outlook. \nNeste encontro\, o grupo irá dialogar sobre a Promoção do Trabalho Decente e os impactos nos negócios. \n*(Evento exclusivo para empresas associadas)
URL:https://www.ethos.org.br/evento/grupo-de-trabalho-de-direitos-humanos-9/
LOCATION:Online – plataforma Zoom Meeting
CATEGORIES:Grupos de Trabalhos
END:VEVENT
BEGIN:VEVENT
DTSTART;TZID=America/Sao_Paulo:20230418T000000
DTEND;TZID=America/Sao_Paulo:20230418T235959
DTSTAMP:20260424T133109
CREATED:20230404T170459Z
LAST-MODIFIED:20240723T175939Z
UID:10000169-1681776000-1681862399@www.ethos.org.br
SUMMARY:Diálogos Ethos – Conversa com Lideranças 2023 (presencial)*
DESCRIPTION:Aviso: esta agenda destina-se ao encontro presencial. \nNo primeiro encontro de 2023\, as lideranças se debruçarão sobre as tendências apresentadas no Global Risk Report e dialogarão sobre como os riscos globais se refletem no contexto brasileiro\, o papel das lideranças em endereçá-los e o potencial das empresas brasileiras de propor soluções e promover impacto positivo. O evento acontecerá de forma híbrida: virtual com foco nas lideranças a partir do nível gerencial e presencial com foco. \n*(Evento exclusivo para empresas associadas)
URL:https://www.ethos.org.br/evento/dialogos-ethos-conversa-com-liderancas-2023-presencial/
LOCATION:Chácara Santo Antônio
END:VEVENT
BEGIN:VEVENT
DTSTART;TZID=America/Sao_Paulo:20230418T000000
DTEND;TZID=America/Sao_Paulo:20230418T235959
DTSTAMP:20260424T133109
CREATED:20230404T170657Z
LAST-MODIFIED:20240723T175939Z
UID:10000168-1681776000-1681862399@www.ethos.org.br
SUMMARY:Diálogos Ethos – Conversa com Lideranças 2023 (online)*
DESCRIPTION:Aviso: esta agenda destina-se ao encontro online. \nNo primeiro encontro de 2023\, as lideranças se debruçarão sobre as tendências apresentadas no Global Risk Report e dialogarão sobre como os riscos globais se refletem no contexto brasileiro\, o papel das lideranças em endereçá-los e o potencial das empresas brasileiras de propor soluções e promover impacto positivo. O evento acontecerá de forma híbrida: virtual com foco nas lideranças a partir do nível gerencial e presencial com foco. \n*(Evento exclusivo para empresas associadas)
URL:https://www.ethos.org.br/evento/dialogos-ethos-conversa-com-liderancas-2023-online/
LOCATION:Online – plataforma Zoom Meeting
END:VEVENT
BEGIN:VEVENT
DTSTART;TZID=America/Sao_Paulo:20230418T083000
DTEND;TZID=America/Sao_Paulo:20230418T103000
DTSTAMP:20260424T133109
CREATED:20240806T180913Z
LAST-MODIFIED:20240806T180913Z
UID:10003718-1681806600-1681813800@www.ethos.org.br
SUMMARY:Conversa com Lideranças 2023 | Do Global ao Local (presencial)
DESCRIPTION:
URL:https://www.ethos.org.br/evento/conversa-com-liderancas-2023-do-global-ao-local-presencial/
END:VEVENT
BEGIN:VEVENT
DTSTART;TZID=America/Sao_Paulo:20230418T083000
DTEND;TZID=America/Sao_Paulo:20230418T103000
DTSTAMP:20260424T133109
CREATED:20240806T180915Z
LAST-MODIFIED:20240806T180915Z
UID:10003719-1681806600-1681813800@www.ethos.org.br
SUMMARY:Conversa com Lideranças 2023 | Do Global ao Local
DESCRIPTION:
URL:https://www.ethos.org.br/evento/conversa-com-liderancas-2023-do-global-ao-local/
END:VEVENT
BEGIN:VEVENT
DTSTART;TZID=America/Sao_Paulo:20230425T000000
DTEND;TZID=America/Sao_Paulo:20230425T235959
DTSTAMP:20260424T133109
CREATED:20230208T154705Z
LAST-MODIFIED:20241003T163030Z
UID:10000186-1682380800-1682467199@www.ethos.org.br
SUMMARY:Grupo de Trabalho de Meio Ambiente*
DESCRIPTION:Inscrições: convite enviado pelo Outlook. \nDiversidade\, equidade e inclusão são temas protagonistas nos planos de ação de empresas que desejam crescer de maneira sustentável\, diferenciada e competitiva. Ao estimular a diversidade e atuar contra a discriminação\, a organização fortalece o respeito\, o reconhecimento de suas particularidades e o estímulo à criatividade e cooperação. O workshop oferece ferramentas de capacitação que auxiliem profissionais e empresas na implantação e fortalecimento de programas de diversidade. \n*(Evento exclusivo para empresas associadas)
URL:https://www.ethos.org.br/evento/grupo-de-trabalho-de-meio-ambiente-30/
CATEGORIES:Grupos de Trabalhos
END:VEVENT
BEGIN:VEVENT
DTSTART;TZID=America/Sao_Paulo:20230425T000000
DTEND;TZID=America/Sao_Paulo:20230425T235959
DTSTAMP:20260424T133109
CREATED:20230317T181406Z
LAST-MODIFIED:20241003T163646Z
UID:10000172-1682380800-1682467199@www.ethos.org.br
SUMMARY:Curso | Gestão de Riscos ASG-ESG no Contexto da Sustentabilidade
DESCRIPTION:
URL:https://www.ethos.org.br/evento/curso-gestao-de-riscos-asg-esg-no-contexto-da-sustentabilidade/
LOCATION:Online – plataforma Zoom Meeting
CATEGORIES:Cursos
END:VEVENT
BEGIN:VEVENT
DTSTART;TZID=America/Sao_Paulo:20230425T183000
DTEND;TZID=America/Sao_Paulo:20230428T213000
DTSTAMP:20260424T133109
CREATED:20240806T180947Z
LAST-MODIFIED:20240806T180947Z
UID:10003732-1682447400-1682717400@www.ethos.org.br
SUMMARY:Gestão de Riscos ASG-ESG no Contexto da Sustentabilidade 2023
DESCRIPTION:
URL:https://www.ethos.org.br/evento/gestao-de-riscos-asg-esg-no-contexto-da-sustentabilidade-2023/
END:VEVENT
BEGIN:VEVENT
DTSTART;TZID=America/Sao_Paulo:20230427T000000
DTEND;TZID=America/Sao_Paulo:20230427T235959
DTSTAMP:20260424T133109
CREATED:20230208T140705Z
LAST-MODIFIED:20240723T175944Z
UID:10000199-1682553600-1682639999@www.ethos.org.br
SUMMARY:ESG na prática
DESCRIPTION:Encontro temático para trazer alinhamento conceitual inicial sobre os temas da agenda de desenvolvimento sustentável com foco na abordagem ESG. O objetivo é proporcionar aprendizado\, visibilidade de práticas empresariais e networking\, fornecendo experiência prática a partir dos Indicadores Ethos ESG. \nInformações sujeitas a alterações.
URL:https://www.ethos.org.br/evento/esg-na-pratica-9/
END:VEVENT
BEGIN:VEVENT
DTSTART;TZID=America/Sao_Paulo:20230428T000000
DTEND;TZID=America/Sao_Paulo:20230428T235959
DTSTAMP:20260424T133109
CREATED:20230329T131141Z
LAST-MODIFIED:20240723T175940Z
UID:10000171-1682640000-1682726399@www.ethos.org.br
SUMMARY:Embarque no Ethos! | Encontro de Associadas*
DESCRIPTION:Nossas associadas tem um encontro marcado para aproveitar melhor a sua experiência em nosso Ecossistema\, se engajar nas ações e multiplica-las nas ações que realiza em sua organização. Um encontro para quem acabou de chegar\, para celebrar quem segue apoiando nosso trabalho e para quem quer se atualizar e participar mais! \n*(Encontro exclusivo para empresas associadas)
URL:https://www.ethos.org.br/evento/embarque-no-ethos-encontro-de-associadas-11/
LOCATION:Online – plataforma Microsoft Teams
END:VEVENT
BEGIN:VEVENT
DTSTART;TZID=America/Sao_Paulo:20230428T093000
DTEND;TZID=America/Sao_Paulo:20230428T110000
DTSTAMP:20260424T133109
CREATED:20240806T180906Z
LAST-MODIFIED:20240806T180906Z
UID:10003715-1682674200-1682679600@www.ethos.org.br
SUMMARY:Embarque  no Ethos I Abril 2023
DESCRIPTION:
URL:https://www.ethos.org.br/evento/embarque-no-ethos-i-abril-2023/
END:VEVENT
END:VCALENDAR