BEGIN:VCALENDAR
VERSION:2.0
PRODID:-//Instituto Ethos - ECPv6.15.14//NONSGML v1.0//EN
CALSCALE:GREGORIAN
METHOD:PUBLISH
X-ORIGINAL-URL:https://www.ethos.org.br
X-WR-CALDESC:Eventos para Instituto Ethos
REFRESH-INTERVAL;VALUE=DURATION:PT1H
X-Robots-Tag:noindex
X-PUBLISHED-TTL:PT1H
BEGIN:VTIMEZONE
TZID:America/Sao_Paulo
BEGIN:STANDARD
TZOFFSETFROM:-0300
TZOFFSETTO:-0300
TZNAME:-03
DTSTART:20230101T000000
END:STANDARD
END:VTIMEZONE
BEGIN:VEVENT
DTSTART;TZID=America/Sao_Paulo:20240128T000000
DTEND;TZID=America/Sao_Paulo:20240128T235959
DTSTAMP:20260423T170310
CREATED:20230410T133121Z
LAST-MODIFIED:20240723T175939Z
UID:10000167-1706400000-1706486399@www.ethos.org.br
SUMMARY:Dia Nacional do combate ao trabalho escravo
DESCRIPTION:Data importante para sua empresa promover reflexões com seus stakeholders e dar visibilidade para ações relacionadas ao tema.
URL:https://www.ethos.org.br/evento/dia-nacional-do-combate-ao-trabalho-escravo-2/
END:VEVENT
BEGIN:VEVENT
DTSTART;TZID=America/Sao_Paulo:20240129T000000
DTEND;TZID=America/Sao_Paulo:20240129T235959
DTSTAMP:20260423T170310
CREATED:20230410T133310Z
LAST-MODIFIED:20240723T175939Z
UID:10000166-1706486400-1706572799@www.ethos.org.br
SUMMARY:Dia Nacional da Visibilidade das Pessoas Travestis e Trans
DESCRIPTION:Data importante para sua empresa promover reflexões com seus stakeholders e dar visibilidade para ações relacionadas ao tema.
URL:https://www.ethos.org.br/evento/dia-nacional-da-visibilidade-das-pessoas-travestis-e-trans-2/
END:VEVENT
BEGIN:VEVENT
DTSTART;TZID=America/Sao_Paulo:20240131T000000
DTEND;TZID=America/Sao_Paulo:20240131T235959
DTSTAMP:20260423T170310
CREATED:20231205T145254Z
LAST-MODIFIED:20240723T175921Z
UID:10000062-1706659200-1706745599@www.ethos.org.br
SUMMARY:Embarque no Ethos! | Encontro de Associadas*
DESCRIPTION:Um encontro para as novas associadas conhecerem nossos projetos e atividades em Direitos Humanos\, Integridade e Combate à Corrupção\, Meio Ambiente e Gestão Sustentável e como esperamos que a organização se engaje e participe! \n*Evento exclusivo para associadas Ethos
URL:https://www.ethos.org.br/evento/embarque-no-ethos-encontro-de-associadas-18/
LOCATION:Online – plataforma Microsoft Teams
END:VEVENT
BEGIN:VEVENT
DTSTART;TZID=America/Sao_Paulo:20240131T090000
DTEND;TZID=America/Sao_Paulo:20240131T103000
DTSTAMP:20260423T170310
CREATED:20240806T180727Z
LAST-MODIFIED:20240806T180727Z
UID:10003671-1706691600-1706697000@www.ethos.org.br
SUMMARY:Embarque no Ethos | Encontro com associadas - Janeiro/2024
DESCRIPTION:
URL:https://www.ethos.org.br/evento/embarque-no-ethos-encontro-com-associadas-janeiro-2024/
END:VEVENT
END:VCALENDAR