BEGIN:VCALENDAR
VERSION:2.0
PRODID:-//Instituto Ethos - ECPv6.15.14//NONSGML v1.0//EN
CALSCALE:GREGORIAN
METHOD:PUBLISH
X-WR-CALNAME:Instituto Ethos
X-ORIGINAL-URL:https://www.ethos.org.br
X-WR-CALDESC:Eventos para Instituto Ethos
REFRESH-INTERVAL;VALUE=DURATION:PT1H
X-Robots-Tag:noindex
X-PUBLISHED-TTL:PT1H
BEGIN:VTIMEZONE
TZID:America/Sao_Paulo
BEGIN:STANDARD
TZOFFSETFROM:-0300
TZOFFSETTO:-0300
TZNAME:-03
DTSTART:20230101T000000
END:STANDARD
END:VTIMEZONE
BEGIN:VEVENT
DTSTART;TZID=America/Sao_Paulo:20240202T000000
DTEND;TZID=America/Sao_Paulo:20240202T235959
DTSTAMP:20260423T150014
CREATED:20230410T133520Z
LAST-MODIFIED:20240723T175939Z
UID:10000165-1706832000-1706918399@www.ethos.org.br
SUMMARY:Dia Nacional de Visibilidade\, Luta e Resistência de Homens Trans e Transmasculinos no Brasil
DESCRIPTION:Data importante para sua empresa promover reflexões com seus stakeholders e dar visibilidade para ações relacionadas ao tema.
URL:https://www.ethos.org.br/evento/dia-nacional-de-visibilidade-luta-e-resistencia-de-homens-trans-e-transmasculinos-no-brasil-2/
END:VEVENT
BEGIN:VEVENT
DTSTART;TZID=America/Sao_Paulo:20240207T000000
DTEND;TZID=America/Sao_Paulo:20240207T235959
DTSTAMP:20260423T150014
CREATED:20230410T133819Z
LAST-MODIFIED:20240723T175938Z
UID:10000164-1707264000-1707350399@www.ethos.org.br
SUMMARY:Dia Nacional de Luta dos Povos Indígenas
DESCRIPTION:Data importante para sua empresa promover reflexões com seus stakeholders e dar visibilidade para ações relacionadas ao tema.
URL:https://www.ethos.org.br/evento/dia-nacional-de-luta-dos-povos-indigenas-2/
END:VEVENT
BEGIN:VEVENT
DTSTART;TZID=America/Sao_Paulo:20240220T000000
DTEND;TZID=America/Sao_Paulo:20240220T235959
DTSTAMP:20260423T150014
CREATED:20230410T133901Z
LAST-MODIFIED:20240723T175938Z
UID:10000163-1708387200-1708473599@www.ethos.org.br
SUMMARY:Dia Mundial da Justiça Social
DESCRIPTION:Data importante para sua empresa promover reflexões com seus stakeholders e dar visibilidade para ações relacionadas ao tema.
URL:https://www.ethos.org.br/evento/dia-mundial-da-justica-social-2/
END:VEVENT
BEGIN:VEVENT
DTSTART;TZID=America/Sao_Paulo:20240220T000000
DTEND;TZID=America/Sao_Paulo:20240220T235959
DTSTAMP:20260423T150014
CREATED:20240205T164420Z
LAST-MODIFIED:20240723T175917Z
UID:10000038-1708387200-1708473599@www.ethos.org.br
SUMMARY:Webinar: Perfil 1100 - A Diversidade no Mercado de Trabalho no Brasil
DESCRIPTION:Gostaríamos de convidar a sua empresa para participar de um evento muito importante na agenda de diversidade\, equidade e inclusão no Brasil\, o Webinar: Perfil 1100 – A Diversidade no Mercado de Trabalho no Brasil é um evento dedicado a fortalecer o engajamento e participação de empresas no Perfil Social\, Racial e de Gênero das 1.100 Maiores Empresas do Brasil e suas Ações Afirmativas – Pesquisa 2023/2024 o maior estudo sobre diversidade e inclusão do nosso país. O encontro será no dia 20/02 às 10h via Zoom\, sendo gratuito e aberto para todas as empresas.
URL:https://www.ethos.org.br/evento/webinar-perfil-1100-a-diversidade-no-mercado-de-trabalho-no-brasil/
LOCATION:Online – plataforma Zoom Meeting
END:VEVENT
BEGIN:VEVENT
DTSTART;TZID=America/Sao_Paulo:20240222T000000
DTEND;TZID=America/Sao_Paulo:20240222T235959
DTSTAMP:20260423T150014
CREATED:20240116T164324Z
LAST-MODIFIED:20241003T162955Z
UID:10000048-1708560000-1708646399@www.ethos.org.br
SUMMARY:Grupo de Trabalho de Direitos Humanos - Planejamento 2024*
DESCRIPTION:Inscrição: Convite enviado via Outlook. \nNeste encontro\, falaremos sobre o contexto político\, agendas prioritárias de Direitos Humanos para o ano de 2024 e apresentaremos o nosso plano de ação do GT para este ano. \n*Evento exclusivo para associadas Ethos.
URL:https://www.ethos.org.br/evento/grupo-de-trabalho-de-direitos-humanos-19/
LOCATION:Online – plataforma Zoom Meeting
CATEGORIES:Grupos de Trabalhos
END:VEVENT
BEGIN:VEVENT
DTSTART;TZID=America/Sao_Paulo:20240222T083000
DTEND;TZID=America/Sao_Paulo:20240229T080000
DTSTAMP:20260423T150014
CREATED:20240806T180626Z
LAST-MODIFIED:20260410T141230Z
UID:10003646-1708590600-1709193600@www.ethos.org.br
SUMMARY:Oficina Indicadores Ethos ASG-ABRADEE I Empresas
DESCRIPTION:
URL:https://www.ethos.org.br/evento/oficina-indicadores-ethos-asg-abradee-i-empresas/
END:VEVENT
BEGIN:VEVENT
DTSTART;TZID=America/Sao_Paulo:20240226T000000
DTEND;TZID=America/Sao_Paulo:20240226T235959
DTSTAMP:20260423T150014
CREATED:20240116T171215Z
LAST-MODIFIED:20241003T162954Z
UID:10000044-1708905600-1708991999@www.ethos.org.br
SUMMARY:Grupo de Trabalho de Meio Ambiente*
DESCRIPTION:Inscrição: Convite enviado pelo Outlook. \nNo primeiro encontro do Grupo de Trabalho de Meio Ambiente em 2024\, receberemos Karen Tanaka\, gerente de sustentabilidade da Ambev\, para comentar sobre os principais resultados da COP28 de Dubai e os principais temas a serem trabalhados pelas empresas na agenda de Meio Ambiente neste ano. O encontro também se dedicará à consolidação do planejamento anual do grupo. \n*Atividade exclusiva para associadas Ethos.
URL:https://www.ethos.org.br/evento/grupo-de-trabalho-de-meio-ambiente-33/
LOCATION:Online – plataforma Zoom Meeting
CATEGORIES:Grupos de Trabalhos
END:VEVENT
BEGIN:VEVENT
DTSTART;TZID=America/Sao_Paulo:20240227T000000
DTEND;TZID=America/Sao_Paulo:20240227T235959
DTSTAMP:20260423T150014
CREATED:20240116T170042Z
LAST-MODIFIED:20240723T175918Z
UID:10000046-1708992000-1709078399@www.ethos.org.br
SUMMARY:Conversa com Lideranças: Tendências ASG para 2024 a partir do relatório de Risco Globais do Fórum Econômico Mundial Global (Presencial)*
DESCRIPTION:Em 2024 o Conversa com Lideranças trará discussões ainda mais estratégicas! No nosso primeiro encontro traremos as Tendências ASG para 2024 a partir do relatório de Risco Globais do Fórum Econômico Mundial Global. \nEste evento é exclusivo e direcionado para lideranças C-Level\, e será uma oportunidade única para que você e sua empresa possam participar de discussões relevantes com lideranças empresariais que estão comprometidas com a sustentabilidade e a responsabilidade social empresarial. Você terá a oportunidade de participar de um diálogo de alto nível\, atualizar-se sobre os desafios atuais e as oportunidades para o futuro\, além se conectar a profissionais engajados com as mesmas causas e interesses. \nAs lideranças da sua organização não podem perder a oportunidade de participar desse evento exclusivo! \nInscrições limitadas\, faça a sua agora mesmo! \n*Evento exclusivo para associadas Ethos.
URL:https://www.ethos.org.br/evento/conversa-com-liderancas-tendencias-asg-para-2024-a-partir-do-relatorio-de-risco-globais-do-forum-economico-mundial-global-presencial/
LOCATION:Edifício EZ Towers – Rua Arquiteto Olavo Redig de Campos\, 105\, torre B\, 27º andar. Chácara Santo Antonio. São Paulo/SP
END:VEVENT
BEGIN:VEVENT
DTSTART;TZID=America/Sao_Paulo:20240227T000000
DTEND;TZID=America/Sao_Paulo:20240227T235959
DTSTAMP:20260423T150014
CREATED:20240116T170322Z
LAST-MODIFIED:20240723T175918Z
UID:10000045-1708992000-1709078399@www.ethos.org.br
SUMMARY:Conversa com Lideranças: Tendências ASG para 2024 a partir do relatório de Risco Globais do Fórum Econômico Mundial Global (Virtual)*
DESCRIPTION:Em 2024 o Conversa com Lideranças trará discussões ainda mais estratégicas! No nosso primeiro encontro traremos as Tendências ASG para 2024 a partir do relatório de Risco Globais do Fórum Econômico Mundial Global. \nEste evento é exclusivo e direcionado para lideranças a partir do nível gerencial\, e será uma oportunidade única para que você e sua empresa possam participar de discussões relevantes com lideranças empresariais que estão comprometidas com a sustentabilidade e a responsabilidade social empresarial. Você terá a oportunidade de participar de um diálogo de alto nível\, atualizar-se sobre os desafios atuais e as oportunidades para o futuro\, além se conectar a profissionais engajados com as mesmas causas e interesses. \nAs lideranças da sua organização não podem perder a oportunidade de participar desse evento exclusivo! \nInscrições limitadas\, faça a sua agora mesmo! \n*Evento exclusivo para associadas Ethos.
URL:https://www.ethos.org.br/evento/conversa-com-liderancas-tendencias-asg-para-2024-a-partir-do-relatorio-de-risco-globais-do-forum-economico-mundial-global-virtual/
LOCATION:Sede Marsh McLennan – Av. Roque Petroni Júnior\, 1464 – Jardim das Acacias\, São Paulo.
END:VEVENT
BEGIN:VEVENT
DTSTART;TZID=America/Sao_Paulo:20240227T083000
DTEND;TZID=America/Sao_Paulo:20240227T110000
DTSTAMP:20260423T150014
CREATED:20240806T180637Z
LAST-MODIFIED:20240806T180637Z
UID:10003651-1709022600-1709031600@www.ethos.org.br
SUMMARY:Conversa com Lideranças | Tendências ASG para 2024 (presencial)
DESCRIPTION:
URL:https://www.ethos.org.br/evento/conversa-com-liderancas-tendencias-asg-para-2024-presencial/
END:VEVENT
BEGIN:VEVENT
DTSTART;TZID=America/Sao_Paulo:20240227T090000
DTEND;TZID=America/Sao_Paulo:20240227T110000
DTSTAMP:20260423T150014
CREATED:20240806T180635Z
LAST-MODIFIED:20240806T180635Z
UID:10003650-1709024400-1709031600@www.ethos.org.br
SUMMARY:Conversa com Lideranças | Tendências ASG para 2024 (virtual)
DESCRIPTION:
URL:https://www.ethos.org.br/evento/conversa-com-liderancas-tendencias-asg-para-2024-virtual/
END:VEVENT
BEGIN:VEVENT
DTSTART;TZID=America/Sao_Paulo:20240227T183000
DTEND;TZID=America/Sao_Paulo:20240307T210000
DTSTAMP:20260423T150014
CREATED:20240806T180633Z
LAST-MODIFIED:20240806T180633Z
UID:10003649-1709058600-1709845200@www.ethos.org.br
SUMMARY:Capacitação ASG | Avaliadores Prêmio ABRADEE
DESCRIPTION:
URL:https://www.ethos.org.br/evento/capacitacao-asg-avaliadores-premio-abradee/
END:VEVENT
BEGIN:VEVENT
DTSTART;TZID=America/Sao_Paulo:20240228T090000
DTEND;TZID=America/Sao_Paulo:20240228T103000
DTSTAMP:20260423T150014
CREATED:20240806T180725Z
LAST-MODIFIED:20240806T180725Z
UID:10003670-1709110800-1709116200@www.ethos.org.br
SUMMARY:Embarque no Ethos | Encontro com associadas - Fevereiro/2024
DESCRIPTION:
URL:https://www.ethos.org.br/evento/embarque-no-ethos-encontro-com-associadas-fevereiro-2024/
END:VEVENT
BEGIN:VEVENT
DTSTART;TZID=America/Sao_Paulo:20240229T000000
DTEND;TZID=America/Sao_Paulo:20240229T235959
DTSTAMP:20260423T150014
CREATED:20240116T165012Z
LAST-MODIFIED:20240723T175918Z
UID:10000047-1709164800-1709251199@www.ethos.org.br
SUMMARY:Embarque no Ethos! | Encontro de Associadas*
DESCRIPTION:Um encontro para as novas associadas conhecerem nossos projetos e atividades em Direitos Humanos\, Integridade e Combate à Corrupção\, Meio Ambiente e Gestão Sustentável e como esperamos que a organização se engaje e participe! \n*Evento exclusivo para associadas Ethos
URL:https://www.ethos.org.br/evento/embarque-no-ethos-encontro-de-associadas-19/
LOCATION:Online – plataforma Microsoft Teams
END:VEVENT
END:VCALENDAR