BEGIN:VCALENDAR
VERSION:2.0
PRODID:-//Instituto Ethos - ECPv6.15.14//NONSGML v1.0//EN
CALSCALE:GREGORIAN
METHOD:PUBLISH
X-WR-CALNAME:Instituto Ethos
X-ORIGINAL-URL:https://www.ethos.org.br
X-WR-CALDESC:Eventos para Instituto Ethos
REFRESH-INTERVAL;VALUE=DURATION:PT1H
X-Robots-Tag:noindex
X-PUBLISHED-TTL:PT1H
BEGIN:VTIMEZONE
TZID:America/Sao_Paulo
BEGIN:STANDARD
TZOFFSETFROM:-0300
TZOFFSETTO:-0300
TZNAME:-03
DTSTART:20230101T000000
END:STANDARD
END:VTIMEZONE
BEGIN:VEVENT
DTSTART;TZID=America/Sao_Paulo:20241203T000000
DTEND;TZID=America/Sao_Paulo:20241203T235959
DTSTAMP:20260422T182749
CREATED:20220317T195801Z
LAST-MODIFIED:20240723T180009Z
UID:10000353-1733184000-1733270399@www.ethos.org.br
SUMMARY:Dia Internacional da Pessoa com Deficiência
DESCRIPTION:Data importante para sua empresa promover reflexões com seus stakeholders e dar visibilidade para ações relacionadas ao tema.
URL:https://www.ethos.org.br/evento/dia-internacional-da-pessoa-com-deficiencia/
END:VEVENT
BEGIN:VEVENT
DTSTART;TZID=America/Sao_Paulo:20241203T183000
DTEND;TZID=America/Sao_Paulo:20241203T213000
DTSTAMP:20260422T182749
CREATED:20240806T180645Z
LAST-MODIFIED:20250203T065433Z
UID:10003655-1733250600-1733261400@www.ethos.org.br
SUMMARY:Cultura de Integridade para Líderes e Futuros Líderes - 2024
DESCRIPTION:Os cursos são abertos a todos os públicos. Empresas associadas e estudantes podem usufruir de descontos especiais. As capacitações estão disponíveis para qualquer pessoa ou organização interessada. \n\n\n\nO sucesso de uma organização a longo prazo está pautado em pilares de ética e integridade. Conhecer a legislação não é suficiente\, é preciso praticá-la e ir além\, implementando na cultura da empresa premissas fortes que ajudem a desenvolver negócios\, ambientes e times que se desenvolvam nessa atmosfera. \n\n\n\nQuer saber mais? Nós podemos te ajudar!  \n\n\n\nUma gestão ética e transparente e uma governança estruturada com princípios de integridade proporciona mais eficiência para os negócios\, e estimula a concorrência leal\, favorecendo um ambiente de mercado propício para negócios sustentáveis e responsáveis. Atuar na promoção da integridade e combate à corrupção não é só mais um diferencial competitivo\, é algo a ser feito para se adequar a atual legislação anticorrupção brasileira\, que impõe às empresas a necessidade de fazer a gestão de riscos e traz desafios para o desenvolvimento de uma boa governança. \n\n\n\nOs requisitos da Lei Anticorrupção brasileira demonstram a importância de não somente observar e cumprir as disposições legais aplicáveis aos negócios da empresa\, mas de criar mecanismos para que esta cultura de integridade se torne efetiva. \n\n\n\nE é através do sistema de Gestão de Pessoas que esses valores podem ser implementados e fortalecidos na cultura organizacional de uma organização. Esse sistema abrange todos os processos que implicam decisões sobre as pessoas\, como contratação\, demissão\, como é composto o modelo de participação dos lucros e distribuição de bônus\, quais critérios e avaliação de desempenho\, entre outros.  \n\n\n\nDessa forma\, o sistema de gestão de pessoas pode contribuir na consolidação da cultura de integridade das organizações\, através de mudanças nos processos e na construção de uma comunicação transparente e eficaz\, que fortaleça e transmita para as pessoas a importância desses valores. \n\n\n\nO curso ”Cultura de Integridade na Gestão de Pessoas” busca oferecer ferramentas e soluções para que profissionais consigam transformar e consolidar gestões de negócio com foco em ética\, integridade e sustentabilidade.  \n\n\n\nPara quem é?  \n\n\n\nProfissionais das áreas de ética\, integridade e recursos humanos\, que desejam ampliar a sua participação estratégica na construção de uma cultura de integridade. \n\n\n\nDinâmica do curso:  \n\n\n\nO curso será realizado no modelo de workshop\, com duração de 3h. Você contribuirá para a construção do conteúdo\, participando ativamente dos debates\, e oferecendo proposições para questões trazidas pelo instrutor e pelo grupo.  \n\n\n\nSe participar do nosso curso\, você… \n\n\n\n\nDesenvolverá habilidades e competências para a consolidação de uma cultura de integridade na organização através da gestão de pessoas; \n\n\n\nAprenderá soluções voltadas para gestão de pessoas e como implementá-las na sua empresa ou organização;\n\n\n\nConstruirá uma rede de contatos onde poderá compartilhar experiências\, debater estratégias e trocar conhecimento; \n\n\n\nContará com mais um diferencial para complementar o seu currículo\, tornando-o competitivo em relação às demandas do mercado. \n\n\n\n\nPrograma \n\n\n\nO conteúdo  será dividido em 2 momentos:  \n\n\n\n\nComo o atual cenário das organizações pode aumentar o risco de decisões antiéticas?\n\n\n\n\n\nA pressão no contexto pessoal.\n\n\n\nA pressão do contexto institucional.\n\n\n\nA pressão do tempo\n\n\n\n\n\nSoluções de Gestão de Pessoas/GP para fomentar a cultura de integridade nas empresas\n\n\n\n\n\nSoluções de GP no âmbito pessoal\n\n\n\nSoluções de GP no âmbito organizacional\n\n\n\nSoluções de GP no âmbito das lideranças\n\n\n\n\nQuem te conduzirá nessa jornada: \n\n\n\n\n\n\n\nFábio Risério \n\n\n\nGraduado em Relações Públicas pela FAAC/UNESP\, com Especialização em Comunicação Empresarial pela ECA/USP\, MBA em Gestão de Sustentabilidade pela FEA/USP e Especialização em Inteligência de Mercado pela FIA/USP. Certified Compliance Officer pela Legal\, Ethics & Compliance. Professor das disciplinas de Negócios e Organizações Sustentáveis pelo Programa de Especialização de Gestão em Negócios\, pelo Programa de Especialização em Gestão de Negócios SEST/SENAT e pelo Programa de Especialização em Gestão de Negócios Imobiliários da FDC. Leciona também as disciplinas de Ética Empresarial e Compliance pela FIA e pela PUC Campinas/SP e facilita diversos cursos de integridade pelo Instituto ARC e pelo Instituto Ethos. \n\n\n\nProfissional com 20 anos de experiência na área de integridade e sustentabilidade em organizações como ONU\, Petrobras\, Grupo Promon\, Usiminas\, Nova Engevix\, Alphaville Urbanismo\, Câmara Brasileira da Indústria da Construção/CBIC\, entre outras. \n\n\n\nEm 2016\, passou a atuar como sócio-diretor da consultoria Além das Palavras: Negócios Éticos e Sustentáveis. \n\n\n\nInvestimento \n\n\n\nR$480\,00 (estudantes contam com 50% de desconto). \n\n\n\nFormas de pagamento \n\n\n\nO pagamento poderá ser feito por boleto bancário\, transferência bancária\, além de  cartão de crédito através da PagSeguro. Cada participante receberá a confirmação da inscrição por e-mail logo após a comprovação do pagamento. \n\n\n\nBenefícios para associadas Ethos  \n\n\n\nCategoria Institucional \n\n\n\n20 vagas em cursos: inscrição gratuita para 20 colaboradores nos cursos\, workshops e/ou eventos de 2024\, levando em consideração a quantidade total de cursos\, workshops e/ou eventos oferecidos pelo Instituto Ethos.  \n\n\n\nDesconto de 75% para demais participantes.    \n\n\n\nCategoria Vivência  \n\n\n\n17 vagas em cursos: inscrição gratuita para 17 colaboradores nos cursos\, workshops e/ou eventos de 2024\, levando em consideração a quantidade total de cursos\, workshops e eventos oferecidos pelo Instituto Ethos. \n\n\n\nDesconto de 75% para demais participantes.    \n\n\n\nCategoria Essencial \n\n\n\n10 vagas em cursos: inscrição gratuita para 10 colaboradores nos cursos\, workshops e/ou eventos de 2024\, levando em consideração a quantidade total de cursos\, workshops e eventos oferecidos pelo Instituto Ethos. \n\n\n\nDesconto de 25% para demais participantes.    \n\n\n\nCategoria Conexão \n\n\n\nDesconto de 15% para todes es participantes. Não possui inscrição gratuita para colaboradores. \n\n\n\n*Consulte condições: cursos@ethos.org.br \n\n\n\nCertificado \n\n\n\nSerá disponibilizado certificado eletrônico de participação para as pessoas que obtiverem frequência mínima de 90% da carga horária total.Os certificados serão enviados por e-mail em formato eletrônico (PDF). \n\n\n\nCondições (política) do evento \n\n\n\nOs cursos e workshops oferecidos pelo Instituto Ethos seguem as diretrizes e regras estabelecidas na política de cursos. \n\n\n\nVeja as condições gerais e a política de cancelamento do Instituto Ethos. \n\n\n\nInscreva-se agora!Em caso de dúvidas\, entre em contato: cursos@ethos.org.br \n\n\n\n \n\n\n\n\nSaiba mais
URL:https://www.ethos.org.br/evento/o-papel-da-lideranca-na-cultura-de-integridade-2024/
CATEGORIES:Cursos
END:VEVENT
BEGIN:VEVENT
DTSTART;TZID=America/Sao_Paulo:20241205T000000
DTEND;TZID=America/Sao_Paulo:20241205T235959
DTSTAMP:20260422T182749
CREATED:20220317T195740Z
LAST-MODIFIED:20240723T180009Z
UID:10000354-1733356800-1733443199@www.ethos.org.br
SUMMARY:Dia Internacional do Voluntariado
DESCRIPTION:Data importante para sua empresa promover reflexões com seus stakeholders e dar visibilidade para ações relacionadas ao tema.
URL:https://www.ethos.org.br/evento/dia-internacional-do-voluntariado/
END:VEVENT
BEGIN:VEVENT
DTSTART;TZID=America/Sao_Paulo:20241205T090000
DTEND;TZID=America/Sao_Paulo:20241205T120000
DTSTAMP:20260422T182749
CREATED:20240806T180643Z
LAST-MODIFIED:20241106T155549Z
UID:10003654-1733389200-1733400000@www.ethos.org.br
SUMMARY:Trabalhando a cultura organizacional e integridade em negócios - 2024
DESCRIPTION:Os cursos são abertos a todos os públicos. Empresas associadas e estudantes podem usufruir de descontos especiais. As capacitações estão disponíveis para qualquer pessoa ou organização interessada. \n\n\n\nO mercado de trabalho é complexo e mutável. Enquanto adentramos em uma nova era nos negócios\, as organizações têm de achar o equilíbrio entre a construção de uma cultura organizacional que acompanha os movimentos sociais e políticos\, mantendo princípios de ética e integridade criteriosos.Para criar\, implementar e fortalecer uma gestão que atenda a todas essas variáveis\, é preciso conhecer as ferramentas certas e executar um plano de ação estratégico.  \n\n\n\nQuer saber como? Nós podemos te ajudar!  \n\n\n\nA prosperidade sustentável de organizações e países está diretamente vinculada ao nível de confiança entre agentes e\, por conseguinte\, à cultura organizacional vigente.  \n\n\n\nTer uma gestão ética e transparente e estruturar sua governança com princípios de integridade proporciona mais eficiência para as empresas e estimula a concorrência leal\, favorecendo um ambiente de mercado propício para negócios sustentáveis e responsáveis.  \n\n\n\nNa mesma medida\, a ausência de uma cultura de integridade causa prejuízos imensos: os custos diretos e indiretos de ambientes de baixa confiança limitam a capacidade das empresas prosperarem\, dificultando ainda mais a entrada da economia brasileira na 4ª revolução industrial – nada destruiu mais ativos do que a corrupção. \n\n\n\nAções eficazes e duradouras passam por mudanças culturais nas empresas\, pela internalização da integridade à cultura organizacional\, partindo da identificação dos fatores envolvidos até o uso de ferramental adequado para ampliação dos níveis de confiança\, de tal forma que a compliance seja aplicada cada vez mais como uma expressão do corpo da empresa\, e não como um processo normativo imposto de cima para baixo. \n\n\n\nAtravés de um conteúdo que mescla teoria\, discussões e estudo de casos\, o curso ”Cultura de Integridade: Trabalhando a Cultura Organizacional e Integridade em Negócios”  \n\n\n\nPara quem é?  \n\n\n\nProfissionais das áreas de recursos humanos\, consultores e líderes que desejam ampliar a sua participação estratégica na construção de uma cultura de integridade associada ao desenvolvimento de negócios.  \n\n\n\nDinâmica do curso:  \n\n\n\nO curso terá duração de 3 horas (com um intervalo de 10 minutos) e nesse período\, as pessoas participarão de atividades individuais e em grupo em formato de exposição dialogada\, exercícios\, leituras e estudo de casos. \n\n\n\nSe participar do nosso curso\, você… \n\n\n\n\nEstará apte a diagnosticar fatores-chave que promovem a integridade no contexto da cultura organizacional\, podendo sugerir abordagens para promover iniciativas dentro da sua empresa; \n\n\n\nEntenderá  como o cenário das organizações pode aumentar o risco de decisões antiéticas; \n\n\n\nTerá acesso às melhores ferramentas para ampliar os níveis de confiança nas organizações; \n\n\n\nPoderá analisar estudos de caso com o auxílio de um profissional\, tirando suas dúvidas e embasando seus estudos. \n\n\n\n\nPrograma \n\n\n\n\nIntrodução e contexto atual\n\n\n\nIntegridade e cultura organizacional\n\n\n\nEstudo de Caso\n\n\n\nExercício de diagnóstico\n\n\n\nIndicadores de desenvolvimento ético\n\n\n\nTrabalhando a mudança cultural\n\n\n\nAvaliação e encerramento\n\n\n\n\nQuem te conduzirá nessa jornada: \n\n\n\n\n\n\n\nÁureo Gaspar \n\n\n\nConsultor com 27 anos de experiência\, atuando junto a empresas\, governo e organizações sociais em diagnóstico empresarial\, gestão da mudança\, sustentabilidade\, estratégia e fortalecimento da maturidade em negócios. É sócio da Cultura\, Transição e Integridade Educação e Consultoria. Graduado e pós- graduado em Administração de Empresas pela EAESP-FGV\, mestre e pesquisador em Planejamento Organizacional pela PUC-SP.Dedica-se a ampliar a sustentabilidade e integridade na relação entre valores e cultura organizacional através de cursos\, oficinas e projetos de consultoria junto a empresas\, grupos e redes de aprendizagem e colaboração.  \n\n\n\nInvestimento \n\n\n\nR$480\,00 (50% de desconto para estudantes). \n\n\n\nFormas de pagamento \n\n\n\nO pagamento poderá ser feito por boleto bancário\, transferência bancária\, além de  cartão de crédito através da PagSeguro. \n\n\n\nCada participante receberá a confirmação da inscrição por e-mail logo após a comprovação do pagamento. \n\n\n\nBenefícios para associadas Ethos  \n\n\n\nCategoria Institucional \n\n\n\n20 vagas em cursos: inscrição gratuita para 20 colaboradores nos cursos\, workshops e/ou eventos de 2024 levando em consideração a quantidade total de cursos\, workshops e/ou eventos oferecidos pelo Instituto Ethos.  \n\n\n\nDesconto de 75% para demais participantes.    \n\n\n\nCategoria Vivência  \n\n\n\n17 vagas em cursos: inscrição gratuita para 17 colaboradores nos cursos\, workshops e/ou eventos de 2024\, levando em consideração a quantidade total de cursos\, workshops e eventos oferecidos pelo Instituto Ethos. \n\n\n\nDesconto de 75% para demais participantes.    \n\n\n\nCategoria Essencial \n\n\n\n10 vagas em cursos: inscrição gratuita para 10 colaboradores nos cursos\, workshops e/ou eventos de 2024\, levando em consideração a quantidade total de cursos\, workshops e eventos oferecidos pelo Instituto Ethos. \n\n\n\nDesconto de 25% para demais participantes.    \n\n\n\nCategoria Conexão \n\n\n\nDesconto de 15% para todes es participantes. Não possui inscrição gratuita para colaboradores. \n\n\n\n*Consulte condições: cursos@ethos.org.br \n\n\n\nCertificado \n\n\n\nSerá disponibilizado certificado eletrônico de participação para as pessoas que obtiverem frequência mínima de 90% da carga horária total.Os certificados serão enviados por e-mail em formato eletrônico (PDF). \n\n\n\nCondições (política) do evento \n\n\n\nOs cursos e workshops oferecidos pelo Instituto Ethos seguem as diretrizes e regras estabelecidas na política de cursos. Consulte condições.  \n\n\n\nEm caso de dúvidas\, entre em contato: cursos@ethos.org.br \n\n\n\n\nSaiba mais
URL:https://www.ethos.org.br/evento/trabalhando-a-cultura-organizacional-e-integridade-em-negocios-2024/
CATEGORIES:Cursos
END:VEVENT
BEGIN:VEVENT
DTSTART;TZID=America/Sao_Paulo:20241205T140000
DTEND;TZID=America/Sao_Paulo:20241205T160000
DTSTAMP:20260422T182749
CREATED:20241127T233022Z
LAST-MODIFIED:20241128T190418Z
UID:10004643-1733407200-1733414400@www.ethos.org.br
SUMMARY:Grupo de Trabalho Transversal - Fechamento 2024
DESCRIPTION:Inscrição: Convite enviado via Outlook para as pessoas participantes previamente cadastradas nos GTs\, conforme plano de associação. \n\n\n\nO Grupo de Trabalho Transversal – Fechamento 2024 é um marco especial que celebra as conquistas e aprendizados dos Grupos de Trabalho Neste encontro transversal de encerramento\, refletiremos sobre as principais conquistas alcançadas ao longo do ano\, apresentaremos os resultados do trabalho colaborativo com as empresas participantes dos Grupos de Trabalho\, além de apresentarmos as ações prioritárias do Ethos para 2025. O diálogo será transversal\, conectando os temas mais relevantes à visão de futuro sobre a agenda de integridade socioambiental. \n\n\n\nDestaques da Programação \n\n\n\n· Abertura Institucional com o Diretor Presidente do Instituto Ethos – Caio Magri \n\n\n\nReflexão sobre a importância da colaboração das empresas para o avanço da agenda dos direitos humanos\, meio ambiente e a integridade corporativa\, com representantes da Diretoria do Instituto Ethos. \n\n\n\n· Apresentação dos Produtos de 2024: \n\n\n\nGT de Direitos Humanos: Manifesto para uma Governança Corporativa em Direitos Humanos – uma visão prática e estratégica para uma gestão mais ética e responsável. \n\n\n\nGT de Integridade: Integridade Socioambiental – diretrizes para alinhar integridade empresarial com práticas sustentáveis e éticas. \n\n\n\nGT de Meio Ambiente: Práticas ASG para a Localidade – recomendações para ações que conectem as agendas ASG (Ambiental\, Social e Governança) às realidades locais. \n\n\n\n· Encerramento e Perspectivas para 2025: \n\n\n\nUm olhar para o futuro: quais os próximos passos para fortalecer a integração entre direitos humanos\, integridade e sustentabilidade no setor empresarial? \n\n\n\nGrupo de Trabalho Transversal – Fechamento 2024 é um marco importante para encerrarmos o ano com propósito\, consolidando as contribuições de cada empresa associada e ampliando nossa capacidade de transformar práticas e políticas empresariais. \n\n\n\nSua participação será essencial para tornar este momento ainda mais significativo para nós.
URL:https://www.ethos.org.br/evento/grupo-de-trabalho-transversal-fechamento-2024/
CATEGORIES:Grupos de Trabalhos
END:VEVENT
BEGIN:VEVENT
DTSTART;TZID=America/Sao_Paulo:20241209T000000
DTEND;TZID=America/Sao_Paulo:20241209T235959
DTSTAMP:20260422T182749
CREATED:20220317T195845Z
LAST-MODIFIED:20240723T180009Z
UID:10000352-1733702400-1733788799@www.ethos.org.br
SUMMARY:Dia Internacional Contra a Corrupção
DESCRIPTION:Data importante para sua empresa promover reflexões com seus stakeholders e dar visibilidade para ações relacionadas ao tema.
URL:https://www.ethos.org.br/evento/dia-internacional-contra-a-corrupcao/
END:VEVENT
BEGIN:VEVENT
DTSTART;TZID=America/Sao_Paulo:20241210T000000
DTEND;TZID=America/Sao_Paulo:20241210T235959
DTSTAMP:20260422T182749
CREATED:20220317T195929Z
LAST-MODIFIED:20240723T180009Z
UID:10000351-1733788800-1733875199@www.ethos.org.br
SUMMARY:Dia da Declaração Universal dos Direitos Humanos
DESCRIPTION:Data importante para sua empresa promover reflexões com seus stakeholders e dar visibilidade para ações relacionadas ao tema.
URL:https://www.ethos.org.br/evento/dia-da-declaracao-universal-dos-direitos-humanos/
END:VEVENT
BEGIN:VEVENT
DTSTART;TZID=America/Sao_Paulo:20241212T080000
DTEND;TZID=America/Sao_Paulo:20250313T170000
DTSTAMP:20260422T182749
CREATED:20241212T151411Z
LAST-MODIFIED:20250218T141930Z
UID:10004645-1733990400-1741885200@www.ethos.org.br
SUMMARY:Pesquisa Ethos/Época de Diversidade\, Equidade e Inclusão
DESCRIPTION:Iniciativa que visa avaliar e distinguir publicamente as melhores práticas de diversidade e inclusão adotadas pelas empresas que atuam no Brasil. \n\n\n\nSaiba mais.
URL:https://www.ethos.org.br/evento/pesquisa-ethos-epoca-de-diversidade-equidade-e-inclusao/
LOCATION:Online
CATEGORIES:Pesquisas
END:VEVENT
BEGIN:VEVENT
DTSTART;TZID=America/Sao_Paulo:20241213T000000
DTEND;TZID=America/Sao_Paulo:20241213T235959
DTSTAMP:20260422T182749
CREATED:20220317T200038Z
LAST-MODIFIED:20260107T140547Z
UID:10000349-1734048000-1734134399@www.ethos.org.br
SUMMARY:Dia Nacional da Pessoa com Deficiência Visual
DESCRIPTION:Data importante para sua empresa promover reflexões com seus stakeholders e dar visibilidade para ações relacionadas ao tema.
URL:https://www.ethos.org.br/evento/dia-nacional-da-pessoa-com-deficiencia-visual/2024-12-13/
END:VEVENT
BEGIN:VEVENT
DTSTART;TZID=America/Sao_Paulo:20241217T090000
DTEND;TZID=America/Sao_Paulo:20241217T103000
DTSTAMP:20260422T182749
CREATED:20241129T161640Z
LAST-MODIFIED:20241129T161640Z
UID:10004644-1734426000-1734431400@www.ethos.org.br
SUMMARY:Embarque no Ethos | Encontro com associadas - Dezembro/2024
DESCRIPTION:
URL:https://www.ethos.org.br/evento/embarque-no-ethos-encontro-com-associadas-dezembro-2024/
END:VEVENT
BEGIN:VEVENT
DTSTART;TZID=America/Sao_Paulo:20241218T000000
DTEND;TZID=America/Sao_Paulo:20241218T235959
DTSTAMP:20260422T182749
CREATED:20220317T200108Z
LAST-MODIFIED:20260107T133922Z
UID:10000348-1734480000-1734566399@www.ethos.org.br
SUMMARY:Dia Internacional dos Migrantes
DESCRIPTION:Data importante para sua empresa promover reflexões com seus stakeholders e dar visibilidade para ações relacionadas ao tema.
URL:https://www.ethos.org.br/evento/dia-internacional-dos-migrantes/2024-12-18/
END:VEVENT
END:VCALENDAR