BEGIN:VCALENDAR
VERSION:2.0
PRODID:-//Instituto Ethos - ECPv6.15.14//NONSGML v1.0//EN
CALSCALE:GREGORIAN
METHOD:PUBLISH
X-ORIGINAL-URL:https://www.ethos.org.br
X-WR-CALDESC:Eventos para Instituto Ethos
REFRESH-INTERVAL;VALUE=DURATION:PT1H
X-Robots-Tag:noindex
X-PUBLISHED-TTL:PT1H
BEGIN:VTIMEZONE
TZID:America/Sao_Paulo
BEGIN:STANDARD
TZOFFSETFROM:-0300
TZOFFSETTO:-0300
TZNAME:-03
DTSTART:20230101T000000
END:STANDARD
END:VTIMEZONE
BEGIN:VEVENT
DTSTART;TZID=America/Sao_Paulo:20241212T080000
DTEND;TZID=America/Sao_Paulo:20250313T170000
DTSTAMP:20260422T143013
CREATED:20241212T151411Z
LAST-MODIFIED:20250218T141930Z
UID:10004645-1733990400-1741885200@www.ethos.org.br
SUMMARY:Pesquisa Ethos/Época de Diversidade\, Equidade e Inclusão
DESCRIPTION:Iniciativa que visa avaliar e distinguir publicamente as melhores práticas de diversidade e inclusão adotadas pelas empresas que atuam no Brasil. \n\n\n\nSaiba mais.
URL:https://www.ethos.org.br/evento/pesquisa-ethos-epoca-de-diversidade-equidade-e-inclusao/
LOCATION:Online
CATEGORIES:Pesquisas
END:VEVENT
BEGIN:VEVENT
DTSTART;TZID=America/Sao_Paulo:20250203T110000
DTEND;TZID=America/Sao_Paulo:20250203T120000
DTSTAMP:20260422T143013
CREATED:20250117T181726Z
LAST-MODIFIED:20250206T152121Z
UID:10004648-1738580400-1738584000@www.ethos.org.br
SUMMARY:Plantão de dúvidas Indicadores Ethos | Fevereiro 2025
DESCRIPTION:O plantão tem como objetivo orientar os usuários da plataforma Indicadores Ethos. É fundamental iniciar o processo de preenchimento com antecedência\, e este plantão oferece uma oportunidade para tirar dúvidas e avançar nesse processo. \n\n\n\nA atividade é destinada tanto a associadas quanto a não associadas.
URL:https://www.ethos.org.br/evento/plantao-de-duvidas-fevereiro-2025/2025-02-03/
END:VEVENT
BEGIN:VEVENT
DTSTART;TZID=America/Sao_Paulo:20250210T110000
DTEND;TZID=America/Sao_Paulo:20250210T120000
DTSTAMP:20260422T143013
CREATED:20250117T181726Z
LAST-MODIFIED:20250206T152121Z
UID:10004655-1739185200-1739188800@www.ethos.org.br
SUMMARY:Plantão de dúvidas Indicadores Ethos | Fevereiro 2025
DESCRIPTION:O plantão tem como objetivo orientar os usuários da plataforma Indicadores Ethos. É fundamental iniciar o processo de preenchimento com antecedência\, e este plantão oferece uma oportunidade para tirar dúvidas e avançar nesse processo. \n\n\n\nA atividade é destinada tanto a associadas quanto a não associadas.
URL:https://www.ethos.org.br/evento/plantao-de-duvidas-fevereiro-2025/2025-02-10/
END:VEVENT
BEGIN:VEVENT
DTSTART;TZID=America/Sao_Paulo:20250213T090000
DTEND;TZID=America/Sao_Paulo:20250213T103000
DTSTAMP:20260422T143013
CREATED:20250107T231733Z
LAST-MODIFIED:20250204T222330Z
UID:10004646-1739437200-1739442600@www.ethos.org.br
SUMMARY:Embarque no Ethos | Encontro com associadas - Fevereiro/2025
DESCRIPTION:Nossas associadas têm um encontro marcado para aproveitar melhor a experiência em nosso ecossistema! Venha conhecer nossos projetos e iniciativas em Direitos Humanos\, Integridade e Combate à Corrupção\, Meio Ambiente e Gestão Sustentável e como a sua organização pode se engajar.  \n\n\n\n*Evento exclusivo para associadas Ethos.
URL:https://www.ethos.org.br/evento/embarque-no-ethos-encontro-com-associadas-janeiro-2025/
END:VEVENT
BEGIN:VEVENT
DTSTART;TZID=America/Sao_Paulo:20250217T110000
DTEND;TZID=America/Sao_Paulo:20250217T120000
DTSTAMP:20260422T143013
CREATED:20250117T181726Z
LAST-MODIFIED:20250206T152121Z
UID:10004656-1739790000-1739793600@www.ethos.org.br
SUMMARY:Plantão de dúvidas Indicadores Ethos | Fevereiro 2025
DESCRIPTION:O plantão tem como objetivo orientar os usuários da plataforma Indicadores Ethos. É fundamental iniciar o processo de preenchimento com antecedência\, e este plantão oferece uma oportunidade para tirar dúvidas e avançar nesse processo. \n\n\n\nA atividade é destinada tanto a associadas quanto a não associadas.
URL:https://www.ethos.org.br/evento/plantao-de-duvidas-fevereiro-2025/2025-02-17/
END:VEVENT
BEGIN:VEVENT
DTSTART;TZID=America/Sao_Paulo:20250218T100000
DTEND;TZID=America/Sao_Paulo:20250218T120000
DTSTAMP:20260422T143013
CREATED:20250204T222616Z
LAST-MODIFIED:20250204T223609Z
UID:10004660-1739872800-1739880000@www.ethos.org.br
SUMMARY:Grupo de Trabalho de Integridade* 
DESCRIPTION:Inscreva-se: convite enviado pelo Outlook. \n\n\n\nNo primeiro encontro do GT de Integridade do Instituto Ethos abordaremos o tema: “Desafios do Compliance: Navegando pelos Riscos ASG e as Novas Exigências das Normas IFRS S1 e S2”. O encontro oferecerá a oportunidade de entender o que é o IFRS e o que são as normas IFRS S1 e S2 – desenvolvidas pelo International Sustainability Standards Board (ISSB). Além disso\, permitirá que as áreas de Compliance das empresas consigam entender melhor como se adequar a esta nova realidade.  \n\n\n\n*Evento exclusivo para associadas Ethos.
URL:https://www.ethos.org.br/evento/grupo-de-trabalho-de-integridade-46/
CATEGORIES:Grupos de Trabalhos
END:VEVENT
BEGIN:VEVENT
DTSTART;TZID=America/Sao_Paulo:20250220T100000
DTEND;TZID=America/Sao_Paulo:20250220T110000
DTSTAMP:20260422T143013
CREATED:20250128T171629Z
LAST-MODIFIED:20250128T171629Z
UID:10004650-1740045600-1740049200@www.ethos.org.br
SUMMARY:Live Perspectivas Ethos 2025
DESCRIPTION:
URL:https://www.ethos.org.br/evento/live-perspectivas-ethos-2025/
END:VEVENT
BEGIN:VEVENT
DTSTART;TZID=America/Sao_Paulo:20250220T130000
DTEND;TZID=America/Sao_Paulo:20250228T173000
DTSTAMP:20260422T143013
CREATED:20250219T201701Z
LAST-MODIFIED:20250219T203159Z
UID:10004670-1740056400-1740763800@www.ethos.org.br
SUMMARY:Treinamento ABRADEE -  turma 2
DESCRIPTION:
URL:https://www.ethos.org.br/evento/treinamento-abradee-turma-2-2025/
END:VEVENT
BEGIN:VEVENT
DTSTART;TZID=America/Sao_Paulo:20250224T110000
DTEND;TZID=America/Sao_Paulo:20250224T120000
DTSTAMP:20260422T143013
CREATED:20250117T181726Z
LAST-MODIFIED:20250206T152121Z
UID:10004657-1740394800-1740398400@www.ethos.org.br
SUMMARY:Plantão de dúvidas Indicadores Ethos | Fevereiro 2025
DESCRIPTION:O plantão tem como objetivo orientar os usuários da plataforma Indicadores Ethos. É fundamental iniciar o processo de preenchimento com antecedência\, e este plantão oferece uma oportunidade para tirar dúvidas e avançar nesse processo. \n\n\n\nA atividade é destinada tanto a associadas quanto a não associadas.
URL:https://www.ethos.org.br/evento/plantao-de-duvidas-fevereiro-2025/2025-02-24/
END:VEVENT
BEGIN:VEVENT
DTSTART;TZID=America/Sao_Paulo:20250225T083000
DTEND;TZID=America/Sao_Paulo:20250228T173000
DTSTAMP:20260422T143013
CREATED:20250219T201657Z
LAST-MODIFIED:20250219T201657Z
UID:10004669-1740472200-1740763800@www.ethos.org.br
SUMMARY:Treinamento ABRADEE -  turma 1
DESCRIPTION:
URL:https://www.ethos.org.br/evento/treinamento-abradee-turma-1/
END:VEVENT
END:VCALENDAR