BEGIN:VCALENDAR
VERSION:2.0
PRODID:-//Instituto Ethos - ECPv6.15.14//NONSGML v1.0//EN
CALSCALE:GREGORIAN
METHOD:PUBLISH
X-ORIGINAL-URL:https://www.ethos.org.br
X-WR-CALDESC:Eventos para Instituto Ethos
REFRESH-INTERVAL;VALUE=DURATION:PT1H
X-Robots-Tag:noindex
X-PUBLISHED-TTL:PT1H
BEGIN:VTIMEZONE
TZID:America/Sao_Paulo
BEGIN:STANDARD
TZOFFSETFROM:-0300
TZOFFSETTO:-0300
TZNAME:-03
DTSTART:20240101T000000
END:STANDARD
END:VTIMEZONE
BEGIN:VEVENT
DTSTART;TZID=America/Sao_Paulo:20250801T000000
DTEND;TZID=America/Sao_Paulo:20250801T235959
DTSTAMP:20260422T013930
CREATED:20250227T214828Z
LAST-MODIFIED:20260107T140508Z
UID:10004699-1754006400-1754092799@www.ethos.org.br
SUMMARY:Aniversário Lei Anticorrupção
DESCRIPTION:Efeméride para engajar sua empresa e incentivar ações alinhadas com o tema.
URL:https://www.ethos.org.br/evento/aniversario-lei-anticorrupcao/2025-08-01/
END:VEVENT
BEGIN:VEVENT
DTSTART;TZID=America/Sao_Paulo:20250809T000000
DTEND;TZID=America/Sao_Paulo:20250809T235959
DTSTAMP:20260422T013930
CREATED:20250227T213836Z
LAST-MODIFIED:20260107T140514Z
UID:10004695-1754697600-1754783999@www.ethos.org.br
SUMMARY:Dia Internacional dos Povos Indígenas
DESCRIPTION:Efeméride para engajar sua empresa e incentivar ações alinhadas com o tema.
URL:https://www.ethos.org.br/evento/dia-internacional-dos-povos-indigenas-4/2025-08-09/
END:VEVENT
BEGIN:VEVENT
DTSTART;TZID=America/Sao_Paulo:20250812T080000
DTEND;TZID=America/Sao_Paulo:20250813T190000
DTSTAMP:20260422T013930
CREATED:20250520T141815Z
LAST-MODIFIED:20250906T204333Z
UID:10004774-1754985600-1755111600@www.ethos.org.br
SUMMARY:Conferência Ethos São Paulo 2025
DESCRIPTION:Conferência Ethos 2025\, nos dias 12 e 13 agosto de 2025\, no Espaço Vibra São Paulo.  \n\n\n\nO mais tradicional evento de Responsabilidade Social Empresarial\, Sustentabilidade e ASG! \n\n\n\nNesta edição\, a Conferência será gratuita\, com uma programação que recebe o Festival +DH\, e uma trilha especial dedicada à COP30\, conectando grandes temas globais aos desafios locais. Venha se inspirar\, aprender e colaborar com líderes empresariais\, especialistas\, representantes do governo e da sociedade civil na construção de um futuro mais justo e responsável. \n\n\n\nInscreva-se.
URL:https://www.ethos.org.br/evento/conferencia-ethos-sao-paulo-2025/
END:VEVENT
BEGIN:VEVENT
DTSTART;TZID=America/Sao_Paulo:20250819T143000
DTEND;TZID=America/Sao_Paulo:20250819T150000
DTSTAMP:20260422T013930
CREATED:20250731T001907Z
LAST-MODIFIED:20250811T182128Z
UID:10004798-1755613800-1755615600@www.ethos.org.br
SUMMARY:Embarque no Ethos | Encontro aberto para não associadas
DESCRIPTION:Embarque no Ethos para Não Associadas!\nUm encontro marcado para conhecer mais nosso ecossistema\, se engajar nas nossas ações e multiplicá-las em sua organização. \nSaiba como o Ethos apoia organizações a se destacarem pelo impacto social e descubra novas oportunidades de colaboração para sua empresa. \nNeste evento\, você terá acesso aos bastidores das iniciativas que fortalecem os Direitos Humanos\, Integridade e Meio Ambiente. \nReserve sua vaga e venha se inspirar conosco! \nData: 19 de agosto de 2025\nHorário: 14h30 às 15h\nLocal: Zoom – Em breve divulgaremos o link para acesso \nEsperamos você!
URL:https://www.ethos.org.br/evento/embarque-no-ethos-encontro-aberto-agosto-2025/
END:VEVENT
BEGIN:VEVENT
DTSTART;TZID=America/Sao_Paulo:20250820T140000
DTEND;TZID=America/Sao_Paulo:20250820T173000
DTSTAMP:20260422T013930
CREATED:20250721T201836Z
LAST-MODIFIED:20250729T125203Z
UID:10004794-1755698400-1755711000@www.ethos.org.br
SUMMARY:Programa Nautilus - Rodada de Negócios
DESCRIPTION:O Nautilus é uma iniciativa do Ethos Serviços\, realizada em parceria com o BH-Tec\, que conecta empresas e startups com soluções inovadoras voltadas à sustentabilidade para uma transição justa. O programa atua no fomento a negócios de impacto que oferecem tecnologias e práticas em áreas como economia circular\, bioeconomia\, rastreabilidade\, crédito de carbono\, ASG e muito mais.  \n\n\n\nSaiba mais: https://www.ethos.org.br/iniciativa/programa-nautilus/ \n\n\n\nO Instituto Ethos convida você e a sua empresa a participar da Rodada de Negócios do Programa Nautilus\, que acontecerá no dia 20 de agosto\, das 14h às 17h30\, na sede da Rede Globo\, em São Paulo.  \n\n\n\n\nConhecer startups com soluções escaláveis em ASG\, carbono\, regeneração ambiental\, economia circular\, agricultura regenerativa e inovação climática \n\n\n\n\n\n Realizar conexões estratégicas com empreendedores e instituições que estão moldando o futuro sustentável dos negócios \n\n\n\n\n\nParticipar de uma visita à Globo\, com a apresentação de cases internos de sustentabilidade e responsabilidade socioambiental da empresa \n\n\n\n\nInscreva-se.
URL:https://www.ethos.org.br/evento/programa-nautilus-rodada-de-negocios-2/
END:VEVENT
BEGIN:VEVENT
DTSTART;TZID=America/Sao_Paulo:20250821T140000
DTEND;TZID=America/Sao_Paulo:20250821T150000
DTSTAMP:20260422T013930
CREATED:20250701T182910Z
LAST-MODIFIED:20250723T191122Z
UID:10004793-1755784800-1755788400@www.ethos.org.br
SUMMARY:Webinar Guia de Promoção da Equidade Racial Ethos e CEERT
DESCRIPTION:Participe do Webinar do Guia de Inclusão da Pessoa com Deficiência! \nTemos o prazer de convidar você para um evento virtual sobre o Guia para Promoção da Equidade Racial\, realizado em parceria do Instituto Ethos com o Centro de Estudos das Relações de Trabalho e Desigualdades (CEERT). O Guia está disponível para preenchimento este ano! \nA Diversidade e Inclusão é um valor fundamental\, e as empresas desempenham um papel vital na criação de ambientes de trabalho diversos e inclusivos para todas as pessoas.  \nEste guia marca a evolução no tratamento do tema ao propor um aprofundamento nessa questão crucial em nosso país: a equidade racial. Mesmo considerando a multidiversidade de raças e etnias do Brasil\, o foco deste manual está nas políticas e práticas das empresas para a não discriminação\, inclusão e ascensão dos negros e negras no mercado de trabalho\, uma vez que essa parcela da população é a que mais sofre com a desigualdade social em nosso país.   \nNeste webinar você terá a oportunidade de:  \n– Conhecer a plataforma de indicadores Ethos e como funciona o preenchimento por parte das empresas\n– Visualizar os resultados do último ciclo de preenchimento do questionário. \n*Inscrições Gratuitas. Vagas Limitadas.* \nNão perca esta oportunidade de se juntar a nós nesta importante iniciativa sobre inclusão e diversidade. Inscreva-se agora e faça parte dessa mudança positiva. \nData: 21/08\nHorário: 14:00 às 15:00\nLocal:* Online (Link de Acesso Será Enviado Após a Inscrição)
URL:https://www.ethos.org.br/evento/webinar-guia-de-promocao-da-equidade-racial-ethos-e-ceert/
END:VEVENT
END:VCALENDAR