BEGIN:VCALENDAR
VERSION:2.0
PRODID:-//Instituto Ethos - ECPv6.15.14//NONSGML v1.0//EN
CALSCALE:GREGORIAN
METHOD:PUBLISH
X-ORIGINAL-URL:https://www.ethos.org.br
X-WR-CALDESC:Eventos para Instituto Ethos
REFRESH-INTERVAL;VALUE=DURATION:PT1H
X-Robots-Tag:noindex
X-PUBLISHED-TTL:PT1H
BEGIN:VTIMEZONE
TZID:America/Sao_Paulo
BEGIN:STANDARD
TZOFFSETFROM:-0300
TZOFFSETTO:-0300
TZNAME:-03
DTSTART:20240101T000000
END:STANDARD
END:VTIMEZONE
BEGIN:VEVENT
DTSTART;TZID=America/Sao_Paulo:20251201T110000
DTEND;TZID=America/Sao_Paulo:20251208T120000
DTSTAMP:20260421T163729
CREATED:20251117T224738Z
LAST-MODIFIED:20251126T183512Z
UID:10004847-1764586800-1765195200@www.ethos.org.br
SUMMARY:Plantões de dúvidas Indicadores Ethos | Dezembro 2025
DESCRIPTION:O plantão tem como objetivo orientar os usuários da plataforma Indicadores Ethos. É fundamental iniciar o processo de preenchimento com antecedência\, e este plantão oferece uma oportunidade para tirar dúvidas e avançar nesse processo.  \n\n\n\nA atividade é destinada tanto a associadas quanto a outros usuários da ferramenta.  \n\n\n\nInscreva-se por e-mail:  atendimento@ethos.org.br
URL:https://www.ethos.org.br/evento/plantoes-de-duvidas-indicadores-ethos-dezembro-2025/
END:VEVENT
BEGIN:VEVENT
DTSTART;TZID=America/Sao_Paulo:20251203T090000
DTEND;TZID=America/Sao_Paulo:20251203T120000
DTSTAMP:20260421T163729
CREATED:20251114T160617Z
LAST-MODIFIED:20251201T140557Z
UID:10004846-1764752400-1764763200@www.ethos.org.br
SUMMARY:Reunião Transversal dos Grupos de Trabalho: Balanço COP30 - Além do Clima - Presencial
DESCRIPTION:A reunião tem como objetivo realizar um balanço coletivo dos principais resultados e aprendizados da COP30\, refletindo sobre seus desdobramentos para o contexto brasileiro. A proposta do encontro é ser um momento de análise e diálogo especialmente sobre as implicações para o setor empresarial à luz das negociações realizadas em Belém\, destacando resultados que poderão orientar a atuação das empresas na agenda climática e de sustentabilidade. \nA discussão pretende abordar como os compromissos internacionais firmados e as políticas domésticas lançadas e/ou relativas ao contexto da COP podem influenciar a formulação de políticas empresariais de mitigação\, adaptação e transição para uma economia de baixo carbono\, bem como da integridade socioambiental\, da proteção dos direitos humanos e da governança corporativa voltada à sustentabilidade. \nO encontro será também um momento para alinhar estratégias de continuidade do Instituto Ethos e suas empresas associadas\, orientadas pelas diretrizes e propostas reunidas no documento “Impacta COP30: Além do Clima – Posicionamento e propostas do Instituto Ethos para uma atuação empresarial pela integridade socioambiental”. \nTema: Balanço COP30 – Além do ClimaData: 03/12Horário: 9h às 12hFormato: Híbrido \n\nVirtual: Plataforma Microsoft Teams \nPresencial: Sompo Seguros | Endereço: R. Cubatão\, 320 – Paraíso\, São Paulo – SP\, 04013-001\n\nEvento exclusivo para associadas Ethos.
URL:https://www.ethos.org.br/evento/reuniao-transversal-dos-grupos-de-trabalho-balanco-cop30-alem-do-clima-presencial/
END:VEVENT
BEGIN:VEVENT
DTSTART;TZID=America/Sao_Paulo:20251203T093000
DTEND;TZID=America/Sao_Paulo:20251203T120000
DTSTAMP:20260421T163729
CREATED:20251114T160604Z
LAST-MODIFIED:20251126T190135Z
UID:10004845-1764754200-1764763200@www.ethos.org.br
SUMMARY:Reunião Transversal dos Grupos de Trabalho: Balanço COP30 - Além do Clima - Virtual
DESCRIPTION:A reunião tem como objetivo realizar um balanço coletivo dos principais resultados e aprendizados da COP30\, refletindo sobre seus desdobramentos para o contexto brasileiro. A proposta do encontro é ser um momento de análise e diálogo especialmente sobre as implicações para o setor empresarial à luz das negociações realizadas em Belém\, destacando resultados que poderão orientar a atuação das empresas na agenda climática e de sustentabilidade. \nA discussão pretende abordar como os compromissos internacionais firmados e as políticas domésticas lançadas e/ou relativas ao contexto da COP podem influenciar a formulação de políticas empresariais de mitigação\, adaptação e transição para uma economia de baixo carbono\, bem como da integridade socioambiental\, da proteção dos direitos humanos e da governança corporativa voltada à sustentabilidade. \nO encontro será também um momento para alinhar estratégias de continuidade do Instituto Ethos e suas empresas associadas\, orientadas pelas diretrizes e propostas reunidas no documento “Impacta COP30: Além do Clima – Posicionamento e propostas do Instituto Ethos para uma atuação empresarial pela integridade socioambiental”. \nTema: Balanço COP30 – Além do Clima\nData: 03/12\nHorário: 9h às 12h\nFormato: Híbrido \n\nVirtual: Plataforma Microsoft Teams\nPresencial: Sompo Seguros | Endereço: R. Cubatão\, 320 – Paraíso\, São Paulo – SP\, 04013-001\n\nEvento exclusivo para associadas Ethos.
URL:https://www.ethos.org.br/evento/reuniao-transversal-dos-grupos-de-trabalho-balanco-cop30-alem-do-clima-virtual/
END:VEVENT
BEGIN:VEVENT
DTSTART;TZID=America/Sao_Paulo:20251204T090000
DTEND;TZID=America/Sao_Paulo:20251204T180000
DTSTAMP:20260421T163729
CREATED:20251017T174645Z
LAST-MODIFIED:20251121T150407Z
UID:10004838-1764838800-1764871200@www.ethos.org.br
SUMMARY:Formação | Jornada Combate aos assédios presencial
DESCRIPTION:Conduzir gestores\, profissionais de Compliance\, ASG (ESG)\, Recursos Humanos e demais interessados em uma jornada de conscientização e transformação\, capacitando-os a reconhecer\, prevenir e lidar de forma assertiva com situações de assédio moral\, sexual e discriminação no ambiente de trabalho. Ao longo do curso\, as pessoas participantes serão guiadas para compreender seu papel na construção de ambientes seguros e saudáveis\, alinhados à legislação vigente e sustentados por uma cultura organizacional baseada no respeito\, na equidade e na integridade. \n\n\n\nAs jornadas são abertas a todos os públicos. Empresas associadas podem usufruir de descontos conforme plano da associação. As capacitações estão disponíveis para qualquer pessoa ou organização interessada. \n\n\n\nDescontos para associadas Ethos: \n\n\n\nInstitucional: 25% | Vivência 20% | Essencial 15% | Conexão 10% | \n\n\n\nObservação: Para atividades presenciais (Jornadas e Imersões Ethos)\, não serão ofertadas cortesias. \n\n\n\nObjetivo \n\n\n\nApresentar o panorama do assédio no Brasil com base em pesquisas atuais; discutir as responsabilidades legais e éticas de empresas e colaboradores diante de situações de assédio e discriminação; e capacitar os participantes para lidar adequadamente com denúncias\, promovendo um ambiente de trabalho mais seguro\, respeitoso e inclusivo. \n\n\n\nPúblico-alvo \n\n\n\nGestores\, profissionais de Compliance\, ASG (ESG)\, Recursos Humanos e interessados nesses temas. \n\n\n\nMetodologia \n\n\n\nO workshop será conduzido de forma expositiva e participativa\, combinando apresentação de conteúdos com estudos de caso\, simulações práticas e análise de legislações pertinentes. A proposta é promover a aplicação dos conceitos teóricos à realidade organizacional. As pessoas participantes serão incentivadas a refletir sobre situações reais\, compartilhar experiências e construir soluções colaborativas para os desafios relacionados ao assédio e à discriminação no ambiente de trabalho. \n\n\n\nMódulo 1: Conceitos e Definições (9h às 12h)\n\n\n\nConteúdo: \n\n\n\n\nConceitos e definições\n\nAssédio\, preconceito\, agressões e discriminação – diferenças fundamentais\n\n\n\nElementos caracterizadores\n\n\n\n\n\nCompreendendo o assédio\n\nContexto histórico e social\n\n\n\nAmbientes e fatores que favorecem o assédio\n\n\n\n\n\nTipologias de assédio\n\nFormas\, tipos e contextos\n\n\n\nExemplos específicos – grupos mais vulneráveis\n\n\n\n\n\nComo identificar situações de assédio\n\nSinais de alerta\n\n\n\nDiferença entre conflito e assédio\n\n\n\nExemplos de condutas que caracterizam assédio\n\n\n\nCríticas construtivas x assédio\n\n\n\n\n\nImpactos do assédio\n\nDanos psicológicos\, físicos\, sociais e profissionais\n\n\n\nImpactos institucionais\n\n\n\n\n\nEstatísticas\n\nGrupos mais vulneráveis\n\n\n\nDados nacionais e internacionais\n\n\n\nSubnotificação e ciclo do silêncio\n\n\n\n\n\nEfeitos do assédio no trabalho\n\nRedução de produtividade\n\n\n\nAumento de erros e acidentes\n\n\n\nDegradação do ambiente\n\n\n\nPrejuízo à imagem institucional\n\n\n\n\n\nExemplos de comportamentos que constituem assédio\n\n\n\n\nMódulo 2: Medidas de Prevenção e Ação (13h30 às 16h)\n\n\n\nConteúdo: \n\n\n\n\nMapa do assédio no Brasil (canais de denúncias e dados de saúde mental)\n\n\n\nResponsabilidade das empresas e papel das lideranças\n\n\n\nLegislações relevantes\n\n\n\nCanais de denúncia\n\n\n\nBoas práticas em investigações internas\n\n\n\nCasos práticos\n\n\n\n\nReferências principais: Constituição Federal\, Código Civil\, Código Penal\, CLT\, Lei nº 14.457/2022\, Lei nº 9.029/1995\, Lei nº 7.716/1985\, Guia Lilás da CGU\, UN System Model Policy on Sexual Harassment\, Investigators’ Manual da ONU\, Cartilha TST\, entre outros. \n\n\n\nMódulo 3: Papel do Homem no Combate ao Assédio (16h às 18h)\n\n\n\nConteúdo: \n\n\n\n\nIntrodução ao papel do homem no enfrentamento ao assédio\n\n\n\nRelações de poder e privilégio masculino\n\n\n\nReflexão crítica sobre vieses e atitudes\n\n\n\nPolíticas e práticas organizacionais\n\n\n\nEstudos de caso e discussões em grupo\n\n\n\nCompromisso pessoal e ação coletiva\n\n\n\n\nReferências: Kimmel\, Connell\, Katz\, Flood\, Pease\, Casey; Glossário Antimachista (4daddy); HeForShe; Promundo; MenEngage. \n\n\n\nQuem irá te ajudar nessa jornada\n\n\n\n\n\n\n\nThiago Veloso \n\n\n\nDiretor Jurídico\, Compliance e Privacidade de Dados\, com 18 anos de experiência no mundo corporativo. Especialista em Integridade Corporativa\, Ética\, IA aplicada aos negócios\, Investigações Internas\, Gestão de Crises e Reputação. Mestre pela FIA-SP\, graduado pela PUC-MG e certificado internacionalmente em Contratos Internacionais e Arbitragem. Atua também como professor e pesquisador. \n\n\n\n\n\n\n\nFernanda Bidlovsky \n\n\n\nSócia do escritório Maeda\, Ayres e Sarubbi Advogados. Especialista em Compliance\, Anticorrupção e investigações internas de alta complexidade. Mestre em Direito pela University at Buffalo e licenciada no Brasil e em Nova Iorque. Reconhecida globalmente como uma das “100 Mulheres em Investigações”. \n\n\n\n\n\n\n\nMainara Massuella \n\n\n\nEspecialista em Compliance\, Investigações Internas e Direitos Humanos. Conduz investigações internas sobre assédio e discriminação\, além de due diligence em cadeias de fornecedores. Graduada pelo Mackenzie\, com formações pela FGV\, PUCRS e ESPM. \n\n\n\n\n\n\n\nAna Carolina Corrêa \n\n\n\nProfissional das áreas de Compliance e Anticorrupção desde 2018. Experiência em investigações independentes multijurisdicionais\, implementação de programas de integridade e análises de risco. Formada pelo Mackenzie e pós-graduada em Direito Penal Econômico pela FGV. \n\n\n\n\n\n\n\nLeandro Ziotto \n\n\n\nPesquisador e consultor em Equidade de Gênero\, Economia do Cuidado\, Assédio e Direitos Humanos. Fundador da 4Daddy\, signatário ONU Mulheres e parceiro técnico do Ministério da Saúde. Atua com advocacy e formação sobre masculinidades\, violências e práticas organizacionais para ambientes seguros. \n\n\n\nCondições de pagamento \n\n\n\nInvestimento: R$ 735\,00* \n\n\n\nBoleto bancário\, transferência ou cartão de crédito (via PagSeguro). A confirmação é enviada por e-mail após processamento do pagamento. \n\n\n\n*Estudantes contam com 50% de desconto. \n\n\n\nCertificação \n\n\n\nCertificado eletrônico para participantes com mínimo de 90% de presença. \n\n\n\nContato \n\n\n\ncursos@ethos.org.br \n\n\n\nINFORMAÇÕES GERAIS: O valor da inscrição inclui material didático e certificado. \n\n\n\nVAGAS LIMITADAS: As vagas são limitadas e serão preenchidas por ordem de inscrição. Caso não haja um número mínimo de inscritos que viabilize a realização do curso\, o Instituto Ethos se reserva o direito de adiar sua realização ou cancelá-lo. \n\n\n\nADIAMENTO OU CANCELAMENTO: O Instituto Ethos tem o prazo máximo de 1 (um) dia antes da data de realização do curso para comunicar à pessoa inscrita validada (via e-mail e/ou telefone) o adiamento/cancelamento do curso. Em caso de adiamento\, e inscrite deve comunicar sua decisão sobre participar ou não do curso na nova data proposta pelo e-mail cursos@ethos.org.br em até 2 dias (contando a partir da data em que o adiamento foi comunicado). Inscrito tem o prazo máximo de 10 (dez) dias antes da data de realização do curso para comunicar pelo e-mail cursos@ethos.org.br o adiamento/cancelamento de sua participação no curso. \n\n\n\nSUBSTITUIÇÕES OU TRANSFERÊNCIAS DE PARTICIPANTES NOS CURSOS: A substituição ou transferência entre participante de uma mesma empresa será permitida até 5 (cinco) dias antes da realização do curso e a solicitação deverá ser feita por escrito para cursos@ethos.org.br. \n\n\n\n\nEmenta
URL:https://www.ethos.org.br/evento/jornada-de-combate-aos-assedios/
LOCATION:Dilogia – Casa da Diversidade – Rua Conselheiro Carrão\, 546 – São Paulo /SP\, Dilogia – Casa da Diversidade - Rua Conselheiro Carrão\, 546\, São Paulo\, SP\, 01328-000\, Brazil
CATEGORIES:Jornada
END:VEVENT
BEGIN:VEVENT
DTSTART;TZID=America/Sao_Paulo:20251204T100000
DTEND;TZID=America/Sao_Paulo:20251204T110000
DTSTAMP:20260421T163729
CREATED:20250224T191707Z
LAST-MODIFIED:20251028T185017Z
UID:10004677-1764842400-1764846000@www.ethos.org.br
SUMMARY:Embarque no Ethos | Encontro com associadas
DESCRIPTION:Nossas associadas têm um encontro marcado para aproveitar ainda mais a experiência no nosso ecossistema\, fortalecer o engajamento e multiplicar o impacto dentro de suas organizações. \n\n\n\nSerá um momento para conhecer de perto nossos projetos e iniciativas em Direitos Humanos e Diversidade\, Integridade e Combate à Corrupção\, Meio Ambiente e Clima\, além de dialogar sobre como cada organização pode se envolver de forma ativa. \n\n\n\nMais do que apresentar o Ethos\, este encontro é também um espaço de troca: você poderá compartilhar o que sua organização já vem desenvolvendo\, ouvir experiências de outras associadas e fortalecer conexões que impulsionam a agenda ASG. \n\n\n\nData: 04/12Horário: 10h às 11hLocal: encontro virtual – plataforma Microsoft Teams Evento exclusivo para associadas Ethos
URL:https://www.ethos.org.br/evento/embarque-no-ethos-encontro-com-associadas-dezembro-2025/
END:VEVENT
BEGIN:VEVENT
DTSTART;TZID=America/Sao_Paulo:20251209T000000
DTEND;TZID=America/Sao_Paulo:20251209T235959
DTSTAMP:20260421T163729
CREATED:20250227T215149Z
LAST-MODIFIED:20260107T140543Z
UID:10004701-1765238400-1765324799@www.ethos.org.br
SUMMARY:Dia Internacional do Combate à Corrupção
DESCRIPTION:Efeméride para engajar sua empresa e incentivar ações alinhadas com o tema.
URL:https://www.ethos.org.br/evento/dia-internacional-do-combate-a-corrupcao/2025-12-09/
END:VEVENT
BEGIN:VEVENT
DTSTART;TZID=America/Sao_Paulo:20251213T000000
DTEND;TZID=America/Sao_Paulo:20251213T235959
DTSTAMP:20260421T163729
CREATED:20220317T200038Z
LAST-MODIFIED:20260107T140547Z
UID:10004850-1765584000-1765670399@www.ethos.org.br
SUMMARY:Dia Nacional da Pessoa com Deficiência Visual
DESCRIPTION:Data importante para sua empresa promover reflexões com seus stakeholders e dar visibilidade para ações relacionadas ao tema.
URL:https://www.ethos.org.br/evento/dia-nacional-da-pessoa-com-deficiencia-visual/2025-12-13/
END:VEVENT
BEGIN:VEVENT
DTSTART;TZID=America/Sao_Paulo:20251218T000000
DTEND;TZID=America/Sao_Paulo:20251218T235959
DTSTAMP:20260421T163729
CREATED:20220317T200108Z
LAST-MODIFIED:20260107T133922Z
UID:10004851-1766016000-1766102399@www.ethos.org.br
SUMMARY:Dia Internacional dos Migrantes
DESCRIPTION:Data importante para sua empresa promover reflexões com seus stakeholders e dar visibilidade para ações relacionadas ao tema.
URL:https://www.ethos.org.br/evento/dia-internacional-dos-migrantes/2025-12-18/
END:VEVENT
BEGIN:VEVENT
DTSTART;TZID=America/Sao_Paulo:20251222T000000
DTEND;TZID=America/Sao_Paulo:20260104T235959
DTSTAMP:20260421T163729
CREATED:20251203T180129Z
LAST-MODIFIED:20251203T180135Z
UID:10004849-1766361600-1767571199@www.ethos.org.br
SUMMARY:Recesso do Instituto Ethos
DESCRIPTION:O Instituto Ethos estará em recesso a partir do dia 22 de dezembro\, com retorno às atividades no dia 05 de janeiro. Desejamos a todas e todos um excelente fim de ano!
URL:https://www.ethos.org.br/evento/recesso-do-instituto-ethos/
END:VEVENT
END:VCALENDAR