BEGIN:VCALENDAR
VERSION:2.0
PRODID:-//Instituto Ethos - ECPv6.15.14//NONSGML v1.0//EN
CALSCALE:GREGORIAN
METHOD:PUBLISH
X-WR-CALNAME:Instituto Ethos
X-ORIGINAL-URL:https://www.ethos.org.br
X-WR-CALDESC:Eventos para Instituto Ethos
REFRESH-INTERVAL;VALUE=DURATION:PT1H
X-Robots-Tag:noindex
X-PUBLISHED-TTL:PT1H
BEGIN:VTIMEZONE
TZID:America/Sao_Paulo
BEGIN:STANDARD
TZOFFSETFROM:-0300
TZOFFSETTO:-0300
TZNAME:-03
DTSTART:20250101T000000
END:STANDARD
END:VTIMEZONE
BEGIN:VEVENT
DTSTART;TZID=America/Sao_Paulo:20260202T080000
DTEND;TZID=America/Sao_Paulo:20260223T090000
DTSTAMP:20260421T122038
CREATED:20260123T232632Z
LAST-MODIFIED:20260206T142550Z
UID:10005044-1770019200-1771837200@www.ethos.org.br
SUMMARY:Plantão de dúvidas | Indicadores Ethos
DESCRIPTION:O plantão tem como objetivo orientar os usuários da plataforma Indicadores Ethos. É fundamental iniciar o processo de preenchimento com antecedência\, e este plantão oferece uma oportunidade para tirar dúvidas e avançar nesse processo.  \n\n\n\nA atividade é destinada tanto a associadas quanto a outros usuários da ferramenta. 
URL:https://www.ethos.org.br/evento/plantoes-de-duvidas-indicadores-ethos-fevereiro-de-2026/2026-02-02/
LOCATION:encontro virtual – plataforma Microsoft Teams
END:VEVENT
BEGIN:VEVENT
DTSTART;TZID=America/Sao_Paulo:20260203T100000
DTEND;TZID=America/Sao_Paulo:20260203T120000
DTSTAMP:20260421T122038
CREATED:20251126T195217Z
LAST-MODIFIED:20260213T171038Z
UID:10004848-1770112800-1770120000@www.ethos.org.br
SUMMARY:Webinar-Integridade e transparência nas Leis de Incentivo: um debate essencial para o setor cultural
DESCRIPTION:Acompanhe ao vivo\n\n\n\n\nA integridade na aplicação das Leis de Incentivo é um tema central para o fortalecimento da cultura\, da democracia e da confiança pública. \n\n\n\nEm parceria com a ABCR (Associação Brasileira de Captadores de Recursos)\, o webinar “Vantagem Indevida para o Investidor no âmbito das Leis de Incentivo: riscos legais e melhores práticas”\, reunirá representantes do poder público\, juristas\, investidores e proponentes para discutir caminhos que assegurem que os recursos incentivados cumpram sua finalidade pública com ética\, transparência e responsabilidade. \n\n\n\n\n\n\n\nPessoas participantes confirmadas: \n\n\n\n\n\n\n\n\n\n\n\n\n\n\n\nEduardo SaronPresidente da Fundação Itaú \n\n\n\nEduardo Saron possui mais de 20 anos de experiência no terceiro setor e é presidente da Fundação Itaú\, organização social vinculada ao Itaú Unibanco. É mestre e doutorando em Economia pela UFRGS. Preside o Conselho da Fundação Bienal de São Paulo e é vice-presidente do GIFE. Integra conselhos de instituições culturais e educacionais de relevância nacional. No LinkedIn\, recebeu o selo Top Voice e reúne quase 25 mil seguidores. \n\n\n\n\n\n\n\n\n\n\n\n\n\n\n\nGabriela MoulinDiretora Executiva do lnstituto Tomie Ohtake e pesquisadora da cultura brasileira e das suas formas de institucionalização \n\n\n\nFormada em Jornalismo\, com Pós-graduação em relações públicas pela USP e mestrado em arquitetura e urbanismo pela UFMG\, trabalha há mais de 20 anos em planejamento e gestão de instituições e projetos de cultura\, investimento sociaI privado (em educação e desenvolvimento territorial) e alinhamento com políticas públicas. Entre 2019 e fevereiro de 2022 foi presidente do lnstituto BDMG Cultural e antes disso teve a oportunidade de passar por diferentes instituições de cultura brasileira\, contribuindo em atividades de curadoria\, conteúdo\, gestão e no pensamento institucional. \n\n\n\n\n\n\n\n\n\n\n\n\n\n\n\nHenilton Menezes Secretário de Fomento e Incentivo à Cultura do Ministério da Cultura \n\n\n\nJornalista e gestor cultural\, tem mais de 40 anos de atuação no setor. Foi responsável pela criação dos centros culturais do Banco do Nordeste em Fortaleza\, Sousa e Juazeiro do Norte. Autor do livro “A Lei Rouanet Muito além dos (F)Atos” (Editora Loyola) e ex-sócio-diretor da Grimpa Consultoria. Reassumiu a Secretaria do MinC em 2023\, onde é o gestor responsável pela Lei Rouanet. \n\n\n\n\n\n\n\n\n\n\n\n\n\n\n\nLaís de Figueirêdo LopesPresidente da Comissão de Direito do Terceiro Setor da OAB SP \n\n\n\nAdvogada sócia da SBSA Advogados. Doutoranda em Direito Público pela Universidade de Coimbra e mestre em Direito pela PUC-SP. É Conselheira Seccional e Presidente da Comissão de Direito do Terceiro Setor da OAB-SP\, além de Vice-Presidente do CONFOCO. Professora da PUC-SP\, foi Assessora Especial da Presidência da República e liderou a agenda do Marco Regulatório das OSCs no Governo Federal\, participando da elaboração da Lei 13.019/2014 e do Decreto 8.726/2016. \n\n\n\n\nAcompanhe ao vivo
URL:https://www.ethos.org.br/evento/webinar-vantagem-indevida-para-o-investidor-no-ambito-das-leis-de-incentivo/
LOCATION:Canal do Instituto Ethos no YouTube
END:VEVENT
BEGIN:VEVENT
DTSTART;TZID=America/Sao_Paulo:20260210T000000
DTEND;TZID=America/Sao_Paulo:20260210T235959
DTSTAMP:20260421T122038
CREATED:20260121T132044Z
LAST-MODIFIED:20260121T151848Z
UID:10005013-1770681600-1770767999@www.ethos.org.br
SUMMARY:Artigo | Greenwashing e Compliance: como prevenir práticas enganosas e garantir transparência nas ações ambientais e climáticas
DESCRIPTION:O artigo aborda o greenwashing e outras práticas enganosas relacionadas às agendas ambiental\, climática e de direitos humanos\, destacando o papel dos programas de integridade e das áreas de Compliance na prevenção dessas condutas. O texto apresenta o panorama regulatório aplicável\, incluindo exigências da CVM e reúne recomendações práticas para fortalecer a transparência e a governança nas empresas.
URL:https://www.ethos.org.br/evento/artigo-greenwashing/
END:VEVENT
BEGIN:VEVENT
DTSTART;TZID=America/Sao_Paulo:20260212T100000
DTEND;TZID=America/Sao_Paulo:20260212T110000
DTSTAMP:20260421T122038
CREATED:20260126T135714Z
LAST-MODIFIED:20260306T014537Z
UID:10005020-1770890400-1770894000@www.ethos.org.br
SUMMARY:Embarque no Ethos | Encontro com associadas - fevereiro/2026 ADIADO
DESCRIPTION:Nossas associadas têm um encontro marcado para aproveitar ainda mais a experiência no nosso ecossistema\, fortalecer o engajamento e multiplicar o impacto dentro de suas organizações. Será um momento para conhecer de perto nossos projetos e iniciativas\, além de dialogar sobre como cada organização pode se envolver de forma ativa.
URL:https://www.ethos.org.br/evento/embarque-no-ethos-encontro-com-associadas-fevereiro-2026-2/
LOCATION:encontro virtual – plataforma Microsoft Teams
END:VEVENT
BEGIN:VEVENT
DTSTART;TZID=America/Sao_Paulo:20260216T080000
DTEND;TZID=America/Sao_Paulo:20260309T090000
DTSTAMP:20260421T122038
CREATED:20260123T232632Z
LAST-MODIFIED:20260206T142550Z
UID:10005045-1771228800-1773046800@www.ethos.org.br
SUMMARY:Plantão de dúvidas | Indicadores Ethos
DESCRIPTION:O plantão tem como objetivo orientar os usuários da plataforma Indicadores Ethos. É fundamental iniciar o processo de preenchimento com antecedência\, e este plantão oferece uma oportunidade para tirar dúvidas e avançar nesse processo.  \n\n\n\nA atividade é destinada tanto a associadas quanto a outros usuários da ferramenta. 
URL:https://www.ethos.org.br/evento/plantoes-de-duvidas-indicadores-ethos-fevereiro-de-2026/2026-02-16/
LOCATION:encontro virtual – plataforma Microsoft Teams
END:VEVENT
BEGIN:VEVENT
DTSTART;TZID=America/Sao_Paulo:20260223T080000
DTEND;TZID=America/Sao_Paulo:20260316T090000
DTSTAMP:20260421T122038
CREATED:20260123T232632Z
LAST-MODIFIED:20260206T142550Z
UID:10005046-1771833600-1773651600@www.ethos.org.br
SUMMARY:Plantão de dúvidas | Indicadores Ethos
DESCRIPTION:O plantão tem como objetivo orientar os usuários da plataforma Indicadores Ethos. É fundamental iniciar o processo de preenchimento com antecedência\, e este plantão oferece uma oportunidade para tirar dúvidas e avançar nesse processo.  \n\n\n\nA atividade é destinada tanto a associadas quanto a outros usuários da ferramenta. 
URL:https://www.ethos.org.br/evento/plantoes-de-duvidas-indicadores-ethos-fevereiro-de-2026/2026-02-23/
LOCATION:encontro virtual – plataforma Microsoft Teams
END:VEVENT
BEGIN:VEVENT
DTSTART;TZID=America/Sao_Paulo:20260226T140000
DTEND;TZID=America/Sao_Paulo:20260226T150000
DTSTAMP:20260421T122038
CREATED:20260119T155707Z
LAST-MODIFIED:20260306T080039Z
UID:10004993-1772114400-1772118000@www.ethos.org.br
SUMMARY:Webinar de abertura da Pesquisa de Diversidade\, Equidade e Inclusão 2026
DESCRIPTION:A Pesquisa Ethos de Diversidade\, Equidade e Inclusão é uma iniciativa gratuita que reconhece e valoriza publicamente as melhores práticas de DEI adotadas por empresas que atuam no Brasil. Realizada em parceria com o CEERT\, a Coalizão Empresarial para Equidade Racial e de Gênero\, o Fórum de Empresas e Direitos LGBTI+\, o Movimento Mulher 360 e a Rede Empresarial de Inclusão Social\, a pesquisa busca incentivar avanços reais e mensuráveis no ambiente corporativo brasileiro.  \nConvidamos sua empresa a participar da edição 2026 dessa importante iniciativa!
URL:https://www.ethos.org.br/evento/webinar-de-lancamento-da-pesquisa-de-diversidade-equidade-e-inclusao-2026/
END:VEVENT
END:VCALENDAR