BEGIN:VCALENDAR
VERSION:2.0
PRODID:-//Instituto Ethos - ECPv6.15.14//NONSGML v1.0//EN
CALSCALE:GREGORIAN
METHOD:PUBLISH
X-ORIGINAL-URL:https://www.ethos.org.br
X-WR-CALDESC:Eventos para Instituto Ethos
REFRESH-INTERVAL;VALUE=DURATION:PT1H
X-Robots-Tag:noindex
X-PUBLISHED-TTL:PT1H
BEGIN:VTIMEZONE
TZID:America/Sao_Paulo
BEGIN:STANDARD
TZOFFSETFROM:-0200
TZOFFSETTO:-0300
TZNAME:-03
DTSTART:20100221T020000
END:STANDARD
BEGIN:DAYLIGHT
TZOFFSETFROM:-0300
TZOFFSETTO:-0200
TZNAME:-02
DTSTART:20101017T030000
END:DAYLIGHT
BEGIN:STANDARD
TZOFFSETFROM:-0200
TZOFFSETTO:-0300
TZNAME:-03
DTSTART:20110220T020000
END:STANDARD
BEGIN:DAYLIGHT
TZOFFSETFROM:-0300
TZOFFSETTO:-0200
TZNAME:-02
DTSTART:20111016T030000
END:DAYLIGHT
BEGIN:STANDARD
TZOFFSETFROM:-0200
TZOFFSETTO:-0300
TZNAME:-03
DTSTART:20120226T020000
END:STANDARD
BEGIN:DAYLIGHT
TZOFFSETFROM:-0300
TZOFFSETTO:-0200
TZNAME:-02
DTSTART:20121021T030000
END:DAYLIGHT
END:VTIMEZONE
BEGIN:VEVENT
DTSTART;TZID=America/Sao_Paulo:20110223T090000
DTEND;TZID=America/Sao_Paulo:20110223T170000
DTSTAMP:20260422T010502
CREATED:20240806T183015Z
LAST-MODIFIED:20240806T183015Z
UID:10004238-1298451600-1298480400@www.ethos.org.br
SUMMARY:SEMINÁRIO PARA APRESENTAÇÃO DO 2º ESTUDO CONEXÕES SUSTENTÁVEIS: SÃO PAULO-AMAZÔNIA
DESCRIPTION:
URL:https://www.ethos.org.br/evento/seminario-para-apresentacao-do-2o-estudo-conexoes-sustentaveis-sao-paulo-amazonia/
END:VEVENT
END:VCALENDAR