BEGIN:VCALENDAR
VERSION:2.0
PRODID:-//Instituto Ethos - ECPv6.15.14//NONSGML v1.0//EN
CALSCALE:GREGORIAN
METHOD:PUBLISH
X-ORIGINAL-URL:https://www.ethos.org.br
X-WR-CALDESC:Eventos para Instituto Ethos
REFRESH-INTERVAL;VALUE=DURATION:PT1H
X-Robots-Tag:noindex
X-PUBLISHED-TTL:PT1H
BEGIN:VTIMEZONE
TZID:America/Sao_Paulo
BEGIN:STANDARD
TZOFFSETFROM:-0200
TZOFFSETTO:-0300
TZNAME:-03
DTSTART:20100221T020000
END:STANDARD
BEGIN:DAYLIGHT
TZOFFSETFROM:-0300
TZOFFSETTO:-0200
TZNAME:-02
DTSTART:20101017T030000
END:DAYLIGHT
BEGIN:STANDARD
TZOFFSETFROM:-0200
TZOFFSETTO:-0300
TZNAME:-03
DTSTART:20110220T020000
END:STANDARD
BEGIN:DAYLIGHT
TZOFFSETFROM:-0300
TZOFFSETTO:-0200
TZNAME:-02
DTSTART:20111016T030000
END:DAYLIGHT
BEGIN:STANDARD
TZOFFSETFROM:-0200
TZOFFSETTO:-0300
TZNAME:-03
DTSTART:20120226T020000
END:STANDARD
BEGIN:DAYLIGHT
TZOFFSETFROM:-0300
TZOFFSETTO:-0200
TZNAME:-02
DTSTART:20121021T030000
END:DAYLIGHT
END:VTIMEZONE
BEGIN:VEVENT
DTSTART;TZID=America/Sao_Paulo:20111107T080000
DTEND;TZID=America/Sao_Paulo:20111107T173000
DTSTAMP:20260421T061331
CREATED:20240806T183009Z
LAST-MODIFIED:20240806T183009Z
UID:10004234-1320652800-1320687000@www.ethos.org.br
SUMMARY:SEMINÁRIO “RESPONSABILIDADE SOCIAL EMPRESARIAL E DIREITOS HUMANOS: DESAFIOS E OPORTUNIDADES”
DESCRIPTION:
URL:https://www.ethos.org.br/evento/seminario-responsabilidade-social-empresarial-e-direitos-humanos-desafios-e-oportunidades/
END:VEVENT
BEGIN:VEVENT
DTSTART;TZID=America/Sao_Paulo:20111117T090000
DTEND;TZID=America/Sao_Paulo:20111117T130000
DTSTAMP:20260421T061331
CREATED:20240806T183008Z
LAST-MODIFIED:20240806T183008Z
UID:10004233-1321520400-1321534800@www.ethos.org.br
SUMMARY:RESÍDUOS SÓLIDOS E A CIDADE: OS DESAFIOS PARA SÃO PAULO
DESCRIPTION:
URL:https://www.ethos.org.br/evento/residuos-solidos-e-a-cidade-os-desafios-para-sao-paulo/
END:VEVENT
END:VCALENDAR