BEGIN:VCALENDAR
VERSION:2.0
PRODID:-//Instituto Ethos - ECPv6.15.14//NONSGML v1.0//EN
CALSCALE:GREGORIAN
METHOD:PUBLISH
X-WR-CALNAME:Instituto Ethos
X-ORIGINAL-URL:https://www.ethos.org.br
X-WR-CALDESC:Eventos para Instituto Ethos
REFRESH-INTERVAL;VALUE=DURATION:PT1H
X-Robots-Tag:noindex
X-PUBLISHED-TTL:PT1H
BEGIN:VTIMEZONE
TZID:America/Sao_Paulo
BEGIN:STANDARD
TZOFFSETFROM:-0300
TZOFFSETTO:-0300
TZNAME:-03
DTSTART:20250101T000000
END:STANDARD
END:VTIMEZONE
BEGIN:VEVENT
DTSTART;TZID=America/Sao_Paulo:20260504T110000
DTEND;TZID=America/Sao_Paulo:20260504T120000
DTSTAMP:20260422T152221
CREATED:20260119T225718Z
LAST-MODIFIED:20260422T134356Z
UID:10005084-1777892400-1777896000@www.ethos.org.br
SUMMARY:Plantão de dúvidas | Indicadores Ethos
DESCRIPTION: O plantão tem como objetivo orientar os usuários da plataforma Indicadores Ethos. É fundamental iniciar o processo de preenchimento com antecedência\, e este plantão oferece uma oportunidade para tirar dúvidas e avançar nesse processo.  \n\n\n\nA atividade é destinada tanto a associadas quanto a outros usuários da ferramenta. 
URL:https://www.ethos.org.br/evento/plantoes-de-duvidas-indicadores-ethos-maio-de-2026/2026-05-04/
END:VEVENT
BEGIN:VEVENT
DTSTART;TZID=America/Sao_Paulo:20260511T110000
DTEND;TZID=America/Sao_Paulo:20260511T120000
DTSTAMP:20260422T152221
CREATED:20260119T225718Z
LAST-MODIFIED:20260422T134356Z
UID:10005085-1778497200-1778500800@www.ethos.org.br
SUMMARY:Plantão de dúvidas | Indicadores Ethos
DESCRIPTION: O plantão tem como objetivo orientar os usuários da plataforma Indicadores Ethos. É fundamental iniciar o processo de preenchimento com antecedência\, e este plantão oferece uma oportunidade para tirar dúvidas e avançar nesse processo.  \n\n\n\nA atividade é destinada tanto a associadas quanto a outros usuários da ferramenta. 
URL:https://www.ethos.org.br/evento/plantoes-de-duvidas-indicadores-ethos-maio-de-2026/2026-05-11/
END:VEVENT
BEGIN:VEVENT
DTSTART;TZID=America/Sao_Paulo:20260518T110000
DTEND;TZID=America/Sao_Paulo:20260518T120000
DTSTAMP:20260422T152221
CREATED:20260119T225718Z
LAST-MODIFIED:20260422T134356Z
UID:10005086-1779102000-1779105600@www.ethos.org.br
SUMMARY:Plantão de dúvidas | Indicadores Ethos
DESCRIPTION: O plantão tem como objetivo orientar os usuários da plataforma Indicadores Ethos. É fundamental iniciar o processo de preenchimento com antecedência\, e este plantão oferece uma oportunidade para tirar dúvidas e avançar nesse processo.  \n\n\n\nA atividade é destinada tanto a associadas quanto a outros usuários da ferramenta. 
URL:https://www.ethos.org.br/evento/plantoes-de-duvidas-indicadores-ethos-maio-de-2026/2026-05-18/
END:VEVENT
BEGIN:VEVENT
DTSTART;TZID=America/Sao_Paulo:20260525T110000
DTEND;TZID=America/Sao_Paulo:20260525T120000
DTSTAMP:20260422T152221
CREATED:20260119T225718Z
LAST-MODIFIED:20260422T134356Z
UID:10005087-1779706800-1779710400@www.ethos.org.br
SUMMARY:Plantão de dúvidas | Indicadores Ethos
DESCRIPTION: O plantão tem como objetivo orientar os usuários da plataforma Indicadores Ethos. É fundamental iniciar o processo de preenchimento com antecedência\, e este plantão oferece uma oportunidade para tirar dúvidas e avançar nesse processo.  \n\n\n\nA atividade é destinada tanto a associadas quanto a outros usuários da ferramenta. 
URL:https://www.ethos.org.br/evento/plantoes-de-duvidas-indicadores-ethos-maio-de-2026/2026-05-25/
END:VEVENT
END:VCALENDAR