BEGIN:VCALENDAR
VERSION:2.0
PRODID:-//Instituto Ethos - ECPv6.15.14//NONSGML v1.0//EN
CALSCALE:GREGORIAN
METHOD:PUBLISH
X-WR-CALNAME:Instituto Ethos
X-ORIGINAL-URL:https://www.ethos.org.br
X-WR-CALDESC:Eventos para Instituto Ethos
REFRESH-INTERVAL;VALUE=DURATION:PT1H
X-Robots-Tag:noindex
X-PUBLISHED-TTL:PT1H
BEGIN:VTIMEZONE
TZID:America/Sao_Paulo
BEGIN:STANDARD
TZOFFSETFROM:-0300
TZOFFSETTO:-0300
TZNAME:-03
DTSTART:20230101T000000
END:STANDARD
END:VTIMEZONE
BEGIN:VEVENT
DTSTART;TZID=America/Sao_Paulo:20241031T080000
DTEND;TZID=America/Sao_Paulo:20241031T170000
DTSTAMP:20260422T081929
CREATED:20240926T181705Z
LAST-MODIFIED:20241031T195457Z
UID:10004605-1730361600-1730394000@www.ethos.org.br
SUMMARY:Conferência Ethos Conexões RJ 2024
DESCRIPTION:Conferência Ethos Conexões 2024 – Edição Rio de Janeiro
URL:https://www.ethos.org.br/evento/conferencia-ethos-conexoes-rj-2024/
LOCATION:Museu do Amanhã: Praça Mauá\, 1 – Centro\, Rio de Janeiro – RJ\, 20081-240\, Brasil
END:VEVENT
END:VCALENDAR