BEGIN:VCALENDAR
VERSION:2.0
PRODID:-//Instituto Ethos - ECPv6.15.14//NONSGML v1.0//EN
CALSCALE:GREGORIAN
METHOD:PUBLISH
X-WR-CALNAME:Instituto Ethos
X-ORIGINAL-URL:https://www.ethos.org.br
X-WR-CALDESC:Eventos para Instituto Ethos
REFRESH-INTERVAL;VALUE=DURATION:PT1H
X-Robots-Tag:noindex
X-PUBLISHED-TTL:PT1H
BEGIN:VTIMEZONE
TZID:America/Sao_Paulo
BEGIN:STANDARD
TZOFFSETFROM:-0300
TZOFFSETTO:-0300
TZNAME:-03
DTSTART:20210101T000000
END:STANDARD
END:VTIMEZONE
BEGIN:VEVENT
DTSTART;TZID=America/Sao_Paulo:20231128T000000
DTEND;TZID=America/Sao_Paulo:20231128T235959
DTSTAMP:20260422T062746
CREATED:20231106T210229Z
LAST-MODIFIED:20240723T175921Z
UID:10000066-1701129600-1701215999@www.ethos.org.br
SUMMARY:Embarque no Ethos! | Encontro de Associadas*
DESCRIPTION:Um encontro para as novas associadas conhecerem nossos projetos e atividades em Direitos Humanos\, Integridade e Combate à Corrupção\, Meio Ambiente e Gestão Sustentável e como esperamos que a organização se engaje e participe! \n*Evento exclusivo para associadas Ethos.
URL:https://www.ethos.org.br/evento/embarque-no-ethos-encontro-de-associadas-16/
LOCATION:Online – plataforma Microsoft Teams
END:VEVENT
BEGIN:VEVENT
DTSTART;TZID=America/Sao_Paulo:20231031T000000
DTEND;TZID=America/Sao_Paulo:20231031T235959
DTSTAMP:20260422T062746
CREATED:20231002T221509Z
LAST-MODIFIED:20240723T175922Z
UID:10000070-1698710400-1698796799@www.ethos.org.br
SUMMARY:Embarque no Ethos! | Encontro de Associadas*
DESCRIPTION:Um encontro para as novas associadas conhecerem nossos projetos e atividades em Direitos Humanos\, Integridade e Combate à Corrupção\, Meio Ambiente e Gestão Sustentável e como esperamos que a organização se engaje e participe. \n*(Evento exclusivo para empresas associadas)
URL:https://www.ethos.org.br/evento/embarque-no-ethos-encontro-de-associadas-15/
LOCATION:Online – plataforma Microsoft Teams
END:VEVENT
BEGIN:VEVENT
DTSTART;TZID=America/Sao_Paulo:20230927T000000
DTEND;TZID=America/Sao_Paulo:20230927T235959
DTSTAMP:20260422T062746
CREATED:20230829T213159Z
LAST-MODIFIED:20240723T175924Z
UID:10000082-1695772800-1695859199@www.ethos.org.br
SUMMARY:Embarque no Ethos | Encontro com associadas*
DESCRIPTION:Um encontro para as novas associadas conhecerem nossos projetos e atividades em Direitos Humanos\, Integridade e combate à corrupção\, Meio Ambiente e Gestão Sustentável e como esperamos que a organização se engaje e participe. \n*Encontro exclusivo para associadas Ethos
URL:https://www.ethos.org.br/evento/embarque-no-ethos-encontro-com-associadas-3/
LOCATION:Online – plataforma Microsoft Teams
END:VEVENT
BEGIN:VEVENT
DTSTART;TZID=America/Sao_Paulo:20230925T000000
DTEND;TZID=America/Sao_Paulo:20230925T235959
DTSTAMP:20260422T062746
CREATED:20230203T175950Z
LAST-MODIFIED:20240723T175947Z
UID:10000218-1695600000-1695686399@www.ethos.org.br
SUMMARY:Plantão de dúvidas - Indicadores Ethos
DESCRIPTION:Para melhor orientar as pessoas usuárias da nossa plataforma\, realizaremos plantões de dúvidas quinzenais no mês de agosto/2023. Inscreva-se e participe para tirar dúvidas de acesso a plataforma\, e não deixe para concluir na última hora. Atividade direcionada para associadas Ethos e demais usuárias dos Indicadores Ethos.
URL:https://www.ethos.org.br/evento/plantao-de-duvidas-indicadores-ethos-33/
LOCATION:Online – plataforma Microsoft Teams
END:VEVENT
BEGIN:VEVENT
DTSTART;TZID=America/Sao_Paulo:20230918T000000
DTEND;TZID=America/Sao_Paulo:20230918T235959
DTSTAMP:20260422T062746
CREATED:20230203T175924Z
LAST-MODIFIED:20240723T175948Z
UID:10000219-1694995200-1695081599@www.ethos.org.br
SUMMARY:Plantão de dúvidas - Indicadores Ethos
DESCRIPTION:Para melhor orientar as pessoas usuárias da nossa plataforma\, realizaremos plantões de dúvidas quinzenais no mês de agosto/2023. Inscreva-se e participe para tirar dúvidas de acesso a plataforma\, e não deixe para concluir na última hora. Atividade direcionada para associadas Ethos e demais usuárias dos Indicadores Ethos.
URL:https://www.ethos.org.br/evento/plantao-de-duvidas-indicadores-ethos-32/
LOCATION:Online – plataforma Microsoft Teams
END:VEVENT
BEGIN:VEVENT
DTSTART;TZID=America/Sao_Paulo:20230904T000000
DTEND;TZID=America/Sao_Paulo:20230904T235959
DTSTAMP:20260422T062746
CREATED:20230203T175858Z
LAST-MODIFIED:20240723T175948Z
UID:10000221-1693785600-1693871999@www.ethos.org.br
SUMMARY:Plantão de dúvidas - Indicadores Ethos
DESCRIPTION:Para melhor orientar as pessoas usuárias da nossa plataforma\, realizaremos plantões de dúvidas quinzenais no mês de agosto/2023. Inscreva-se e participe para tirar dúvidas de acesso a plataforma\, e não deixe para concluir na última hora. Atividade direcionada para associadas Ethos e demais usuárias dos Indicadores Ethos.
URL:https://www.ethos.org.br/evento/plantao-de-duvidas-indicadores-ethos-30/
LOCATION:Online – plataforma Microsoft Teams
END:VEVENT
BEGIN:VEVENT
DTSTART;TZID=America/Sao_Paulo:20230830T000000
DTEND;TZID=America/Sao_Paulo:20230830T235959
DTSTAMP:20260422T062746
CREATED:20230727T173352Z
LAST-MODIFIED:20240723T175925Z
UID:10000089-1693353600-1693439999@www.ethos.org.br
SUMMARY:Embarque no Ethos! | Encontro de Associadas*
DESCRIPTION:Um encontro para as novas associadas conhecerem nossos projetos e atividades em Direitos Humanos\, Integridade e Combate à Corrupção\, Meio Ambiente e Gestão Sustentável e como esperamos que a organização se engaje e participe. \n*(Encontro exclusivo para associadas)
URL:https://www.ethos.org.br/evento/embarque-no-ethos-encontro-de-associadas-14/
LOCATION:Online – plataforma Microsoft Teams
END:VEVENT
BEGIN:VEVENT
DTSTART;TZID=America/Sao_Paulo:20230807T000000
DTEND;TZID=America/Sao_Paulo:20230807T235959
DTSTAMP:20260422T062746
CREATED:20230801T135735Z
LAST-MODIFIED:20240723T175925Z
UID:10000086-1691366400-1691452799@www.ethos.org.br
SUMMARY:Núcleo de Atendimento - Plantão de Dúvidas Indicadores Ethos
DESCRIPTION:Para melhor orientar as pessoas usuárias da nossa plataforma\, realizaremos em agosto/2023 plantões de dúvidas semanais. Se inscreva e participe para tirar dúvidas de acesso a plataforma\, e não deixe para concluir o preenchimento do questionário para a última hora. \nAtividade direcionada para associadas Ethos e demais usuárias dos Indicadores Ethos.
URL:https://www.ethos.org.br/evento/nucleo-de-atendimento-plantao-de-duvidas-indicadores-ethos-16/
LOCATION:Online – plataforma Microsoft Teams
END:VEVENT
BEGIN:VEVENT
DTSTART;TZID=America/Sao_Paulo:20230728T000000
DTEND;TZID=America/Sao_Paulo:20230728T235959
DTSTAMP:20260422T062746
CREATED:20230627T163046Z
LAST-MODIFIED:20240723T175926Z
UID:10000093-1690502400-1690588799@www.ethos.org.br
SUMMARY:Embarque no Ethos! | Encontro de Associadas*
DESCRIPTION:Um encontro para as novas associadas conhecerem nossos projetos e atividades em Direitos Humanos\, Integridade e Combate à Corrupção\, Meio Ambiente e Gestão Sustentável e como esperamos que a organização se engaje e participe. \n*Encontro exclusivo para associadas Ethos
URL:https://www.ethos.org.br/evento/embarque-no-ethos-encontro-de-associadas-13/
LOCATION:Online – plataforma Microsoft Teams
END:VEVENT
BEGIN:VEVENT
DTSTART;TZID=America/Sao_Paulo:20230724T000000
DTEND;TZID=America/Sao_Paulo:20230724T235959
DTSTAMP:20260422T062746
CREATED:20230203T162340Z
LAST-MODIFIED:20240723T175949Z
UID:10000225-1690156800-1690243199@www.ethos.org.br
SUMMARY:Plantão de dúvidas - Indicadores Ethos
DESCRIPTION:Para melhor orientar as pessoas usuárias da nossa plataforma\, realizaremos plantões de dúvidas quinzenais no mês de julho/2023. Inscreva-se e participe para tirar dúvidas de acesso a plataforma\, e não deixe para concluir na última hora. Atividade direcionada para associadas Ethos e demais usuárias dos Indicadores Ethos.
URL:https://www.ethos.org.br/evento/plantao-de-duvidas-indicadores-ethos-24/
LOCATION:Online – plataforma Microsoft Teams
END:VEVENT
BEGIN:VEVENT
DTSTART;TZID=America/Sao_Paulo:20230710T000000
DTEND;TZID=America/Sao_Paulo:20230710T235959
DTSTAMP:20260422T062746
CREATED:20230203T162252Z
LAST-MODIFIED:20240723T175949Z
UID:10000226-1688947200-1689033599@www.ethos.org.br
SUMMARY:Plantão de dúvidas - Indicadores Ethos
DESCRIPTION:Para melhor orientar as pessoas usuárias da nossa plataforma\, realizaremos plantões de dúvidas quinzenais no mês de julho/2023. Inscreva-se e participe para tirar dúvidas de acesso a plataforma\, e não deixe para concluir na última hora. Atividade direcionada para associadas Ethos e demais usuárias dos Indicadores Ethos.
URL:https://www.ethos.org.br/evento/plantao-de-duvidas-indicadores-ethos-22/
LOCATION:Online – plataforma Microsoft Teams
END:VEVENT
BEGIN:VEVENT
DTSTART;TZID=America/Sao_Paulo:20230628T000000
DTEND;TZID=America/Sao_Paulo:20230628T235959
DTSTAMP:20260422T062746
CREATED:20230601T175451Z
LAST-MODIFIED:20240723T175926Z
UID:10000094-1687910400-1687996799@www.ethos.org.br
SUMMARY:Embarque no Ethos | Encontro com associadas*
DESCRIPTION:Um encontro para novas associadas\, para conhecer um pouco mais sobre o ecossistema Ethos. Apresentação dos nossos projetos e atividades em Direitos Humanos\, Integridade e combate à corrupção\, Meio Ambiente e Gestão Sustentável. \n*(Evento exclusivo para empresas associadas)
URL:https://www.ethos.org.br/evento/embarque-no-ethos-encontro-com-associadas-2/
LOCATION:Online – plataforma Microsoft Teams
END:VEVENT
BEGIN:VEVENT
DTSTART;TZID=America/Sao_Paulo:20230626T000000
DTEND;TZID=America/Sao_Paulo:20230626T235959
DTSTAMP:20260422T062746
CREATED:20230601T174418Z
LAST-MODIFIED:20240723T175926Z
UID:10000095-1687737600-1687823999@www.ethos.org.br
SUMMARY:Núcleo de Atendimento - Plantão de Dúvidas Indicadores Ethos
DESCRIPTION:Para melhor orientar as pessoas usuárias da nossa plataforma\, realizaremos plantões de dúvidas semanais. Se inscreva e participe para tirar dúvidas de acesso a plataforma\, e não deixe para concluir na última hora. Atividade direcionada para associadas Ethos e demais usuárias dos Indicadores Ethos.
URL:https://www.ethos.org.br/evento/50434/
LOCATION:Online – plataforma Microsoft Teams
END:VEVENT
BEGIN:VEVENT
DTSTART;TZID=America/Sao_Paulo:20230612T000000
DTEND;TZID=America/Sao_Paulo:20230612T235959
DTSTAMP:20260422T062746
CREATED:20230601T174259Z
LAST-MODIFIED:20240723T175926Z
UID:10000096-1686528000-1686614399@www.ethos.org.br
SUMMARY:Núcleo de Atendimento - Plantão de Dúvidas Indicadores Ethos
DESCRIPTION:Para melhor orientar as pessoas usuárias da nossa plataforma\, realizaremos plantões de dúvidas semanais. Se inscreva e participe para tirar dúvidas de acesso a plataforma\, e não deixe para concluir na última hora. Atividade direcionada para associadas Ethos e demais usuárias dos Indicadores Ethos.
URL:https://www.ethos.org.br/evento/nucleo-de-atendimento-plantao-de-duvidas-indicadores-ethos-15/
LOCATION:Online – plataforma Microsoft Teams
END:VEVENT
BEGIN:VEVENT
DTSTART;TZID=America/Sao_Paulo:20230530T000000
DTEND;TZID=America/Sao_Paulo:20230530T235959
DTSTAMP:20260422T062746
CREATED:20230427T200251Z
LAST-MODIFIED:20240723T175928Z
UID:10000108-1685404800-1685491199@www.ethos.org.br
SUMMARY:Embarque no Ethos! | Encontro de Associadas*
DESCRIPTION:Nossas associadas têm um encontro marcado para aproveitar melhor a sua experiência em nosso ecossistema\, se engajar nas ações e multiplicá-las nas ações que realiza em sua organização. Um encontro para quem acabou de chegar\, para celebrar quem segue apoiando nosso trabalho e para quem quer se atualizar e participar mais! \nVenha conhecer nossos projetos e atividades em Direitos Humanos\, Integridade e Combate à Corrupção\, Meio Ambiente e Gestão Sustentável e como esperamos que sua organização se engaje e participe. \nAlém de saber mais sobre nós\, é uma oportunidade de você contar o que vem fazendo e ouvir das demais associadas sobre suas estratégias\, desafios e caminhos. \n*(Evento exclusivo para empresas associadas)
URL:https://www.ethos.org.br/evento/embarque-no-ethos-encontro-de-associadas-12/
LOCATION:Online – plataforma Microsoft Teams
END:VEVENT
BEGIN:VEVENT
DTSTART;TZID=America/Sao_Paulo:20230529T000000
DTEND;TZID=America/Sao_Paulo:20230529T235959
DTSTAMP:20260422T062746
CREATED:20230203T161720Z
LAST-MODIFIED:20240723T175950Z
UID:10000232-1685318400-1685404799@www.ethos.org.br
SUMMARY:Plantão de dúvidas - Indicadores Ethos
DESCRIPTION:Para melhor orientar as pessoas usuárias da nossa plataforma\, realizaremos plantões de dúvidas semanais. Se inscreva e participe para tirar dúvidas de acesso a plataforma\, e não deixe para concluir na última hora.
URL:https://www.ethos.org.br/evento/plantao-de-duvidas-indicadores-ethos-15/
LOCATION:Online – plataforma Microsoft Teams
END:VEVENT
BEGIN:VEVENT
DTSTART;TZID=America/Sao_Paulo:20230522T000000
DTEND;TZID=America/Sao_Paulo:20230522T235959
DTSTAMP:20260422T062746
CREATED:20230203T161744Z
LAST-MODIFIED:20240723T175949Z
UID:10000231-1684713600-1684799999@www.ethos.org.br
SUMMARY:Plantão de dúvidas - Indicadores Ethos
DESCRIPTION:Para melhor orientar as pessoas usuárias da nossa plataforma\, realizaremos plantões de dúvidas semanais. Se inscreva e participe para tirar dúvidas de acesso a plataforma\, e não deixe para concluir na última hora.
URL:https://www.ethos.org.br/evento/plantao-de-duvidas-indicadores-ethos-16/
LOCATION:Online – plataforma Microsoft Teams
END:VEVENT
BEGIN:VEVENT
DTSTART;TZID=America/Sao_Paulo:20230515T000000
DTEND;TZID=America/Sao_Paulo:20230515T235959
DTSTAMP:20260422T062746
CREATED:20230203T161655Z
LAST-MODIFIED:20240723T175950Z
UID:10000233-1684108800-1684195199@www.ethos.org.br
SUMMARY:Plantão de dúvidas - Indicadores Ethos
DESCRIPTION:Para melhor orientar as pessoas usuárias da nossa plataforma\, realizaremos plantões de dúvidas semanais. Se inscreva e participe para tirar dúvidas de acesso a plataforma\, e não deixe para concluir na última hora.
URL:https://www.ethos.org.br/evento/plantao-de-duvidas-indicadores-ethos-14/
LOCATION:Online – plataforma Microsoft Teams
END:VEVENT
BEGIN:VEVENT
DTSTART;TZID=America/Sao_Paulo:20230508T000000
DTEND;TZID=America/Sao_Paulo:20230508T235959
DTSTAMP:20260422T062746
CREATED:20230428T154126Z
LAST-MODIFIED:20240723T175928Z
UID:10000105-1683504000-1683590399@www.ethos.org.br
SUMMARY:Webinar: Pacto Empresarial pela Integridade e Contra a Corrupção + Plantão de dúvidas Indicadores Ethos
DESCRIPTION:Abertura do ciclo 2022/2023 do Guia de Integridade dos Indicadores Ethos para as Signatárias do Pacto pela Integridade. Para melhor orientar as pessoas usuárias da nossa plataforma seguiremos realizando plantões de dúvidas semanais.
URL:https://www.ethos.org.br/evento/webinar-pacto-pela-integridade-plantao-de-duvidas-indicadores-ethos/
LOCATION:Online – plataforma Microsoft Teams
END:VEVENT
BEGIN:VEVENT
DTSTART;TZID=America/Sao_Paulo:20230428T000000
DTEND;TZID=America/Sao_Paulo:20230428T235959
DTSTAMP:20260422T062746
CREATED:20230329T131141Z
LAST-MODIFIED:20240723T175940Z
UID:10000171-1682640000-1682726399@www.ethos.org.br
SUMMARY:Embarque no Ethos! | Encontro de Associadas*
DESCRIPTION:Nossas associadas tem um encontro marcado para aproveitar melhor a sua experiência em nosso Ecossistema\, se engajar nas ações e multiplica-las nas ações que realiza em sua organização. Um encontro para quem acabou de chegar\, para celebrar quem segue apoiando nosso trabalho e para quem quer se atualizar e participar mais! \n*(Encontro exclusivo para empresas associadas)
URL:https://www.ethos.org.br/evento/embarque-no-ethos-encontro-de-associadas-11/
LOCATION:Online – plataforma Microsoft Teams
END:VEVENT
BEGIN:VEVENT
DTSTART;TZID=America/Sao_Paulo:20230329T000000
DTEND;TZID=America/Sao_Paulo:20230329T235959
DTSTAMP:20260422T062746
CREATED:20230228T150613Z
LAST-MODIFIED:20240723T175940Z
UID:10000175-1680048000-1680134399@www.ethos.org.br
SUMMARY:Embarque no Ethos! | Encontro de Associadas*
DESCRIPTION:Nossas associadas tem um encontro marcado para aproveitar melhor a sua experiência em nosso Ecossistema\, se engajar nas ações e multiplica-las nas ações que realiza em sua organização. Um encontro para quem acabou de chegar\, para celebrar quem segue apoiando nosso trabalho e para quem quer se atualizar e participar mais! \n*(Evento exclusivo para empresas associadas)
URL:https://www.ethos.org.br/evento/embarque-no-ethos-encontro-de-associadas-10/
LOCATION:Online – plataforma Microsoft Teams
END:VEVENT
BEGIN:VEVENT
DTSTART;TZID=America/Sao_Paulo:20230228T000000
DTEND;TZID=America/Sao_Paulo:20230228T235959
DTSTAMP:20260422T062746
CREATED:20230202T172054Z
LAST-MODIFIED:20240723T175953Z
UID:10000253-1677542400-1677628799@www.ethos.org.br
SUMMARY:Embarque no Ethos! | Encontro de Associadas*
DESCRIPTION:Nossas associadas tem um encontro marcado para aproveitar melhor a sua experiência em nosso Ecossistema\, se engajar nas ações e multiplica-las nas ações que realiza em sua organização. Um encontro para quem acabou de chegar\, para celebrar quem segue apoiando nosso trabalho e para quem quer se atualizar e participar mais! \n*(Encontro exclusivo para empresas associadas)
URL:https://www.ethos.org.br/evento/embarque-no-ethos-encontro-de-associadas-9/
LOCATION:Online – plataforma Microsoft Teams
END:VEVENT
BEGIN:VEVENT
DTSTART;TZID=America/Sao_Paulo:20230126T000000
DTEND;TZID=America/Sao_Paulo:20230126T235959
DTSTAMP:20260422T062746
CREATED:20221201T163530Z
LAST-MODIFIED:20240723T175954Z
UID:10000258-1674691200-1674777599@www.ethos.org.br
SUMMARY:Embarque no Ethos! | Encontro de Associadas*
DESCRIPTION:Temos um encontro marcado para você aproveitar melhor a sua experiência em nosso ecossistema\, se engajar nas ações e multiplicá-las em sua organização. As empresas que acabaram de chegar no Ethos vão conhecer com mais detalhes as nossas atividades. É um encontro de boas-vindas para que as empresas conheçam os nossos projetos e atividades em Direitos Humanos\, Integridade e combate à corrupção\, Meio Ambiente e Gestão Sustentável e como esperamos que a organização se engaje e participe.  \n*(Encontro exclusivo para empresas associadas)
URL:https://www.ethos.org.br/evento/embarque-no-ethos-encontro-de-associadas-8/
LOCATION:Online – plataforma Microsoft Teams
END:VEVENT
BEGIN:VEVENT
DTSTART;TZID=America/Sao_Paulo:20230116T000000
DTEND;TZID=America/Sao_Paulo:20230116T235959
DTSTAMP:20260422T062746
CREATED:20221201T163904Z
LAST-MODIFIED:20240723T175954Z
UID:10000257-1673827200-1673913599@www.ethos.org.br
SUMMARY:Núcleo de Atendimento - Plantão de Dúvidas Indicadores Ethos
DESCRIPTION:A edição 2023 da pesquisa de Diversidade e Inclusão\, parceria com a Época Negócios está aberta para inscrição e autodiagnóstico até o dia 23/01/23\, e para melhor orientar as pessoas usuárias da nossa plataforma\, em janeiro/23 seguiremos realizando plantões de dúvidas semanais.
URL:https://www.ethos.org.br/evento/nucleo-de-atendimento-plantao-de-duvidas-indicadores-ethos-14/
LOCATION:Online – plataforma Microsoft Teams
END:VEVENT
BEGIN:VEVENT
DTSTART;TZID=America/Sao_Paulo:20230109T000000
DTEND;TZID=America/Sao_Paulo:20230109T235959
DTSTAMP:20260422T062746
CREATED:20221201T162550Z
LAST-MODIFIED:20240723T175954Z
UID:10000261-1673222400-1673308799@www.ethos.org.br
SUMMARY:Núcleo de Atendimento - Plantão de Dúvidas Indicadores Ethos
DESCRIPTION:A edição 2023 da pesquisa de Diversidade e Inclusão\, parceria com a Época Negócios está aberta para inscrição e autodiagnóstico até o dia 23/01/23\, e para melhor orientar as pessoas usuárias da nossa plataforma\, em janeiro/23 seguiremos realizando plantões de dúvidas semanais.
URL:https://www.ethos.org.br/evento/nucleo-de-atendimento-plantao-de-duvidas-indicadores-ethos-12/
LOCATION:Online – plataforma Microsoft Teams
END:VEVENT
BEGIN:VEVENT
DTSTART;TZID=America/Sao_Paulo:20221219T000000
DTEND;TZID=America/Sao_Paulo:20221219T235959
DTSTAMP:20260422T062746
CREATED:20221201T161801Z
LAST-MODIFIED:20240723T175954Z
UID:10000262-1671408000-1671494399@www.ethos.org.br
SUMMARY:Núcleo de Atendimento - Plantão de Dúvidas Indicadores Ethos
DESCRIPTION:Estamos nos aproximando do final do ciclo de preenchimento 2021/2022 e para melhor orientar as pessoas usuárias da nossa plataforma realizaremos em outubro e novembro plantões de dúvidas semanais. Se inscreva e participe para tirar dúvidas de acesso a plataforma\, e não deixe para concluir na última hora. Atividade direcionada para associadas Ethos e signatárias do Pacto Empresarial pela Integridade e Contra à Corrupção.
URL:https://www.ethos.org.br/evento/nucleo-de-atendimento-plantao-de-duvidas-indicadores-ethos-11/
LOCATION:Online – plataforma Microsoft Teams
END:VEVENT
BEGIN:VEVENT
DTSTART;TZID=America/Sao_Paulo:20221215T000000
DTEND;TZID=America/Sao_Paulo:20221215T235959
DTSTAMP:20260422T062746
CREATED:20221031T235423Z
LAST-MODIFIED:20240723T175956Z
UID:10000272-1671062400-1671148799@www.ethos.org.br
SUMMARY:Embarque no Ethos! | Encontro com Associadas*
DESCRIPTION:Temos um encontro marcado para você aproveitar melhor a sua experiência em nosso ecossistema\, se engajar nas ações e multiplicá-las em sua organização. As empresas que acabaram de chegar no Ethos vão conhecer com mais detalhes as nossas atividades. É um encontro de boas-vindas para que as empresas conheçam os nossos projetos e atividades em Direitos Humanos\, Integridade e combate à corrupção\, Meio Ambiente e Gestão Sustentável e como esperamos que a organização se engaje e participe. \n\n*(Encontro exclusivo para empresas associadas)
URL:https://www.ethos.org.br/evento/embarque-no-ethos-encontro-com-associadas/
LOCATION:Online – plataforma Microsoft Teams
END:VEVENT
BEGIN:VEVENT
DTSTART;TZID=America/Sao_Paulo:20221213T000000
DTEND;TZID=America/Sao_Paulo:20221213T235959
DTSTAMP:20260422T062746
CREATED:20221201T163232Z
LAST-MODIFIED:20240723T175954Z
UID:10000259-1670889600-1670975999@www.ethos.org.br
SUMMARY:Roda de diálogo: Resultados da COP27 e o papel do setor privado no caminho da descarbonização e justiça climática*
DESCRIPTION:Vamos fechar a agenda de rodas de diálogo de 2022 compartilhando os resultados da COP27 e as atividades que realizamos evento. Você está covidade para dialogar sobre o papel das empresas na promoção dos principais acordos firmados na COP. Para o diálogo convidamos as associadas que estiveram no evento para compartilhar como foi a experiência no Egito e também seus compromissos. \n*(Evento exclusivo para empresas associadas)
URL:https://www.ethos.org.br/evento/roda-de-dialogo-resultados-da-cop27-e-o-papel-do-setor-privado-no-caminho-da-descarbonizacao-e-justica-climatica/
LOCATION:Online – plataforma Microsoft Teams
END:VEVENT
BEGIN:VEVENT
DTSTART;TZID=America/Sao_Paulo:20221212T000000
DTEND;TZID=America/Sao_Paulo:20221212T235959
DTSTAMP:20260422T062746
CREATED:20221201T161519Z
LAST-MODIFIED:20240723T175954Z
UID:10000263-1670803200-1670889599@www.ethos.org.br
SUMMARY:Núcleo de Atendimento - Plantão de Dúvidas Indicadores Ethos
DESCRIPTION:Estamos nos aproximando do final do ciclo de preenchimento 2021/2022 e para melhor orientar as pessoas usuárias da nossa plataforma realizaremos em outubro e novembro plantões de dúvidas semanais. Se inscreva e participe para tirar dúvidas de acesso a plataforma\, e não deixe para concluir na última hora. Atividade direcionada para associadas Ethos e signatárias do Pacto Empresarial pela Integridade e Contra à Corrupção.
URL:https://www.ethos.org.br/evento/nucleo-de-atendimento-plantao-de-duvidas-indicadores-ethos-10/
LOCATION:Online – plataforma Microsoft Teams
END:VEVENT
BEGIN:VEVENT
DTSTART;TZID=America/Sao_Paulo:20221205T000000
DTEND;TZID=America/Sao_Paulo:20221205T235959
DTSTAMP:20260422T062746
CREATED:20221201T161332Z
LAST-MODIFIED:20240723T175955Z
UID:10000264-1670198400-1670284799@www.ethos.org.br
SUMMARY:Núcleo de Atendimento - Plantão de Dúvidas Indicadores Ethos
DESCRIPTION:Estamos nos aproximando do final do ciclo de preenchimento 2021/2022 e para melhor orientar as pessoas usuárias da nossa plataforma realizaremos em outubro e novembro plantões de dúvidas semanais. Se inscreva e participe para tirar dúvidas de acesso a plataforma\, e não deixe para concluir na última hora. Atividade direcionada para associadas Ethos e signatárias do Pacto Empresarial pela Integridade e Contra à Corrupção.
URL:https://www.ethos.org.br/evento/nucleo-de-atendimento-plantao-de-duvidas-indicadores-ethos-9/
LOCATION:Online – plataforma Microsoft Teams
END:VEVENT
END:VCALENDAR