BEGIN:VCALENDAR
VERSION:2.0
PRODID:-//Instituto Ethos - ECPv6.15.14//NONSGML v1.0//EN
CALSCALE:GREGORIAN
METHOD:PUBLISH
X-WR-CALNAME:Instituto Ethos
X-ORIGINAL-URL:https://www.ethos.org.br
X-WR-CALDESC:Eventos para Instituto Ethos
REFRESH-INTERVAL;VALUE=DURATION:PT1H
X-Robots-Tag:noindex
X-PUBLISHED-TTL:PT1H
BEGIN:VTIMEZONE
TZID:America/Sao_Paulo
BEGIN:STANDARD
TZOFFSETFROM:-0300
TZOFFSETTO:-0300
TZNAME:-03
DTSTART:20200101T000000
END:STANDARD
END:VTIMEZONE
BEGIN:VEVENT
DTSTART;TZID=America/Sao_Paulo:20211125T000000
DTEND;TZID=America/Sao_Paulo:20211125T235959
DTSTAMP:20260422T160916
CREATED:20211026T221159Z
LAST-MODIFIED:20240723T180025Z
UID:10000456-1637798400-1637884799@www.ethos.org.br
SUMMARY:Roda de diálogo – Conversa com Líderes encontro 3 Afrofuturismo e o desenvolvimento sustentável*
DESCRIPTION:A segunda edição do Conversa com Lideranças tem conta com rodas de diálogo exclusivas para as lideranças das empresas associadas ao Ethos que se inscreveram no evento. \nAs rodas acontecem na sequência de cada painel\, onde os inscrites podem continuar a conversa a partir de suas reflexões\, fazer networking e simular uma troca de cartões virtuais.   \nO evento Diálogos Ethos – Conversa com Líderes sobre o agora e o amanhã são abertos para empresas associadas e não associadas. As rodas de diálogo do evento são exclusivas para associadas Ethos. \n(Evento exclusivo para associadas)
URL:https://www.ethos.org.br/evento/roda-de-dialogo-conversa-com-lideres-encontro-3-afrofuturismo-e-o-desenvolvimento-sustentavel/
LOCATION:Online – plataforma Microsoft Teams
END:VEVENT
BEGIN:VEVENT
DTSTART;TZID=America/Sao_Paulo:20211123T000000
DTEND;TZID=America/Sao_Paulo:20211123T235959
DTSTAMP:20260422T160916
CREATED:20211026T220832Z
LAST-MODIFIED:20240723T180026Z
UID:10000458-1637625600-1637711999@www.ethos.org.br
SUMMARY:Roda de diálogo – Conversa com Líderes encontro 2 No futuro do trabalho\, como incluir todes?*
DESCRIPTION:A segunda edição do Conversa com Lideranças tem conta com rodas de diálogo exclusivas para as lideranças das empresas associadas ao Ethos que se inscreveram no evento. \nAs rodas acontecem na sequência de cada painel\, onde os inscrites podem continuar a conversa a partir de suas reflexões\, fazer networking e simular uma troca de cartões virtuais.   \nO evento Diálogos Ethos – Conversa com Líderes sobre o agora e o amanhã são abertos para empresas associadas e não associadas. As rodas de diálogo do evento são exclusivas para associadas Ethos. \n(Evento exclusivo para associadas)
URL:https://www.ethos.org.br/evento/roda-de-dialogo-conversa-com-lideres-encontro-2-no-futuro-do-trabalho-como-incluir-todes/
LOCATION:Online – plataforma Microsoft Teams
END:VEVENT
BEGIN:VEVENT
DTSTART;TZID=America/Sao_Paulo:20211118T000000
DTEND;TZID=America/Sao_Paulo:20211118T235959
DTSTAMP:20260422T160916
CREATED:20211026T220504Z
LAST-MODIFIED:20240723T180026Z
UID:10000460-1637193600-1637279999@www.ethos.org.br
SUMMARY:Roda de diálogo – Conversa com Líderes encontro 1 Desenvolvimento sustentável é para agora*
DESCRIPTION:A segunda edição do Conversa com Lideranças tem conta com rodas de diálogo exclusivas para as lideranças das empresas associadas ao Ethos que se inscreveram no evento. \nAs rodas acontecem na sequência de cada painel\, onde os inscrites podem continuar a conversa a partir de suas reflexões\, fazer networking e simular uma troca de cartões virtuais.   \nO evento Diálogos Ethos – Conversa com Líderes sobre o agora e o amanhã são abertos para empresas associadas e não associadas. As rodas de diálogo do evento são exclusivas para associadas Ethos. \n(Evento exclusivo para associadas)
URL:https://www.ethos.org.br/evento/roda-de-dialogo-conversa-com-lideres-encontro-1-desenvolvimento-sustentavel-e-para-agora/
LOCATION:Online – plataforma Microsoft Teams
END:VEVENT
BEGIN:VEVENT
DTSTART;TZID=America/Sao_Paulo:20211029T000000
DTEND;TZID=America/Sao_Paulo:20211029T235959
DTSTAMP:20260422T160916
CREATED:20211004T212313Z
LAST-MODIFIED:20240723T180027Z
UID:10000465-1635465600-1635551999@www.ethos.org.br
SUMMARY:Jornada Indicadores Ethos 2021 - turma 2\, encontro 5*
DESCRIPTION:Serão cinco encontros semanais que contarão com a orientação e assessoria da equipe de Gestão para o Desenvolvimento Sustentável do Ethos para o ciclo de preenchimento 2020/2021. \nEncontro 5: Planejamento e Relato de Sustentabilidade
URL:https://www.ethos.org.br/evento/jornada-indicadores-ethos-2021-turma-2-encontro-5-2/
LOCATION:Online – plataforma Microsoft Teams
END:VEVENT
BEGIN:VEVENT
DTSTART;TZID=America/Sao_Paulo:20211022T000000
DTEND;TZID=America/Sao_Paulo:20211022T235959
DTSTAMP:20260422T160916
CREATED:20211004T212107Z
LAST-MODIFIED:20240723T180027Z
UID:10000466-1634860800-1634947199@www.ethos.org.br
SUMMARY:Jornada Indicadores Ethos 2021 - turma 2\, encontro 4*
DESCRIPTION:Serão cinco encontros semanais que contarão com a orientação e assessoria da equipe de Gestão para o Desenvolvimento Sustentável do Ethos para o ciclo de preenchimento 2020/2021. \nEncontro 4 – Planejamento
URL:https://www.ethos.org.br/evento/jornada-indicadores-ethos-2021-turma-2-encontro-4-2/
LOCATION:Online – plataforma Microsoft Teams
END:VEVENT
BEGIN:VEVENT
DTSTART;TZID=America/Sao_Paulo:20211015T000000
DTEND;TZID=America/Sao_Paulo:20211015T235959
DTSTAMP:20260422T160916
CREATED:20211004T211052Z
LAST-MODIFIED:20240723T180027Z
UID:10000468-1634256000-1634342399@www.ethos.org.br
SUMMARY:Jornada Indicadores Ethos 2021 - turma 2\, encontro 3*
DESCRIPTION:Serão cinco encontros semanais que contarão com a orientação e assessoria da equipe de Gestão para o Desenvolvimento Sustentável do Ethos para o ciclo de preenchimento 2020/2021. \nEncontro 3 – Processo de Aplicação
URL:https://www.ethos.org.br/evento/jornada-indicadores-ethos-2021-turma-2-encontro-3-2/
LOCATION:Online – plataforma Microsoft Teams
END:VEVENT
BEGIN:VEVENT
DTSTART;TZID=America/Sao_Paulo:20211006T000000
DTEND;TZID=America/Sao_Paulo:20211006T235959
DTSTAMP:20260422T160916
CREATED:20211004T205350Z
LAST-MODIFIED:20240723T180028Z
UID:10000472-1633478400-1633564799@www.ethos.org.br
SUMMARY:Roda de diálogo virtual - Extensão das licenças maternidade e paternidade\, e contratação de grávidas*
DESCRIPTION:A sociedade está mudando e as relações de cuidado estão na pauta das empresas que entendem o seu papel para o desenvolvimento sustentável da nossa sociedade. Muitas empresas ainda estão presas aos mitos e barreiras na contratação de mulheres em idade reprodutiva\, com baixa retenção de mulheres mães com filhos menores de dois anos\, e dando pouco incentivo para que os homens exerçam de forma plena a paternidade\, assumindo a responsabilidade pelo cuidado. \nA campanha #ContrateGrávidas da Bloom\, e a pesquisa sobre Licença Parental da Family Talks\, duas iniciativas apoiadas pelo Ethos\, buscam mudar esse cenário\, desmistificar e quebrar paradigmas\, e contribuir para a transformação social\, na perspectiva da equidade de gênero.
URL:https://www.ethos.org.br/evento/roda-de-dialogo-virtual-extensao-das-licencas-maternidade-e-paternidade-e-contratacao-de-gravidas/
LOCATION:Online – plataforma Microsoft Teams
END:VEVENT
BEGIN:VEVENT
DTSTART;TZID=America/Sao_Paulo:20210924T000000
DTEND;TZID=America/Sao_Paulo:20210924T235959
DTSTAMP:20260422T160916
CREATED:20210825T144935Z
LAST-MODIFIED:20240723T180033Z
UID:10000501-1632441600-1632527999@www.ethos.org.br
SUMMARY:Jornada Indicadores Ethos 2021 - turma 3\, encontro 1*
DESCRIPTION:Encontro 1: Boas-Vindas\nSerão 5 encontros semanais que contarão com a orientação e assessoria da equipe de Gestão para o Desenvolvimento Sustentável do Ethos para o ciclo de preenchimento 2020/2021 dos Indicadores Ethos. \n(Evento exclusivo para associadas Ethos) \nData: encontros semanais\, às sextas-feiras\, com Início em 24/09/2021
URL:https://www.ethos.org.br/evento/jornada-indicadores-ethos-2021-turma-3-encontro-1/
LOCATION:Online – plataforma Microsoft Teams
END:VEVENT
BEGIN:VEVENT
DTSTART;TZID=America/Sao_Paulo:20210702T000000
DTEND;TZID=America/Sao_Paulo:20210702T235959
DTSTAMP:20260422T160916
CREATED:20210528T192022Z
LAST-MODIFIED:20240723T180036Z
UID:10000524-1625184000-1625270399@www.ethos.org.br
SUMMARY:Jornada Indicadores Ethos 2021 - Turma 2\, encontro 5*
DESCRIPTION:Encontro 4 – Relato de Sustentabilidade \nSerão cinco encontros semanais que contarão com a orientação e assessoria da equipe de Gestão para o Desenvolvimento Sustentável do Ethos para o ciclo de preenchimento 2020/2021 dos Indicadores Ethos. \n(evento exclusivo para empresas associadas)
URL:https://www.ethos.org.br/evento/jornada-indicadores-ethos-2021-turma-2-encontro-5/
LOCATION:Online – plataforma Microsoft Teams
END:VEVENT
BEGIN:VEVENT
DTSTART;TZID=America/Sao_Paulo:20210625T000000
DTEND;TZID=America/Sao_Paulo:20210625T235959
DTSTAMP:20260422T160916
CREATED:20210528T191853Z
LAST-MODIFIED:20240723T180036Z
UID:10000525-1624579200-1624665599@www.ethos.org.br
SUMMARY:Jornada Indicadores Ethos 2021 - turma 2\, encontro 4*
DESCRIPTION:Encontro 4 – Módulo de Planejamento \nSerão cinco encontros semanais que contarão com a orientação e assessoria da equipe de Gestão para o Desenvolvimento Sustentável do Ethos para o ciclo de preenchimento 2020/2021 dos Indicadores Ethos. \n(evento exclusivo para empresas associadas)
URL:https://www.ethos.org.br/evento/jornada-indicadores-ethos-2021-turma-2-encontro-4/
LOCATION:Online – plataforma Microsoft Teams
END:VEVENT
BEGIN:VEVENT
DTSTART;TZID=America/Sao_Paulo:20210618T000000
DTEND;TZID=America/Sao_Paulo:20210618T235959
DTSTAMP:20260422T160916
CREATED:20210528T191745Z
LAST-MODIFIED:20240723T180036Z
UID:10000526-1623974400-1624060799@www.ethos.org.br
SUMMARY:Jornada Indicadores Ethos 2021 - turma 2\, encontro 3*
DESCRIPTION:Encontro 3 – Processo de Aplicação  \nSerão cinco encontros semanais que contarão com a orientação e assessoria da equipe de Gestão para o Desenvolvimento Sustentável do Ethos para o ciclo de preenchimento 2020/2021 dos Indicadores Ethos. \n(evento exclusivo para empresas associadas)
URL:https://www.ethos.org.br/evento/jornada-indicadores-ethos-2021-turma-2-encontro-3/
LOCATION:Online – plataforma Microsoft Teams
END:VEVENT
BEGIN:VEVENT
DTSTART;TZID=America/Sao_Paulo:20210611T000000
DTEND;TZID=America/Sao_Paulo:20210611T235959
DTSTAMP:20260422T160916
CREATED:20210528T191542Z
LAST-MODIFIED:20240723T180036Z
UID:10000527-1623369600-1623455999@www.ethos.org.br
SUMMARY:Jornada Indicadores Ethos 2021 - turma 2\, encontro 2*
DESCRIPTION:Encontro 2 – Seleção de Indicadores \nSerão cinco encontros semanais que contarão com a orientação e assessoria da equipe de Gestão para o Desenvolvimento Sustentável do Ethos para o ciclo de preenchimento 2020/2021 dos Indicadores Ethos. \n(evento exclusivo para empresas associadas)
URL:https://www.ethos.org.br/evento/jornada-indicadores-ethos-2021-turma-2-encontro-2/
LOCATION:Online – plataforma Microsoft Teams
END:VEVENT
BEGIN:VEVENT
DTSTART;TZID=America/Sao_Paulo:20210604T000000
DTEND;TZID=America/Sao_Paulo:20210604T235959
DTSTAMP:20260422T160916
CREATED:20210528T191346Z
LAST-MODIFIED:20240723T180037Z
UID:10000528-1622764800-1622851199@www.ethos.org.br
SUMMARY:Jornada Indicadores Ethos 2021 - turma 2\, encontro 1*
DESCRIPTION:Encontro 1 – Boas-Vindas \nSerão cinco encontros semanais que contarão com a orientação e assessoria da equipe de Gestão para o Desenvolvimento Sustentável do Ethos para o ciclo de preenchimento 2020/2021 dos Indicadores Ethos. \n(evento exclusivo para empresas associadas)
URL:https://www.ethos.org.br/evento/jornada-indicadores-ethos-2021-turma-2-encontro-1/
LOCATION:Online – plataforma Microsoft Teams
END:VEVENT
END:VCALENDAR